Workbook

Sheet ORDEN SUB VIAS TERMINADO
B2: No. ING. SUBCOOD VIAS | C2: ARCHIVO ELECTRÓNICO | D2: PLANO | E2: D E S C R IP C I O N | F2: DETALLES | G2: E. T.
B3: 1 | C3: 01 94VI17-501000III0418P DURMIENTETIPO SO BIBLOCK | D3: 94-VI.17-501000-III-04-18-P | E3: PLANO TIPO DURMIENTE BIBLOQUE DE CONCRETO REFORZADO TIPO "SO" PARA EL METRO DE RODADA NEUMATICA DE LA CD DE MEXICO ( DIMENSIONES GENERALES PARA DISEÑO ) | F3: DURMIENTE DE CONCRETO BIBLOCK TIPO "SO" CON PERNO DE 22 MM. | G3: E. F. 3
B4: 2 | C4: 02 94VI17501000III0620P DURMIENTETIPO S MONOLITICO | D4: 94-VI.17-501000-III-06-20-P | E4: PLANO TIPO DURMIENTE MONOBLOQUE DE CONCRETO PRESFORZADO TIPO "S" PARA EL METRO CON RODADA NEUMATICA DE LA CD DE MEXICO ( DIMENSIONES GENERALES PARA DISEÑO ) | F4: DURMIENTE DE CONCRETO MONOLITICO TIPO "S" CON PERNO DE 22 MM | G4: E. F. 5
B5: 3 | C5: 03 94VI17501000III0721P DURMIENTETIPO SO MONOLITICO | D5: 94-VI.17-501000-III-07-21-P | E5: PLANO TIPO DURMIENTE MONOBLOQUE DE CONCRETO PRESFORZADO TIPO "SO" PARA EL METRO CON RODADA NEUMATICA DE LA CD DE MEXICO ( DIMENSIONES GENERALES PARA DISEÑO ) | F5: DURMIENTE DE CONCRETO MONOLITICO TIPO "SO" CON PERNO DE 22 MM | G5: E. F. 6
B6: 4 | C6: 79-VI.17-000-III-19-2362-P 2015 | D6: 79-VI.17-000-III-19-2362-P | E6: PLANO TIPO COTAS DE AJUSTE Y MONTAJES DE LA BARRA GUIA COMUNICACIÓN DE VÍA TG. 0.13 DE 4.2 mts. A LA DERECHA. | F6: COMUNICACIÓN TG. 0.13 DE 4.2 A DERECHA AJUSTE DE BARRA GUIA Y MONTAJES
B7: 5 | C7: 79-VI.17-000-III-20-2363-P 2015 | D7: 79-VI.17-000-III-20-2363-P | E7: PLANO TIPO COTAS DE AJUSTE Y MONTAJES DE LA BARRA GUIA COMUNICACIÓN DE VÍA TG. 0.13 DE 4.2 mts. A LA IZQUIERDA. | F7: COMUNICACIÓN TG. 0.13 DE 4.2 A IZQUIERDA AJUSTE DE BARRA GUIA Y MONTAJES
B8: 6 | C8: 79-VI.17-000-III-21-2364-P 2015 | D8: 79-VI.17-000-III-21-2364-P | E8: PLANO TIPO COTAS DE AJUSTE Y MONTAJES DE LA BARRA GUIA COMUNICACIÓN DE VÍA TG. 0.13 DE 4.2 mts. A LA IZQUIERDA CON CRUZAMIENTO A LA DERECHA. | F8: COMUNICACIÓN TG. 0.13 DE 4.2 A IZQUIERDA CON DESVIO A LA DERECHA AJUSTE DE BARRA GUIA Y MONTAJES
B9: 7 | C9: 79-VI.17-000-III-22-2365-P 2015 | D9: 79-VI.17-000-III-22-2365-P | E9: PLANO TIPO COTAS DE AJUSTE Y MONTAJES DE LA BARRA GUIA COMUNICACIÓN DE VÍA TG. 0.13 DE 4.2 mts. A LA DERECHA CON CRUZAMIENTO A LA IZQUIERDA. | F9: COMUNICACIÓN TG. 0.13 DE 4.2 A DERECHA CON DESVIO A LA IZQUIERDA AJUSTE DE BARRA GUIA Y MONTAJES
B10: 8 | C10: 87-VI.17-85232-III-1-1948-P | D10: 87-VI.17-85232-III-1-1948-P | E10: IMPLANTACION DE VIA-FIJACION DE VIA PLANO TIPO VIA SOBRE BALASTO MONTAJE Y DETALLES DE COLOCACION DEL CUPON NEUTRO DE 3 BLOCKS AISLANTES DE 296mm Y LONGITUD DE 24.000 m | F10: ZONA NEUTRA DE 3 BLOCKS AISLANTES CORTE EN "Z". | G10: 30 A, 30 C
B11: 9 | C11: 94-VI.8-51000-III-09-24-P | D11: 94-VI.8-51000-III-09-24-P | E11: SECCIÓN TIPO SUPERFICIAL EN TANGENTE CON DURMIENTE MONOBLOQUE DE CONCRETO (GALIBO INTERIOR DE 8.00 M.) | F11: CORTE DE VIA RECTA CON TRENES EN TUNEL DURMIENTE DE CONCRETO.
B12: 10 | C12: 94-VI.8-51000-III-10-25-P | D12: 94-VI.8-51000-III-10-25-P | E12: SECCIÓN TIPO ELEVADA EN TANGENTE CON DURMIENTE MONOBLOQUE DE CONCRETO (GALIBO INTERIOR DE 8.100) | F12: CORTE DE VIA EN RECTA ELEVADA CON TRENES Y DURMIENTE DE CONCRETO.
B13: 11 | C13: 94-VI.8-51000-III-46-221-P | D13: 94-VI.8-51000-III-46-221-P | E13: SECCIÓN TIPO CAJON SUBTERRANEO CON MURO DE ACOMPAÑAMIENTO EN CURVA DE 200 ≥ R ≥ 150.000 | F13: CORTE DE VIA CURVA CON TRENES EN CAJON.
B14: 12 | C14: 94-VI.8-51000-III-116-434-P | D14: 94-VI.8-51000-III-116-434-P | E14: SECCIÓN TIPO VÍA SOBRE CONCRETO ESTACIÓN EN ELEVADO CON ANDENES LATERALES | F14: CORTE DE VIA EN ESTACION ELEVADA DE LINEA B CON ANDEN LATERAL.
B15: 13 | C15: 94-VI.8-51000-III-118-436-P | D15: 94-VI.8-51000-III-118-436-P | E15: SECCIÓN TIPO ESTACIÓN SUPERFICIAL 2 VÍAS Y 1 ANDEN CENTRAL | F15: CORTE DE VIA EN ESTACION SUPERFICIAL DE LINEA B CON ANDEN CENTRAL
B16: 14 | C16: 94-VI.8-51000-III-47-222-P | D16: 94-VI.8-51000-III-47-222-P | E16: SECCIÓN TIPO ELEVADO CURVA DE 200 ≥ R ≥ 150 | F16: CORTE DE VIA CURVA ELEVADA CON TRENES.
B17: 15 | C17: 94-VI.17-501000-III-02-16-P | D17: 94-VI.17-501000-III-02-16-P | E17: PLANO TIPO DURMIENTE BIBLOQUE DE CONCRETO REFORZADO TIPO "O" PARA EL METRO CON RODADA NEUMATICA DE LA CIUDAD DE MEXICO (DIMENSIONES GENERALES PARA DISEÑO). | F17: DURMIENTE DE CONCRETO BIBLOCK TIPO "O" CON PERNO DE 22 MM. | G17: E. F. 1
B18: 16 | C18: 94-VI.17-501000-III-03-17-P | D18: 94-VI.17-501000-III-03-17-P | E18: PLANO TIPO DURMIENTE BIBLOQUE DE CONCRETO REFORZADO TIPO "S" PARA EL METRO CON RODADA NEUMATICA DE LA CD DE MEXICO ( DIMENSIONES GENERALES PARA DISEÑO ) | F18: DURMIENTE DE CONCRETO BIBLOCK TIPO "S" CON PERNO DE 22 MM. | G18: E. F. 2
B19: 17 | C19: 94-VI.17-501000-III-05-19-P | D19: 94-VI.17-501000-III-05-19-P | E19: PLANO TIPO DURMIENTE MONOBLOQUE DE CONCRETO PRESFORZADO TIPO “O” PARA EL METRO CON RODADA NEUMÁTICA DE LA CD, DE MÉXICO(DIMENSIONES GENERALES PARA DISEÑO) | F19: DURMIENTE DE CONCRETO MONOLITICO TIPO "O" CON PERNO DE 22 MM | G19: E. F. 4
B20: 18 | C20: 94-VI.17-501000-III-17-51-P | D20: 94-VI.17-501000-III-17-51-P | E20: PLANO TIPO IMPLANTACION DE VIA - FIJACION DE VIA JUNTAS AISLANTES PARA RIEL DE 80 ASCE Y PISTA, SOBRE DURMIENTES DE CONCRETO Y DURMIENTES DE MADERA CONJUNTO Y DETALLES | F20: JUNTA AISLANTE DE RIEL 80 LB/YD. | G20: 30 A, 30 C
F21: JUNTA AISLANTE DE PISTA METALICA.
B22: 19 | C22: 94-VI.17-501000-III-19-53-P | D22: 94-VI.17-501000-III-19-53-P | E22: IMPLANTACION DE VIA - FIJACION DE VIA PLANO TIPO VIA EN TUNEL - DISTRIBUCION DE DURMIENTES EN TANGENTE Y CURVAS DE 150≤R<350 Y R≥350 | F22: VIA TIPO CON DURMIENTES DE CONCRETO EN RECTA. | G22: 30 C
F23: VIA TIPO CON DURMIENTES DE CONCRETO EN CURVA.
F24: DISTRIBUCION DE DURMIENTES DE CONCRETO EN RECTA.
F25: DISTRIBUCION DE DURMIENTES DE CONCRETO EN CURVA.
B26: 20 | C26: 94-VI.17-501000-III-20-54-P | D26: 94-VI.17-501000-III-20-54-P | E26: IMPLANTACION DE VIA - FIJACION DE VIA PLANO TIPO APARATO DE COMUNICACIÓN Tg. 0.13 A LA DERECHA CON ENTREVIA 2.90 PLANO DE CONJUNTO | F26: COMUNICACIÓN TG. 0.13 DE 2.9 A DERECHA CONJUNTO | G26: 1C. ,2C ,13C, 9C
F27: COMUNICACIÓN TG. 0.13 DE 2.9 A DERECHA DISTRIBUCION DE DURMIENTES
F28: COMUNICACIÓN TG. 0.13 DE 2.9 A DERECHA MONTAJES DE BARRA GUIA
F29: COMUNICACIÓN TG. 0.13 DE 2.9 A DERECHA DIRECTRICES
F30: COMUNICACIÓN TG. 0.13 DE 2.9 A DERECHA DIAGRAMA DE AGUJAS
F31: COMUNICACIÓN TG. 0.13 DE 2.9 A DERECHA GEOMETRIA
B32: 21 | C32: 94-VI.17-501000-III-21-55-P | D32: 94-VI.17-501000-III-21-55-P | E32: IMPLANTACION DE VIA - FIJACION DE VIA PLANO TIPO APARATO DE ENLACE TG. 0.13 A LA DERECHA PLANO DE CONJUNTO | F32: APARATO TG. 0.13 A DERECHA CONJUNTO | G32: 1C. ,2C ,13C, 9C
F33: APARATO TG. 0.13 A DERECHA DISTRIBUCION DE DURMIENTES
F34: APARATO TG. 0.13 A DERECHA MONTAJES DE BARRA GUIA
F35: APARATO TG. 0.13 A DERECHA DIRECTRICES
F36: APARATO TG. 0.13 A DERECHA DIAGRAMA DE AGUJAS
F37: APARATO TG. 0.13 A DERECHA GEOMETRIA
B38: 22 | C38: 94-VI.17-501000-III-23-57-P | D38: 94-VI.17-501000-III-23-57-P | E38: IMPLANTACION DE VIA - FIJACION DE VIA. PLANO TIPO CRUCETAS NORMALES PARA LA BARRA GUIA Y/O DE TOMA DE CORRIENTE | F38: CRUCETA DE BARRA GUIA EN VIA ORDINARIA. | G38: 30 A, 30 C
B39: 23 | C39: 94-VI.17-501000-III-29-63-P | D39: 94-VI.17-501000-III-29-63-P | E39: IMPLANTACION DE VIA - FIJACION DE VIA PLANO TIPO APARATO DE ENLACE TG. 0.20 A LA DERECHA PLANO DE CONJUNTO | F39: APARATO TG. 0.20 A DERECHA CONJUNTO | G39: 1C. ,2C ,13C, 9C
F40: APARATO TG. 0.20 A DERECHA DISTRIBUCION DE DURMIENTES
F41: APARATO TG. 0.20 A DERECHA MONTAJES DE BARRA GUIA
F42: APARATO TG. 0.20 A DERECHA DIRECTRICES
F43: APARATO TG. 0.20 A DERECHA GEOMETRIA
B44: 24 | C44: 94-VI.17-501000-III-50-244-P | D44: 94-VI.17-501000-III-50-244-P | E44: IMPLANTACION DE VIA - FIJACION DE VIA PLANO TIPO COLOCACION DE JUNTAS MECANICAS PARA RIEL 80 ASCE Y PISTA SOBRE DURMIENTES DE CONCRETO TIPO BIBLOQUE O MONOBLOQUE (CONJUNTO Y DETALLES) | F44: JUNTA MECANICA DE RIEL 80 LB/YD. | G44: 30 A, 30 C
F45: JUNTA MECANICA DE PISTA METALICA.
B46: 25 | C46: 94-VI.17-501000-III-61-362-P | D46: 94-VI.17-501000-III-61-362-P | E46: IMPLANTACION DE VIA-FIJACION DE VIA PLANO TIPO APARATO DE ENLACE TG. 0.13 A LA IZQUIERDA PLANO DE CONJUNTO | F46: APARATO TG. 0.13 A IZQUIERDA CONJUNTO | G46: 1C. ,2C ,13C, 9C
F47: APARATO TG. 0.13 A IZQUIERDA DISTRIBUCION DE DURMIENTES
F48: APARATO TG. 0.13 A IZQUIERDA MONTAJES DE BARRA GUIA
F49: APARATO TG. 0.13 A IZQUIERDA DIRECTRICES
F50: APARATO TG. 0.13 A IZQUIERDA DIAGRAMA DE AGUJAS
F51: APARATO TG. 0.13 A IZQUIERDA GEOMETRIA
B52: 26 | C52: 94-VI.17-501000-III-63-364-P | D52: 94-VI.17-501000-III-63-364-P | E52: IMPLANTACION DE VIA - FIJACION DE VIA PLANO APARATO DE COMUNICACION TG. 0.13 A LA DERECHA CON ENTREVIA 3,15 PLANO DE CONJUNTO | F52: COMUNICACIÓN TG. 0.13 DE 3.15 A DERECHA CONJUNTO | G52: 1C. ,2C ,13C, 9C
F53: COMUNICACIÓN TG. 0.13 DE 3.15 A DERECHA DISTRIBUCION DE DURMIENTES
F54: COMUNICACIÓN TG. 0.13 DE 3.15 A DERECHA MONTAJES DE BARRA GUIA
F55: COMUNICACIÓN TG. 0.13 DE 3.15 A DERECHA DIRECTRICES
F56: COMUNICACIÓN TG. 0.13 DE 3.15 A DERECHA DIAGRAMA DE AGUJAS
F57: COMUNICACIÓN TG. 0.13 DE 3.15 A DERECHA GEOMETRIA
B58: 27 | C58: 94-VI.17-501000-III-64-365-P | D58: 94-VI.17-501000-III-64-365-P | E58: IMPLANTACION DE VIA - FIJACION DE VIA PLANO APARATO DE COMUNICACION TG. 0.13 A LA IZQUIERDA CON ENTREVIA 3,15 PLANO DE CONJUNTO | F58: COMUNICACIÓN TG. 0.13 DE 3.15 A IZQUIERDA CONJUNTO | G58: 1C. ,2C ,13C, 9C
F59: COMUNICACIÓN TG. 0.13 DE 3.15 A IZQUIERDA DISTRIBUCION DE DURMIENTES
F60: COMUNICACIÓN TG. 0.13 DE 3.15 A IZQUIERDA MONTAJES DE BARRA GUIA
F61: COMUNICACIÓN TG. 0.13 DE 3.15 A IZQUIERDA DIRECTRICES
F62: COMUNICACIÓN TG. 0.13 DE 3.15 A IZQUIERDA DIAGRAMA DE AGUJAS
F63: COMUNICACIÓN TG. 0.13 DE 3.15 A IZQUIERDA GEOMETRIA
B64: 28 | C64: 94-VI.17-501000-III-65-366-P | D64: 94-VI.17-501000-III-65-366-P | E64: IMPLANTACION DE VIA - FIJACION DE VIA PLANO APARATO DE COMUNICACION TG. 0.13 A LA DERECHA CON ENTREVIA 4,200 PLANO DE CONJUNTO | F64: COMUNICACIÓN TG. 0.13 DE 4.2 A DERECHA CONJUNTO | G64: 1C. ,2C ,13C, 9C
F65: COMUNICACIÓN TG. 0.13 DE 4.2 A DERECHA DISTRIBUCION DE DURMIENTES
F66: COMUNICACIÓN TG. 0.13 DE 4.2 A DERECHA MONTAJES DE BARRA GUIA
F67: COMUNICACIÓN TG. 0.13 DE 4.2 A DERECHA DIRECTRICES
F68: COMUNICACIÓN TG. 0.13 DE 4.2 A DERECHA DIAGRAMA DE AGUJAS
F69: COMUNICACIÓN TG. 0.13 DE 4.2 A DERECHA GEOMETRIA
B70: 29 | C70: 94-VI.17-501000-III-66-367-P | D70: 94-VI.17-501000-III-66-367-P | E70: IMPLANTACION DE VIA - FIJACION DE VIA PLANO APARATO DE COMUNICACION TG. 0.13 A LA IZQUIERDA CON ENTREVIA 4,200 PLANO DE CONJUNTO | F70: COMUNICACIÓN TG. 0.13 DE 4.2 A IZQUIERDA CONJUNTO | G70: 1C. ,2C ,13C, 9C
F71: COMUNICACIÓN TG. 0.13 DE 4.2 A IZQUIERDA DISTRIBUCION DE DURMIENTES
F72: COMUNICACIÓN TG. 0.13 DE 4.2 A IZQUIERDA MONTAJES DE BARRA GUIA
F73: COMUNICACIÓN TG. 0.13 DE 4.2 A IZQUIERDA DIRECTRICES
F74: COMUNICACIÓN TG. 0.13 DE 4.2 A IZQUIERDA DIAGRAMA DE AGUJAS
F75: COMUNICACIÓN TG. 0.13 DE 4.2 A IZQUIERDA GEOMETRIA
B76: 30 | C76: 94-VI.17-501000-III-67-368-P | D76: 94-VI.17-501000-III-67-368-P | E76: IMPLANTACION DE VIA - FIJACION DE VIA PLANO TIPO APARATO DE COMUNICACION TG.13 A LA DERECHA CON DESVIO A LA IZQUIERDA ENTREVIA 4,20 PLANO DE CONJUNTO | F76: COMUNICACIÓN TG. 0.13 DE 4.2 A DERECHA CON DESVIO A IZQUIERDA CONJUNTO | G76: 1C. ,2C ,13C, 9C
F77: COMUNICACIÓN TG. 0.13 DE 4.2 A DERECHA CON DESVIO A IZQUIERDA DISTRIBUCION DE DURMIENTES
F78: COMUNICACIÓN TG. 0.13 DE 4.2 A DERECHA CON DESVIO A IZQUIERDA MONTAJES DE BARRA GUIA
F79: COMUNICACIÓN TG. 0.13 DE 4.2 A DERECHA CON DESVIO A IZQUIERDA DIRECTRICES
F80: COMUNICACIÓN TG. 0.13 DE 4.2 A DERECHA CON DESVIO A IZQUIERDA DIAGRAMA DE AGUJAS
F81: COMUNICACIÓN TG. 0.13 DE 4.2 A DERECHA CON DESVIO A IZQUIERDA GEOMETRIA
B82: 31 | C82: 94-VI.17-501000-III-68-369-P | D82: 94-VI.17-501000-III-68-369-P | E82: IMPLANTACION DE VIA - FIJACION DE VIA. PLANO TIPO. APARATO DE COMUNICACIÓN TG. 0.13 A LA IZQUIERDA CON DESVIO A LA DERECHA ENTREVÍA 4.2 PLANO DE CONJUNTO | F82: COMUNICACIÓN TG. 0.13 DE 4.2 A IZQUIERDA CON DESVIO A DERECHA CONJUNTO | G82: 1C. ,2C ,13C, 9C
F83: COMUNICACIÓN TG. 0.13 DE 4.2 A IZQUIERDA CON DESVIO A DERECHA DISTRIBUCION DE DURMIENTES
F84: COMUNICACIÓN TG. 0.13 DE 4.2 A IZQUIERDA CON DESVIO A DERECHA MONTAJES DE BARRA GUIA
F85: COMUNICACIÓN TG. 0.13 DE 4.2 A IZQUIERDA CON DESVIO A DERECHA DIRECTRICES
F86: COMUNICACIÓN TG. 0.13 DE 4.2 A IZQUIERDA CON DESVIO A DERECHA DIAGRAMA DE AGUJAS
F87: COMUNICACIÓN TG. 0.13 DE 4.2 A IZQUIERDA CON DESVIO A DERECHA GEOMETRIA
B88: 32 | C88: 94-VI.17-501000-III-69-370-P | D88: 94-VI.17-501000-III-69-370-P | E88: IMPLANTACION DE VIA - FIJACION DE VIA. PLANO TIPO. APARATO DE ENLACE TG. 0.20 A LA IZQUIERDA PLANO DE CONJUNTO | F88: APARATO TG. 0.20 A IZQUIERDA CONJUNTO | G88: 1C. ,2C ,13C, 9C
F89: APARATO TG. 0.20 A IZQUIERDA DISTRIBUCION DE DURMIENTES
F90: APARATO TG. 0.20 A IZQUIERDA MONTAJES DE BARRA GUIA
F91: APARATO TG. 0.20 A IZQUIERDA DIRECTRICES
F92: APARATO TG. 0.20 A IZQUIERDA GEOMETRIA
B93: 33 | C93: 94-VI.17-501000-III-70-371-P | D93: 94-VI.17-501000-III-70-371-P | E93: IMPLANTACION DE VIA - FIJACION DE VIA PLANO TIPO APARATO DE VIA TG. 0.13 A LA DERECHA PISTA CONTRA-AGUJA RECTILINEA DE PUNTA PIEZA A, PLANTA | F93: APARATO TG. 0.13 A DERECHA PIEZA A PLANTA | G93: 1C
F94: APARATO TG. 0.13 A DERECHA PIEZA A LATERAL
F95: APARATO TG. 0.13 A DERECHA PIEZA A GEOMETRÍA
B96: 34 | C96: 94-VI.17-501000-III-72-373-P | D96: 94-VI.17-501000-III-72-373-P | E96: IMPLANTACION DE VIA - FIJACION DE VIA. PLANO TIPO. APARATO DE VÍA TG. 0.13 A LA DERECHA PISTA CONTRA – AGUJA RECTILINEA DE TALON PIEZA B PLANTA | F96: APARATO TG. 0.13 A DERECHA PIEZA B PLANTA | G96: 1C
F97: APARATO TG. 0.13 A DERECHA PIEZA B LATERAL
F98: APARATO TG. 0.13 A DERECHA PIEZA B GEOMETRÍA
B99: 35 | C99: 94-VI.17-501000-III-75-376-P | D99: 94-VI.17-501000-III-75-376-P | E99: IMPLANTACION DE VIA - FIJACION DE VIA. PLANO TIPO. APARATO DE VÍA TG. 0.13 A LA DERECHA PISTA CONTRA – AGUJA CURVA DE PUNTA PIEZA D – PLANTA. | F99: APARATO TG. 0.13 A DERECHA PIEZA D PLANTA | G99: 1C
F100: APARATO TG. 0.13 A DERECHA PIEZA D LATERAL
F101: APARATO TG. 0.13 A DERECHA PIEZA D GEOMETRÍA
...

Sheet ORDEN SUB VIAS TERMINADO ed
A1: C:\wamp\www\buscador\xtras\planosb
A2: =+SUBSTITUTE(A1,"\","/") -> C:/wamp/www/buscador/xtras/planosb
A4: id | B4: archivo | C4: plano | D4: descripcion | E4: detalles | F4: et
A5: 1 | B5: 01 94VI17501000III0418P DURMIENTETIPO SO BIBLOCK | C5: 94-VI.17-501000-III-04-18-P | D5: PLANO TIPO DURMIENTE BIBLOQUE DE CONCRETO REFORZADO TIPO "SO" PARA EL METRO DE RODADA NEUMATICA DE LA CD DE MEXICO ( DIMENSIONES GENERALES PARA DISEÑO ) | E5: DURMIENTE DE CONCRETO BIBLOCK TIPO "SO" CON PERNO DE 22 MM. | F5: E. F. 3
A6: 2 | B6: 02 94VI17501000III0620P DURMIENTETIPO S MONOLITICO | C6: 94-VI.17-501000-III-06-20-P | D6: PLANO TIPO DURMIENTE MONOBLOQUE DE CONCRETO PRESFORZADO TIPO "S" PARA EL METRO CON RODADA NEUMATICA DE LA CD DE MEXICO ( DIMENSIONES GENERALES PARA DISEÑO ) | E6: DURMIENTE DE CONCRETO MONOLITICO TIPO "S" CON PERNO DE 22 MM | F6: E. F. 5
A7: 3 | B7: 03 94VI17501000III0721P DURMIENTETIPO SO MONOLITICO | C7: 94-VI.17-501000-III-07-21-P | D7: PLANO TIPO DURMIENTE MONOBLOQUE DE CONCRETO PRESFORZADO TIPO "SO" PARA EL METRO CON RODADA NEUMATICA DE LA CD DE MEXICO ( DIMENSIONES GENERALES PARA DISEÑO ) | E7: DURMIENTE DE CONCRETO MONOLITICO TIPO "SO" CON PERNO DE 22 MM | F7: E. F. 6
A8: 4 | B8: 79-VI.17-000-III-19-2362-P 2015 | C8: 79-VI.17-000-III-19-2362-P | D8: PLANO TIPO COTAS DE AJUSTE Y MONTAJES DE LA BARRA GUIA COMUNICACIÓN DE VÍA TG. 0.13 DE 4.2 mts. A LA DERECHA. | E8: COMUNICACIÓN TG. 0.13 DE 4.2 A DERECHA AJUSTE DE BARRA GUIA Y MONTAJES
A9: 5 | B9: 79-VI.17-000-III-20-2363-P 2015 | C9: 79-VI.17-000-III-20-2363-P | D9: PLANO TIPO COTAS DE AJUSTE Y MONTAJES DE LA BARRA GUIA COMUNICACIÓN DE VÍA TG. 0.13 DE 4.2 mts. A LA IZQUIERDA. | E9: COMUNICACIÓN TG. 0.13 DE 4.2 A IZQUIERDA AJUSTE DE BARRA GUIA Y MONTAJES
A10: 6 | B10: 79-VI.17-000-III-21-2364-P 2015 | C10: 79-VI.17-000-III-21-2364-P | D10: PLANO TIPO COTAS DE AJUSTE Y MONTAJES DE LA BARRA GUIA COMUNICACIÓN DE VÍA TG. 0.13 DE 4.2 mts. A LA IZQUIERDA CON CRUZAMIENTO A LA DERECHA. | E10: COMUNICACIÓN TG. 0.13 DE 4.2 A IZQUIERDA CON DESVIO A LA DERECHA AJUSTE DE BARRA GUIA Y MONTAJES
A11: 7 | B11: 79-VI.17-000-III-22-2365-P 2015 | C11: 79-VI.17-000-III-22-2365-P | D11: PLANO TIPO COTAS DE AJUSTE Y MONTAJES DE LA BARRA GUIA COMUNICACIÓN DE VÍA TG. 0.13 DE 4.2 mts. A LA DERECHA CON CRUZAMIENTO A LA IZQUIERDA. | E11: COMUNICACIÓN TG. 0.13 DE 4.2 A DERECHA CON DESVIO A LA IZQUIERDA AJUSTE DE BARRA GUIA Y MONTAJES
A12: 8 | B12: 87-VI.17-85232-III-1-1948-P | C12: 87-VI.17-85232-III-1-1948-P | D12: IMPLANTACION DE VIA-FIJACION DE VIA PLANO TIPO VIA SOBRE BALASTO MONTAJE Y DETALLES DE COLOCACION DEL CUPON NEUTRO DE 3 BLOCKS AISLANTES DE 296mm Y LONGITUD DE 24.000 m | E12: ZONA NEUTRA DE 3 BLOCKS AISLANTES CORTE EN "Z". | F12: 30 A, 30 C
A13: 9 | B13: 94-VI.8-51000-III-09-24-P | C13: 94-VI.8-51000-III-09-24-P | D13: SECCIÓN TIPO SUPERFICIAL EN TANGENTE CON DURMIENTE MONOBLOQUE DE CONCRETO (GALIBO INTERIOR DE 8.00 M.) | E13: CORTE DE VIA RECTA CON TRENES EN TUNEL DURMIENTE DE CONCRETO.
A14: 10 | B14: 94-VI.8-51000-III-10-25-P | C14: 94-VI.8-51000-III-10-25-P | D14: SECCIÓN TIPO ELEVADA EN TANGENTE CON DURMIENTE MONOBLOQUE DE CONCRETO (GALIBO INTERIOR DE 8.100) | E14: CORTE DE VIA EN RECTA ELEVADA CON TRENES Y DURMIENTE DE CONCRETO.
A15: 11 | B15: 94-VI.8-51000-III-46-221-P | C15: 94-VI.8-51000-III-46-221-P | D15: SECCIÓN TIPO CAJON SUBTERRANEO CON MURO DE ACOMPAÑAMIENTO EN CURVA DE 200 ≥ R ≥ 150.000 | E15: CORTE DE VIA CURVA CON TRENES EN CAJON.
A16: 12 | B16: 94-VI.8-51000-III-116-434-P | C16: 94-VI.8-51000-III-116-434-P | D16: SECCIÓN TIPO VÍA SOBRE CONCRETO ESTACIÓN EN ELEVADO CON ANDENES LATERALES | E16: CORTE DE VIA EN ESTACION ELEVADA DE LINEA B CON ANDEN LATERAL.
A17: 13 | B17: 94-VI.8-51000-III-118-436-P | C17: 94-VI.8-51000-III-118-436-P | D17: SECCIÓN TIPO ESTACIÓN SUPERFICIAL 2 VÍAS Y 1 ANDEN CENTRAL | E17: CORTE DE VIA EN ESTACION SUPERFICIAL DE LINEA B CON ANDEN CENTRAL
A18: 14 | B18: 94-VI.8-51000-III-47-222-P | C18: 94-VI.8-51000-III-47-222-P | D18: SECCIÓN TIPO ELEVADO CURVA DE 200 ≥ R ≥ 150 | E18: CORTE DE VIA CURVA ELEVADA CON TRENES.
A19: 15 | B19: 94-VI.17-501000-III-02-16-P | C19: 94-VI.17-501000-III-02-16-P | D19: PLANO TIPO DURMIENTE BIBLOQUE DE CONCRETO REFORZADO TIPO "O" PARA EL METRO CON RODADA NEUMATICA DE LA CIUDAD DE MEXICO (DIMENSIONES GENERALES PARA DISEÑO). | E19: DURMIENTE DE CONCRETO BIBLOCK TIPO "O" CON PERNO DE 22 MM. | F19: E. F. 1
A20: 16 | B20: 94-VI.17-501000-III-03-17-P | C20: 94-VI.17-501000-III-03-17-P | D20: PLANO TIPO DURMIENTE BIBLOQUE DE CONCRETO REFORZADO TIPO "S" PARA EL METRO CON RODADA NEUMATICA DE LA CD DE MEXICO ( DIMENSIONES GENERALES PARA DISEÑO ) | E20: DURMIENTE DE CONCRETO BIBLOCK TIPO "S" CON PERNO DE 22 MM. | F20: E. F. 2
A21: 17 | B21: 94-VI.17-501000-III-05-19-P | C21: 94-VI.17-501000-III-05-19-P | D21: PLANO TIPO DURMIENTE MONOBLOQUE DE CONCRETO PRESFORZADO TIPO “O” PARA EL METRO CON RODADA NEUMÁTICA DE LA CD, DE MÉXICO(DIMENSIONES GENERALES PARA DISEÑO) | E21: DURMIENTE DE CONCRETO MONOLITICO TIPO "O" CON PERNO DE 22 MM | F21: E. F. 4
A22: 18 | B22: 94-VI.17-501000-III-17-51-P | C22: 94-VI.17-501000-III-17-51-P | D22: PLANO TIPO IMPLANTACION DE VIA - FIJACION DE VIA JUNTAS AISLANTES PARA RIEL DE 80 ASCE Y PISTA, SOBRE DURMIENTES DE CONCRETO Y DURMIENTES DE MADERA CONJUNTO Y DETALLES | E22: JUNTA AISLANTE DE RIEL 80 LB/YD. | F22: 30 A, 30 C
E23: JUNTA AISLANTE DE PISTA METALICA.
A24: 19 | B24: 94-VI.17-501000-III-19-53-P | C24: 94-VI.17-501000-III-19-53-P | D24: IMPLANTACION DE VIA - FIJACION DE VIA PLANO TIPO VIA EN TUNEL - DISTRIBUCION DE DURMIENTES EN TANGENTE Y CURVAS DE 150≤R<350 Y R≥350 | E24: VIA TIPO CON DURMIENTES DE CONCRETO EN RECTA. | F24: 30 C
E25: VIA TIPO CON DURMIENTES DE CONCRETO EN CURVA.
E26: DISTRIBUCION DE DURMIENTES DE CONCRETO EN RECTA.
E27: DISTRIBUCION DE DURMIENTES DE CONCRETO EN CURVA.
A28: 20 | B28: 94-VI.17-501000-III-20-54-P | C28: 94-VI.17-501000-III-20-54-P | D28: IMPLANTACION DE VIA - FIJACION DE VIA PLANO TIPO APARATO DE COMUNICACIÓN Tg. 0.13 A LA DERECHA CON ENTREVIA 2.90 PLANO DE CONJUNTO | E28: COMUNICACIÓN TG. 0.13 DE 2.9 A DERECHA CONJUNTO | F28: 1C. ,2C ,13C, 9C
E29: COMUNICACIÓN TG. 0.13 DE 2.9 A DERECHA DISTRIBUCION DE DURMIENTES
E30: COMUNICACIÓN TG. 0.13 DE 2.9 A DERECHA MONTAJES DE BARRA GUIA
E31: COMUNICACIÓN TG. 0.13 DE 2.9 A DERECHA DIRECTRICES
E32: COMUNICACIÓN TG. 0.13 DE 2.9 A DERECHA DIAGRAMA DE AGUJAS
E33: COMUNICACIÓN TG. 0.13 DE 2.9 A DERECHA GEOMETRIA
A34: 21 | B34: 94-VI.17-501000-III-21-55-P | C34: 94-VI.17-501000-III-21-55-P | D34: IMPLANTACION DE VIA - FIJACION DE VIA PLANO TIPO APARATO DE ENLACE TG. 0.13 A LA DERECHA PLANO DE CONJUNTO | E34: APARATO TG. 0.13 A DERECHA CONJUNTO | F34: 1C. ,2C ,13C, 9C
E35: APARATO TG. 0.13 A DERECHA DISTRIBUCION DE DURMIENTES
E36: APARATO TG. 0.13 A DERECHA MONTAJES DE BARRA GUIA
E37: APARATO TG. 0.13 A DERECHA DIRECTRICES
E38: APARATO TG. 0.13 A DERECHA DIAGRAMA DE AGUJAS
E39: APARATO TG. 0.13 A DERECHA GEOMETRIA
A40: 22 | B40: 94-VI.17-501000-III-23-57-P | C40: 94-VI.17-501000-III-23-57-P | D40: IMPLANTACION DE VIA - FIJACION DE VIA. PLANO TIPO CRUCETAS NORMALES PARA LA BARRA GUIA Y/O DE TOMA DE CORRIENTE | E40: CRUCETA DE BARRA GUIA EN VIA ORDINARIA. | F40: 30 A, 30 C
A41: 23 | B41: 94-VI.17-501000-III-29-63-P | C41: 94-VI.17-501000-III-29-63-P | D41: IMPLANTACION DE VIA - FIJACION DE VIA PLANO TIPO APARATO DE ENLACE TG. 0.20 A LA DERECHA PLANO DE CONJUNTO | E41: APARATO TG. 0.20 A DERECHA CONJUNTO | F41: 1C. ,2C ,13C, 9C
E42: APARATO TG. 0.20 A DERECHA DISTRIBUCION DE DURMIENTES
E43: APARATO TG. 0.20 A DERECHA MONTAJES DE BARRA GUIA
E44: APARATO TG. 0.20 A DERECHA DIRECTRICES
E45: APARATO TG. 0.20 A DERECHA GEOMETRIA
A46: 24 | B46: 94-VI.17-501000-III-50-244-P | C46: 94-VI.17-501000-III-50-244-P | D46: IMPLANTACION DE VIA - FIJACION DE VIA PLANO TIPO COLOCACION DE JUNTAS MECANICAS PARA RIEL 80 ASCE Y PISTA SOBRE DURMIENTES DE CONCRETO TIPO BIBLOQUE O MONOBLOQUE (CONJUNTO Y DETALLES) | E46: JUNTA MECANICA DE RIEL 80 LB/YD. | F46: 30 A, 30 C
E47: JUNTA MECANICA DE PISTA METALICA.
A48: 25 | B48: 94-VI.17-501000-III-61-362-P | C48: 94-VI.17-501000-III-61-362-P | D48: IMPLANTACION DE VIA-FIJACION DE VIA PLANO TIPO APARATO DE ENLACE TG. 0.13 A LA IZQUIERDA PLANO DE CONJUNTO | E48: APARATO TG. 0.13 A IZQUIERDA CONJUNTO | F48: 1C. ,2C ,13C, 9C
E49: APARATO TG. 0.13 A IZQUIERDA DISTRIBUCION DE DURMIENTES
E50: APARATO TG. 0.13 A IZQUIERDA MONTAJES DE BARRA GUIA
E51: APARATO TG. 0.13 A IZQUIERDA DIRECTRICES
E52: APARATO TG. 0.13 A IZQUIERDA DIAGRAMA DE AGUJAS
E53: APARATO TG. 0.13 A IZQUIERDA GEOMETRIA
A54: 26 | B54: 94-VI.17-501000-III-63-364-P | C54: 94-VI.17-501000-III-63-364-P | D54: IMPLANTACION DE VIA - FIJACION DE VIA PLANO APARATO DE COMUNICACION TG. 0.13 A LA DERECHA CON ENTREVIA 3,15 PLANO DE CONJUNTO | E54: COMUNICACIÓN TG. 0.13 DE 3.15 A DERECHA CONJUNTO | F54: 1C. ,2C ,13C, 9C
E55: COMUNICACIÓN TG. 0.13 DE 3.15 A DERECHA DISTRIBUCION DE DURMIENTES
E56: COMUNICACIÓN TG. 0.13 DE 3.15 A DERECHA MONTAJES DE BARRA GUIA
E57: COMUNICACIÓN TG. 0.13 DE 3.15 A DERECHA DIRECTRICES
E58: COMUNICACIÓN TG. 0.13 DE 3.15 A DERECHA DIAGRAMA DE AGUJAS
E59: COMUNICACIÓN TG. 0.13 DE 3.15 A DERECHA GEOMETRIA
A60: 27 | B60: 94-VI.17-501000-III-64-365-P | C60: 94-VI.17-501000-III-64-365-P | D60: IMPLANTACION DE VIA - FIJACION DE VIA PLANO APARATO DE COMUNICACION TG. 0.13 A LA IZQUIERDA CON ENTREVIA 3,15 PLANO DE CONJUNTO | E60: COMUNICACIÓN TG. 0.13 DE 3.15 A IZQUIERDA CONJUNTO | F60: 1C. ,2C ,13C, 9C
E61: COMUNICACIÓN TG. 0.13 DE 3.15 A IZQUIERDA DISTRIBUCION DE DURMIENTES
E62: COMUNICACIÓN TG. 0.13 DE 3.15 A IZQUIERDA MONTAJES DE BARRA GUIA
E63: COMUNICACIÓN TG. 0.13 DE 3.15 A IZQUIERDA DIRECTRICES
E64: COMUNICACIÓN TG. 0.13 DE 3.15 A IZQUIERDA DIAGRAMA DE AGUJAS
E65: COMUNICACIÓN TG. 0.13 DE 3.15 A IZQUIERDA GEOMETRIA
A66: 28 | B66: 94-VI.17-501000-III-65-366-P | C66: 94-VI.17-501000-III-65-366-P | D66: IMPLANTACION DE VIA - FIJACION DE VIA PLANO APARATO DE COMUNICACION TG. 0.13 A LA DERECHA CON ENTREVIA 4,200 PLANO DE CONJUNTO | E66: COMUNICACIÓN TG. 0.13 DE 4.2 A DERECHA CONJUNTO | F66: 1C. ,2C ,13C, 9C
E67: COMUNICACIÓN TG. 0.13 DE 4.2 A DERECHA DISTRIBUCION DE DURMIENTES
E68: COMUNICACIÓN TG. 0.13 DE 4.2 A DERECHA MONTAJES DE BARRA GUIA
E69: COMUNICACIÓN TG. 0.13 DE 4.2 A DERECHA DIRECTRICES
E70: COMUNICACIÓN TG. 0.13 DE 4.2 A DERECHA DIAGRAMA DE AGUJAS
E71: COMUNICACIÓN TG. 0.13 DE 4.2 A DERECHA GEOMETRIA
A72: 29 | B72: 94-VI.17-501000-III-66-367-P | C72: 94-VI.17-501000-III-66-367-P | D72: IMPLANTACION DE VIA - FIJACION DE VIA PLANO APARATO DE COMUNICACION TG. 0.13 A LA IZQUIERDA CON ENTREVIA 4,200 PLANO DE CONJUNTO | E72: COMUNICACIÓN TG. 0.13 DE 4.2 A IZQUIERDA CONJUNTO | F72: 1C. ,2C ,13C, 9C
E73: COMUNICACIÓN TG. 0.13 DE 4.2 A IZQUIERDA DISTRIBUCION DE DURMIENTES
E74: COMUNICACIÓN TG. 0.13 DE 4.2 A IZQUIERDA MONTAJES DE BARRA GUIA
E75: COMUNICACIÓN TG. 0.13 DE 4.2 A IZQUIERDA DIRECTRICES
E76: COMUNICACIÓN TG. 0.13 DE 4.2 A IZQUIERDA DIAGRAMA DE AGUJAS
E77: COMUNICACIÓN TG. 0.13 DE 4.2 A IZQUIERDA GEOMETRIA
A78: 30 | B78: 94-VI.17-501000-III-67-368-P | C78: 94-VI.17-501000-III-67-368-P | D78: IMPLANTACION DE VIA - FIJACION DE VIA PLANO TIPO APARATO DE COMUNICACION TG.13 A LA DERECHA CON DESVIO A LA IZQUIERDA ENTREVIA 4,20 PLANO DE CONJUNTO | E78: COMUNICACIÓN TG. 0.13 DE 4.2 A DERECHA CON DESVIO A IZQUIERDA CONJUNTO | F78: 1C. ,2C ,13C, 9C
E79: COMUNICACIÓN TG. 0.13 DE 4.2 A DERECHA CON DESVIO A IZQUIERDA DISTRIBUCION DE DURMIENTES
E80: COMUNICACIÓN TG. 0.13 DE 4.2 A DERECHA CON DESVIO A IZQUIERDA MONTAJES DE BARRA GUIA
E81: COMUNICACIÓN TG. 0.13 DE 4.2 A DERECHA CON DESVIO A IZQUIERDA DIRECTRICES
E82: COMUNICACIÓN TG. 0.13 DE 4.2 A DERECHA CON DESVIO A IZQUIERDA DIAGRAMA DE AGUJAS
E83: COMUNICACIÓN TG. 0.13 DE 4.2 A DERECHA CON DESVIO A IZQUIERDA GEOMETRIA
A84: 31 | B84: 94-VI.17-501000-III-68-369-P | C84: 94-VI.17-501000-III-68-369-P | D84: IMPLANTACION DE VIA - FIJACION DE VIA. PLANO TIPO. APARATO DE COMUNICACIÓN TG. 0.13 A LA IZQUIERDA CON DESVIO A LA DERECHA ENTREVÍA 4.2 PLANO DE CONJUNTO | E84: COMUNICACIÓN TG. 0.13 DE 4.2 A IZQUIERDA CON DESVIO A DERECHA CONJUNTO | F84: 1C. ,2C ,13C, 9C
E85: COMUNICACIÓN TG. 0.13 DE 4.2 A IZQUIERDA CON DESVIO A DERECHA DISTRIBUCION DE DURMIENTES
E86: COMUNICACIÓN TG. 0.13 DE 4.2 A IZQUIERDA CON DESVIO A DERECHA MONTAJES DE BARRA GUIA
E87: COMUNICACIÓN TG. 0.13 DE 4.2 A IZQUIERDA CON DESVIO A DERECHA DIRECTRICES
E88: COMUNICACIÓN TG. 0.13 DE 4.2 A IZQUIERDA CON DESVIO A DERECHA DIAGRAMA DE AGUJAS
E89: COMUNICACIÓN TG. 0.13 DE 4.2 A IZQUIERDA CON DESVIO A DERECHA GEOMETRIA
A90: 32 | B90: 94-VI.17-501000-III-69-370-P | C90: 94-VI.17-501000-III-69-370-P | D90: IMPLANTACION DE VIA - FIJACION DE VIA. PLANO TIPO. APARATO DE ENLACE TG. 0.20 A LA IZQUIERDA PLANO DE CONJUNTO | E90: APARATO TG. 0.20 A IZQUIERDA CONJUNTO | F90: 1C. ,2C ,13C, 9C
E91: APARATO TG. 0.20 A IZQUIERDA DISTRIBUCION DE DURMIENTES
E92: APARATO TG. 0.20 A IZQUIERDA MONTAJES DE BARRA GUIA
E93: APARATO TG. 0.20 A IZQUIERDA DIRECTRICES
E94: APARATO TG. 0.20 A IZQUIERDA GEOMETRIA
A95: 33 | B95: 94-VI.17-501000-III-70-371-P | C95: 94-VI.17-501000-III-70-371-P | D95: IMPLANTACION DE VIA - FIJACION DE VIA PLANO TIPO APARATO DE VIA TG. 0.13 A LA DERECHA PISTA CONTRA-AGUJA RECTILINEA DE PUNTA PIEZA A, PLANTA | E95: APARATO TG. 0.13 A DERECHA PIEZA A PLANTA | F95: 1C
E96: APARATO TG. 0.13 A DERECHA PIEZA A LATERAL
E97: APARATO TG. 0.13 A DERECHA PIEZA A GEOMETRÍA
A98: 34 | B98: 94-VI.17-501000-III-72-373-P | C98: 94-VI.17-501000-III-72-373-P | D98: IMPLANTACION DE VIA - FIJACION DE VIA. PLANO TIPO. APARATO DE VÍA TG. 0.13 A LA DERECHA PISTA CONTRA – AGUJA RECTILINEA DE TALON PIEZA B PLANTA | E98: APARATO TG. 0.13 A DERECHA PIEZA B PLANTA | F98: 1C
E99: APARATO TG. 0.13 A DERECHA PIEZA B LATERAL
E100: APARATO TG. 0.13 A DERECHA PIEZA B GEOMETRÍA
A101: 35 | B101: 94-VI.17-501000-III-75-376-P | C101: 94-VI.17-501000-III-75-376-P | D101: IMPLANTACION DE VIA - FIJACION DE VIA. PLANO TIPO. APARATO DE VÍA TG. 0.13 A LA DERECHA PISTA CONTRA – AGUJA CURVA DE PUNTA PIEZA D – PLANTA. | E101: APARATO TG. 0.13 A DERECHA PIEZA D PLANTA | F101: 1C
...

Sheet SQL neumatico
A4: id | B4: archivo | D4: plano | E4: descripcion
A5: 1 | B5: 01 94VI17501000III0418P DURMIENTETIPO SO BIBLOCK | D5: 94-VI.17-501000-III-04-18-P | E5: PLANO TIPO DURMIENTE BIBLOQUE DE CONCRETO REFORZADO TIPO "SO" PARA EL METRO DE RODADA NEUMATICA DE LA CD DE MEXICO ( DIMENSIONES GENERALES PARA DISEÑO ) | F5: =+CONCATENATE("INSERT INTO neumatico (id, plano, descripcion, archivo) VALUES(",A5,", '",D5,"', '",E5,"','",B5,".pdf');") -> INSERT INTO neumatico (id, plano, descripcion, archivo) VALUES(1, '94-VI.17-501000-III-04-18-P', 'PLANO TIPO DURMIENTE BIBLOQUE DE CONCRETO REFORZADO TIPO "SO" PARA EL METRO DE RODADA NEUMATICA DE LA CD DE MEXICO ( DIMENSIONES GENERALES PARA DISEÑO )','01 94VI17501000III0418P DURMIENTETIPO SO BIBLOCK.pdf');
A6: 2 | B6: 02 94VI17501000III0620P DURMIENTETIPO S MONOLITICO | D6: 94-VI.17-501000-III-06-20-P | E6: PLANO TIPO DURMIENTE MONOBLOQUE DE CONCRETO PRESFORZADO TIPO "S" PARA EL METRO CON RODADA NEUMATICA DE LA CD DE MEXICO ( DIMENSIONES GENERALES PARA DISEÑO ) | F6: =+CONCATENATE("INSERT INTO neumatico (id, plano, descripcion, archivo) VALUES(",A6,", '",D6,"', '",E6,"','",B6,".pdf');") -> INSERT INTO neumatico (id, plano, descripcion, archivo) VALUES(2, '94-VI.17-501000-III-06-20-P', 'PLANO TIPO DURMIENTE MONOBLOQUE DE CONCRETO PRESFORZADO TIPO "S" PARA EL METRO CON RODADA NEUMATICA DE LA CD DE MEXICO ( DIMENSIONES GENERALES PARA DISEÑO )','02 94VI17501000III0620P DURMIENTETIPO S MONOLITICO.pdf');
A7: 3 | B7: 03 94VI17501000III0721P DURMIENTETIPO SO MONOLITICO | D7: 94-VI.17-501000-III-07-21-P | E7: PLANO TIPO DURMIENTE MONOBLOQUE DE CONCRETO PRESFORZADO TIPO "SO" PARA EL METRO CON RODADA NEUMATICA DE LA CD DE MEXICO ( DIMENSIONES GENERALES PARA DISEÑO ) | F7: =+CONCATENATE("INSERT INTO neumatico (id, plano, descripcion, archivo) VALUES(",A7,", '",D7,"', '",E7,"','",B7,".pdf');") -> INSERT INTO neumatico (id, plano, descripcion, archivo) VALUES(3, '94-VI.17-501000-III-07-21-P', 'PLANO TIPO DURMIENTE MONOBLOQUE DE CONCRETO PRESFORZADO TIPO "SO" PARA EL METRO CON RODADA NEUMATICA DE LA CD DE MEXICO ( DIMENSIONES GENERALES PARA DISEÑO )','03 94VI17501000III0721P DURMIENTETIPO SO MONOLITICO.pdf');
A8: 4 | B8: 79-VI.17-000-III-19-2362-P 2015 | D8: 79-VI.17-000-III-19-2362-P | E8: PLANO TIPO COTAS DE AJUSTE Y MONTAJES DE LA BARRA GUIA COMUNICACIÓN DE VÍA TG. 0.13 DE 4.2 mts. A LA DERECHA. | F8: =+CONCATENATE("INSERT INTO neumatico (id, plano, descripcion, archivo) VALUES(",A8,", '",D8,"', '",E8,"','",B8,".pdf');") -> INSERT INTO neumatico (id, plano, descripcion, archivo) VALUES(4, '79-VI.17-000-III-19-2362-P ', 'PLANO TIPO COTAS DE AJUSTE Y MONTAJES DE LA BARRA GUIA COMUNICACIÓN DE VÍA TG. 0.13 DE 4.2 mts. A LA DERECHA.','79-VI.17-000-III-19-2362-P 2015.pdf');
A9: 5 | B9: 79-VI.17-000-III-20-2363-P 2015 | D9: 79-VI.17-000-III-20-2363-P | E9: PLANO TIPO COTAS DE AJUSTE Y MONTAJES DE LA BARRA GUIA COMUNICACIÓN DE VÍA TG. 0.13 DE 4.2 mts. A LA IZQUIERDA. | F9: =+CONCATENATE("INSERT INTO neumatico (id, plano, descripcion, archivo) VALUES(",A9,", '",D9,"', '",E9,"','",B9,".pdf');") -> INSERT INTO neumatico (id, plano, descripcion, archivo) VALUES(5, '79-VI.17-000-III-20-2363-P', 'PLANO TIPO COTAS DE AJUSTE Y MONTAJES DE LA BARRA GUIA COMUNICACIÓN DE VÍA TG. 0.13 DE 4.2 mts. A LA IZQUIERDA.','79-VI.17-000-III-20-2363-P 2015.pdf');
A10: 6 | B10: 79-VI.17-000-III-21-2364-P 2015 | D10: 79-VI.17-000-III-21-2364-P | E10: PLANO TIPO COTAS DE AJUSTE Y MONTAJES DE LA BARRA GUIA COMUNICACIÓN DE VÍA TG. 0.13 DE 4.2 mts. A LA IZQUIERDA CON CRUZAMIENTO A LA DERECHA. | F10: =+CONCATENATE("INSERT INTO neumatico (id, plano, descripcion, archivo) VALUES(",A10,", '",D10,"', '",E10,"','",B10,".pdf');") -> INSERT INTO neumatico (id, plano, descripcion, archivo) VALUES(6, '79-VI.17-000-III-21-2364-P', 'PLANO TIPO COTAS DE AJUSTE Y MONTAJES DE LA BARRA GUIA COMUNICACIÓN DE VÍA TG. 0.13 DE 4.2 mts. A LA IZQUIERDA CON CRUZAMIENTO A LA DERECHA.','79-VI.17-000-III-21-2364-P 2015.pdf');
A11: 7 | B11: 79-VI.17-000-III-22-2365-P 2015 | D11: 79-VI.17-000-III-22-2365-P | E11: PLANO TIPO COTAS DE AJUSTE Y MONTAJES DE LA BARRA GUIA COMUNICACIÓN DE VÍA TG. 0.13 DE 4.2 mts. A LA DERECHA CON CRUZAMIENTO A LA IZQUIERDA. | F11: =+CONCATENATE("INSERT INTO neumatico (id, plano, descripcion, archivo) VALUES(",A11,", '",D11,"', '",E11,"','",B11,".pdf');") -> INSERT INTO neumatico (id, plano, descripcion, archivo) VALUES(7, '79-VI.17-000-III-22-2365-P', 'PLANO TIPO COTAS DE AJUSTE Y MONTAJES DE LA BARRA GUIA COMUNICACIÓN DE VÍA TG. 0.13 DE 4.2 mts. A LA DERECHA CON CRUZAMIENTO A LA IZQUIERDA.','79-VI.17-000-III-22-2365-P 2015.pdf');
A12: 8 | B12: 87-VI.17-85232-III-1-1948-P | D12: 87-VI.17-85232-III-1-1948-P | E12: IMPLANTACION DE VIA-FIJACION DE VIA PLANO TIPO VIA SOBRE BALASTO MONTAJE Y DETALLES DE COLOCACION DEL CUPON NEUTRO DE 3 BLOCKS AISLANTES DE 296mm Y LONGITUD DE 24.000 m | F12: =+CONCATENATE("INSERT INTO neumatico (id, plano, descripcion, archivo) VALUES(",A12,", '",D12,"', '",E12,"','",B12,".pdf');") -> INSERT INTO neumatico (id, plano, descripcion, archivo) VALUES(8, '87-VI.17-85232-III-1-1948-P', 'IMPLANTACION DE VIA-FIJACION DE VIA PLANO TIPO VIA SOBRE BALASTO MONTAJE Y DETALLES DE COLOCACION DEL CUPON NEUTRO DE 3 BLOCKS AISLANTES DE 296mm Y LONGITUD DE 24.000 m','87-VI.17-85232-III-1-1948-P.pdf');
A13: 9 | B13: 94-VI.8-501000-III-09-24-P | D13: 94-VI.8-51000-III-09-24-P | E13: SECCIÓN TIPO SUPERFICIAL EN TANGENTE CON DURMIENTE MONOBLOQUE DE CONCRETO (GALIBO INTERIOR DE 8.00 M.) | F13: =+CONCATENATE("INSERT INTO neumatico (id, plano, descripcion, archivo) VALUES(",A13,", '",D13,"', '",E13,"','",B13,".pdf');") -> INSERT INTO neumatico (id, plano, descripcion, archivo) VALUES(9, '94-VI.8-51000-III-09-24-P', 'SECCIÓN TIPO SUPERFICIAL EN TANGENTE CON DURMIENTE MONOBLOQUE DE CONCRETO (GALIBO INTERIOR DE 8.00 M.)','94-VI.8-501000-III-09-24-P.pdf');
A14: 10 | B14: 94-VI.8-501000-III-10-25-P | D14: 94-VI.8-51000-III-10-25-P | E14: SECCIÓN TIPO ELEVADA EN TANGENTE CON DURMIENTE MONOBLOQUE DE CONCRETO (GALIBO INTERIOR DE 8.100) | F14: =+CONCATENATE("INSERT INTO neumatico (id, plano, descripcion, archivo) VALUES(",A14,", '",D14,"', '",E14,"','",B14,".pdf');") -> INSERT INTO neumatico (id, plano, descripcion, archivo) VALUES(10, '94-VI.8-51000-III-10-25-P', 'SECCIÓN TIPO ELEVADA EN TANGENTE CON DURMIENTE MONOBLOQUE DE CONCRETO (GALIBO INTERIOR DE 8.100)','94-VI.8-501000-III-10-25-P.pdf');
A15: 11 | B15: 94-VI.8-501000-III-46-221-P | D15: 94-VI.8-51000-III-46-221-P | E15: SECCIÓN TIPO CAJON SUBTERRANEO CON MURO DE ACOMPAÑAMIENTO EN CURVA DE 200 ≥ R ≥ 150.000 | F15: =+CONCATENATE("INSERT INTO neumatico (id, plano, descripcion, archivo) VALUES(",A15,", '",D15,"', '",E15,"','",B15,".pdf');") -> INSERT INTO neumatico (id, plano, descripcion, archivo) VALUES(11, '94-VI.8-51000-III-46-221-P', 'SECCIÓN TIPO CAJON SUBTERRANEO CON MURO DE ACOMPAÑAMIENTO EN CURVA DE 200 ≥ R ≥ 150.000','94-VI.8-501000-III-46-221-P.pdf');
A16: 12 | B16: 94-VI.8-501000-III-116-434-P | D16: 94-VI.8-51000-III-116-434-P | E16: SECCIÓN TIPO VÍA SOBRE CONCRETO ESTACIÓN EN ELEVADO CON ANDENES LATERALES | F16: =+CONCATENATE("INSERT INTO neumatico (id, plano, descripcion, archivo) VALUES(",A16,", '",D16,"', '",E16,"','",B16,".pdf');") -> INSERT INTO neumatico (id, plano, descripcion, archivo) VALUES(12, '94-VI.8-51000-III-116-434-P', 'SECCIÓN TIPO VÍA SOBRE CONCRETO ESTACIÓN EN ELEVADO CON ANDENES LATERALES','94-VI.8-501000-III-116-434-P.pdf');
... A53: 49 | B53: 94-VI-17-501000-III-80-381-P APARATO DE VIA TANG A LA DER | D53: 94-VI.17-501000-III-80-381-P | E53: IMPLANTACION DE VIA - FIJACION DE VIA PLANO TIPO. APARATO DE VÍA TG. 0.13 A LA DERECHA CORAZON DE INTERSECCION PIEZA G, CORTES | F53: =+CONCATENATE("INSERT INTO neumatico (id, plano, descripcion, archivo) VALUES(",A53,", '",D53,"', '",E53,"','",B53,".pdf');") -> INSERT INTO neumatico (id, plano, descripcion, archivo) VALUES(49, '94-VI.17-501000-III-80-381-P', 'IMPLANTACION DE VIA - FIJACION DE VIA PLANO TIPO. APARATO DE VÍA TG. 0.13 A LA DERECHA CORAZON DE INTERSECCION PIEZA G, CORTES','94-VI-17-501000-III-80-381-P APARATO DE VIA TANG A LA DER.pdf');
A54: 50 | B54: 94-VI.17-501000-III-79-380-P APARATO DE VIA TANG A LA DER | C54: 94-VI-18-000001-III-79-380-P APARATO DE VIA TANG A LA DER | D54: 94-VI.17-501000-III-79-380-P | E54: IMPLANTACION DE VIA - FIJACION DE VIA PLANO TIPO. APARATO DE VÍA TG. 0.13 A LA DERECHA CORAZON DE INTERSECCION PIEZA G, PLANTA | F54: =+CONCATENATE("INSERT INTO neumatico (id, plano, descripcion, archivo) VALUES(",A54,", '",D54,"', '",E54,"','",C54,".pdf');") -> INSERT INTO neumatico (id, plano, descripcion, archivo) VALUES(50, '94-VI.17-501000-III-79-380-P', 'IMPLANTACION DE VIA - FIJACION DE VIA PLANO TIPO. APARATO DE VÍA TG. 0.13 A LA DERECHA CORAZON DE INTERSECCION PIEZA G, PLANTA','94-VI-18-000001-III-79-380-P APARATO DE VIA TANG A LA DER.pdf');
A55: 51 | B55: 95-VI.17-501000-III-132-472-P | D55: 95-VI.17-501000-III-132-472-P | E55: IMPLANTACION DE VIA - FIJACION DE VIA PLANO TIPO VIA EN TALLERES DIMENSIONES DE LOS DURMIENTES EN VIAS CON RIEL DE 100 RE | F55: =+CONCATENATE("INSERT INTO neumatico (id, plano, descripcion, archivo) VALUES(",A55,", '",D55,"', '",E55,"','",B55,".pdf');") -> INSERT INTO neumatico (id, plano, descripcion, archivo) VALUES(51, '95-VI.17-501000-III-132-472-P', 'IMPLANTACION DE VIA - FIJACION DE VIA PLANO TIPO VIA EN TALLERES DIMENSIONES DE LOS DURMIENTES EN VIAS CON RIEL DE 100 RE','95-VI.17-501000-III-132-472-P.pdf');
A56: 52 | B56: 95-VI.17-501000-III-141-484-P | D56: 95-VI.17-501000-III-141-484-P | E56: IMPLANTACION DE VIA - FIJACION DE VIA PLANO TIPO APARATO DE ENLACE Tg. 0.20 AGUJA CURVA DE 3.500 m. | F56: =+CONCATENATE("INSERT INTO neumatico (id, plano, descripcion, archivo) VALUES(",A56,", '",D56,"', '",E56,"','",B56,".pdf');") -> INSERT INTO neumatico (id, plano, descripcion, archivo) VALUES(52, '95-VI.17-501000-III-141-484-P', 'IMPLANTACION DE VIA - FIJACION DE VIA PLANO TIPO APARATO DE ENLACE Tg. 0.20 AGUJA CURVA DE 3.500 m.','95-VI.17-501000-III-141-484-P.pdf');
A57: 53 | B57: 95-VI.17-501000-III-155-508-P | D57: 95-VI.17-501000-III-155-508-P | E57: IMPLANTACION DE VIA - FIJACION DE VIA PLANO TIPO VIA SOBRE CONCRETO EN EL TRAMO ELEVADO JUNTAS MECANICAS PARA RIEL 80 ASCE Y PISTA METALICA (CONJUNTO Y DETALLES). | F57: =+CONCATENATE("INSERT INTO neumatico (id, plano, descripcion, archivo) VALUES(",A57,", '",D57,"', '",E57,"','",B57,".pdf');") -> INSERT INTO neumatico (id, plano, descripcion, archivo) VALUES(53, '95-VI.17-501000-III-155-508-P', 'IMPLANTACION DE VIA - FIJACION DE VIA PLANO TIPO VIA SOBRE CONCRETO EN EL TRAMO ELEVADO JUNTAS MECANICAS PARA RIEL 80 ASCE Y PISTA METALICA (CONJUNTO Y DETALLES).','95-VI.17-501000-III-155-508-P.pdf');
A58: 54 | B58: 95-VI.17-5010000-III-137-480-P | D58: 95-VI.17-501000-III-137-480-P | E58: IMPLANTACION DE VIA-FIJACION DE VIA PLANO TIPO APARATO DE VIA TG 0.13 A LA DERECHA AGUJA CURVA DE 9.300 m. | F58: =+CONCATENATE("INSERT INTO neumatico (id, plano, descripcion, archivo) VALUES(",A58,", '",D58,"', '",E58,"','",B58,".pdf');") -> INSERT INTO neumatico (id, plano, descripcion, archivo) VALUES(54, '95-VI.17-501000-III-137-480-P', 'IMPLANTACION DE VIA-FIJACION DE VIA PLANO TIPO APARATO DE VIA TG 0.13 A LA DERECHA AGUJA CURVA DE 9.300 m.','95-VI.17-5010000-III-137-480-P.pdf');
A59: 55 | B59: 95-VI.17-5010000-III-138-481-P | D59: 95-VI.17-501000-III-138-481-P | E59: IMPLANTACION DE VIA-FIJACION DE VIA PLANO TIPO APARATO DE VIA TG 0.13 A LA DERECHA AGUJA RECTA DE 9.300 m. | F59: =+CONCATENATE("INSERT INTO neumatico (id, plano, descripcion, archivo) VALUES(",A59,", '",D59,"', '",E59,"','",B59,".pdf');") -> INSERT INTO neumatico (id, plano, descripcion, archivo) VALUES(55, '95-VI.17-501000-III-138-481-P', 'IMPLANTACION DE VIA-FIJACION DE VIA PLANO TIPO APARATO DE VIA TG 0.13 A LA DERECHA AGUJA RECTA DE 9.300 m.','95-VI.17-5010000-III-138-481-P.pdf');
A60: 56 | B60: 95-VI.17-5010000-III-139-482-P | D60: 95-VI.17-501000-III-139-482-P | E60: IMPLANTACION DE VIA - FIJACION DE VIA PLANO TIPO APARATOS DE VIA Tg. 0.13 A LA DERECHA MAQUINADO DE LAS AGUJAS | F60: =+CONCATENATE("INSERT INTO neumatico (id, plano, descripcion, archivo) VALUES(",A60,", '",D60,"', '",E60,"','",B60,".pdf');") -> INSERT INTO neumatico (id, plano, descripcion, archivo) VALUES(56, '95-VI.17-501000-III-139-482-P', 'IMPLANTACION DE VIA - FIJACION DE VIA PLANO TIPO APARATOS DE VIA Tg. 0.13 A LA DERECHA MAQUINADO DE LAS AGUJAS','95-VI.17-5010000-III-139-482-P.pdf');
A61: 57 | B61: 95-VI.17-5010000-III-140-483-P | D61: 95-VI.17-501000-III-140-483-P | E61: IMPLANTACION DE VIA - FIJACION DE VIA PLANO TIPO APARATO DE ENLACE Tg. 0.20 AGUJA RECTA DE 3.500 m. | F61: =+CONCATENATE("INSERT INTO neumatico (id, plano, descripcion, archivo) VALUES(",A61,", '",D61,"', '",E61,"','",B61,".pdf');") -> INSERT INTO neumatico (id, plano, descripcion, archivo) VALUES(57, '95-VI.17-501000-III-140-483-P', 'IMPLANTACION DE VIA - FIJACION DE VIA PLANO TIPO APARATO DE ENLACE Tg. 0.20 AGUJA RECTA DE 3.500 m.','95-VI.17-5010000-III-140-483-P.pdf');
A62: 58 | B62: 96-VI.17-501000-III-183-537-P-DERECHA | D62: 96-VI.17-501000-III-183-537-P | E62: PLANO TIPO COTAS DE AJUSTE Y MONTAJES DE LA BARRA GUIA COMUNICACIÓN DE VÍA TG. 0.13 DE 2.9 mts. A LA DERECHA. | F62: =+CONCATENATE("INSERT INTO neumatico (id, plano, descripcion, archivo) VALUES(",A62,", '",D62,"', '",E62,"','",B62,".pdf');") -> INSERT INTO neumatico (id, plano, descripcion, archivo) VALUES(58, '96-VI.17-501000-III-183-537-P', 'PLANO TIPO COTAS DE AJUSTE Y MONTAJES DE LA BARRA GUIA COMUNICACIÓN DE VÍA TG. 0.13 DE 2.9 mts. A LA DERECHA.','96-VI.17-501000-III-183-537-P-DERECHA.pdf');
A63: 59 | B63: 96-VI.17-501000-III-183-537-P-IZQUIERDA | D63: 96-VI.17-501000-III-183-537-P | E63: PLANO TIPO COTAS DE AJUSTE Y MONTAJES DE LA BARRA GUIA COMUNICACIÓN DE VÍA TG. 0.13 DE 2.9 mts. A LA IZQUIERDA. | F63: =+CONCATENATE("INSERT INTO neumatico (id, plano, descripcion, archivo) VALUES(",A63,", '",D63,"', '",E63,"','",B63,".pdf');") -> INSERT INTO neumatico (id, plano, descripcion, archivo) VALUES(59, '96-VI.17-501000-III-183-537-P', 'PLANO TIPO COTAS DE AJUSTE Y MONTAJES DE LA BARRA GUIA COMUNICACIÓN DE VÍA TG. 0.13 DE 2.9 mts. A LA IZQUIERDA.','96-VI.17-501000-III-183-537-P-IZQUIERDA.pdf');
A64: 60 | B64: 96-VI.17-510556-III-02-02-P | D64: 96-VI.17-510556-III-02-02-P | E64: IMPLANTACIÓN DE VÍA.FIJACIÓN DE VÍA PLANO TIPO DISTRIBUCIÓN DE DURMIENTES Y MONTAJE DE APARATOS (JUNTAS) DE DILATACIÓN DE RIEL 80 ASCE, PISTA Y BARRA GUIA, EN TAN. Y CURVAS DE R≥350.000m CONJUNTO DE 90.000m | F64: =+CONCATENATE("INSERT INTO neumatico (id, plano, descripcion, archivo) VALUES(",A64,", '",D64,"', '",E64,"','",B64,".pdf');") -> INSERT INTO neumatico (id, plano, descripcion, archivo) VALUES(60, '96-VI.17-510556-III-02-02-P', 'IMPLANTACIÓN DE VÍA.FIJACIÓN DE VÍA PLANO TIPO DISTRIBUCIÓN DE DURMIENTES Y MONTAJE DE APARATOS (JUNTAS) DE DILATACIÓN DE RIEL 80 ASCE, PISTA Y BARRA GUIA, EN TAN. Y CURVAS DE R≥350.000m CONJUNTO DE 90.000m','96-VI.17-510556-III-02-02-P.pdf');
A65: 61 | B65: 121-MEX-VO-00-135 A | D65: 121-MEX-VO-00-135 A | E65: COMMUNICATION TG. 0.13 A GAUCHE ENTREVOIE 2.90 m. ENSEMBLE | F65: =+CONCATENATE("INSERT INTO neumatico (id, plano, descripcion, archivo) VALUES(",A65,", '",D65,"', '",E65,"','",B65,".pdf');") -> INSERT INTO neumatico (id, plano, descripcion, archivo) VALUES(61, '121-MEX-VO-00-135 A', 'COMMUNICATION TG. 0.13 A GAUCHE ENTREVOIE 2.90 m. ENSEMBLE','121-MEX-VO-00-135 A.pdf');
A66: 62 | B66: APTO TG 0.13 A DERECHA S-N | D66: AJUSTES APTO. 0.13 A DER (S / N) | E66: PLANO TIPO COTAS DE AJUSTE Y MONTAJES DE LA BARRA GUIA APARATO TG. 0.13 A DERECHA. | F66: =+CONCATENATE("INSERT INTO neumatico (id, plano, descripcion, archivo) VALUES(",A66,", '",D66,"', '",E66,"','",B66,".pdf');") -> INSERT INTO neumatico (id, plano, descripcion, archivo) VALUES(62, 'AJUSTES APTO. 0.13 A DER (S / N)', 'PLANO TIPO COTAS DE AJUSTE Y MONTAJES DE LA BARRA GUIA APARATO TG. 0.13 A DERECHA.','APTO TG 0.13 A DERECHA S-N.pdf');
... A95: 91 | B95: TV-752 | D95: TV-752 | E95: COMMUNICATION TG. 0.13 A DROITE ENTREVOIE 5.00 ENSEMBLE | F95: =+CONCATENATE("INSERT INTO neumatico (id, plano, descripcion, archivo) VALUES(",A95,", '",D95,"', '",E95,"','",B95,".pdf');") -> INSERT INTO neumatico (id, plano, descripcion, archivo) VALUES(91, 'TV-752', 'COMMUNICATION TG. 0.13 A DROITE ENTREVOIE 5.00 ENSEMBLE','TV-752.pdf');

Sheet SQL ferreo
A3: Número | B3: Archivo electrónico | D3: Nombre
A4: 5.1 PLANOS LINEA 12
A5: id | B5: plano | C5: archivo
A6: 1 | B6: PMDF-09-VI.8-612000-III-0001-02478-P-00 | C6: PMDF-09-VI.8-612000-III-0003-02480-P-00 | D6: Junta aislante pegada para vía con rieles de 115 R.E. Corte del armado y detalle de material. | E6: =+UPPER(D6) -> JUNTA AISLANTE PEGADA PARA VÍA CON RIELES DE 115 R.E. CORTE DEL ARMADO Y DETALLE DE MATERIAL. | F6: =+CONCATENATE("INSERT INTO ferreo (id, plano, descripcion, archivo) VALUES(",A6,", '",B6,"', '",E6,"','",C6,".pdf');") -> INSERT INTO ferreo (id, plano, descripcion, archivo) VALUES(1, 'PMDF-09-VI.8-612000-III-0001-02478-P-00', 'JUNTA AISLANTE PEGADA PARA VÍA CON RIELES DE 115 R.E. CORTE DEL ARMADO Y DETALLE DE MATERIAL.','PMDF-09-VI.8-612000-III-0003-02480-P-00.pdf');
A7: =A6+1 -> 2 | B7: PMDF-09-VI.8-612000-III-0003-02480-P-00 | C7: PMDF-09-VI.8-612000-III-0003-02480-P-00 | D7: Aparato de dilatación para vía con rieles 115 R.E. detalles de las agujas de izq. | E7: =+UPPER(D7) -> APARATO DE DILATACIÓN PARA VÍA CON RIELES 115 R.E. DETALLES DE LAS AGUJAS DE IZQ. | F7: =+CONCATENATE("INSERT INTO ferreo (id, plano, descripcion, archivo) VALUES(",A7,", '",B7,"', '",E7,"','",C7,".pdf');") -> INSERT INTO ferreo (id, plano, descripcion, archivo) VALUES(2, 'PMDF-09-VI.8-612000-III-0003-02480-P-00', 'APARATO DE DILATACIÓN PARA VÍA CON RIELES 115 R.E. DETALLES DE LAS AGUJAS DE IZQ.','PMDF-09-VI.8-612000-III-0003-02480-P-00.pdf');
A8: =A7+1 -> 3 | B8: PMDF-09-VI.8-612000-III-004-02481-P-00 | C8: PMDF-09-VI.8-612000-III-0004-02481-P-00 | D8: Aparato de dilatación para vía con rieles 115 R.E. detalles de las agujas de derecha. | E8: =+UPPER(D8) -> APARATO DE DILATACIÓN PARA VÍA CON RIELES 115 R.E. DETALLES DE LAS AGUJAS DE DERECHA. | F8: =+CONCATENATE("INSERT INTO ferreo (id, plano, descripcion, archivo) VALUES(",A8,", '",B8,"', '",E8,"','",C8,".pdf');") -> INSERT INTO ferreo (id, plano, descripcion, archivo) VALUES(3, 'PMDF-09-VI.8-612000-III-004-02481-P-00', 'APARATO DE DILATACIÓN PARA VÍA CON RIELES 115 R.E. DETALLES DE LAS AGUJAS DE DERECHA.','PMDF-09-VI.8-612000-III-0004-02481-P-00.pdf');
A9: =A8+1 -> 4 | B9: PMDF-09-VI.8-612000-III-006-02815-P-00 | C9: PMDF-09-VI.8-612000-III-0006-02815-P-00 | D9: Aparato de dilatación para vía con rieles 115 R.E. pequeño material de fijación. | E9: =+UPPER(D9) -> APARATO DE DILATACIÓN PARA VÍA CON RIELES 115 R.E. PEQUEÑO MATERIAL DE FIJACIÓN. | F9: =+CONCATENATE("INSERT INTO ferreo (id, plano, descripcion, archivo) VALUES(",A9,", '",B9,"', '",E9,"','",C9,".pdf');") -> INSERT INTO ferreo (id, plano, descripcion, archivo) VALUES(4, 'PMDF-09-VI.8-612000-III-006-02815-P-00', 'APARATO DE DILATACIÓN PARA VÍA CON RIELES 115 R.E. PEQUEÑO MATERIAL DE FIJACIÓN.','PMDF-09-VI.8-612000-III-0006-02815-P-00.pdf');
A10: =A9+1 -> 5 | B10: PMDF-09-VI.8-612000-III-006-02816-P-00 | C10: PMDF-09-VI.8-612000-III-0007-02816-P-00 | D10: Vía con riel 115 R.E. instalación de vía en curva vía emplanchuelada. | E10: =+UPPER(D10) -> VÍA CON RIEL 115 R.E. INSTALACIÓN DE VÍA EN CURVA VÍA EMPLANCHUELADA. | F10: =+CONCATENATE("INSERT INTO ferreo (id, plano, descripcion, archivo) VALUES(",A10,", '",B10,"', '",E10,"','",C10,".pdf');") -> INSERT INTO ferreo (id, plano, descripcion, archivo) VALUES(5, 'PMDF-09-VI.8-612000-III-006-02816-P-00', 'VÍA CON RIEL 115 R.E. INSTALACIÓN DE VÍA EN CURVA VÍA EMPLANCHUELADA.','PMDF-09-VI.8-612000-III-0007-02816-P-00.pdf');
A11: =A10+1 -> 6 | B11: PMDF-09-VI.8-612000-III-006-02817-P-00 | C11: PMDF-09-VI.8-612000-III-0008-02817-P-00 | D11: Colocación de la vía en riel 115 R.E. vía elástica con sillas y fijaciones indirectas conjunto. | E11: =+UPPER(D11) -> COLOCACIÓN DE LA VÍA EN RIEL 115 R.E. VÍA ELÁSTICA CON SILLAS Y FIJACIONES INDIRECTAS CONJUNTO. | F11: =+CONCATENATE("INSERT INTO ferreo (id, plano, descripcion, archivo) VALUES(",A11,", '",B11,"', '",E11,"','",C11,".pdf');") -> INSERT INTO ferreo (id, plano, descripcion, archivo) VALUES(6, 'PMDF-09-VI.8-612000-III-006-02817-P-00', 'COLOCACIÓN DE LA VÍA EN RIEL 115 R.E. VÍA ELÁSTICA CON SILLAS Y FIJACIONES INDIRECTAS CONJUNTO.','PMDF-09-VI.8-612000-III-0008-02817-P-00.pdf');
A12: =A11+1 -> 7 | B12: PMDF-09-VI.8-612000-III-006-02818-P-00 | C12: PMDF-09-VI.8-612000-III-0009-02818-P-00 | D12: “Silla” para la fijación elástica indirecta colocación de la vía con riel 115 R.E. | E12: =+UPPER(D12) -> “SILLA” PARA LA FIJACIÓN ELÁSTICA INDIRECTA COLOCACIÓN DE LA VÍA CON RIEL 115 R.E. | F12: =+CONCATENATE("INSERT INTO ferreo (id, plano, descripcion, archivo) VALUES(",A12,", '",B12,"', '",E12,"','",C12,".pdf');") -> INSERT INTO ferreo (id, plano, descripcion, archivo) VALUES(7, 'PMDF-09-VI.8-612000-III-006-02818-P-00', '“SILLA” PARA LA FIJACIÓN ELÁSTICA INDIRECTA COLOCACIÓN DE LA VÍA CON RIEL 115 R.E.','PMDF-09-VI.8-612000-III-0009-02818-P-00.pdf');
A13: =A12+1 -> 8 | B13: PMDF-09-VI.8-612000-III-006-02819-P-00 | C13: PMDF-09-VI.8-612000-III-0010-02819-P-00 | D13: Colocación de la vía con riel 115 R.E. vía elástica con sillas y fijaciones indirectas. Pequeño material para fijación. | E13: =+UPPER(D13) -> COLOCACIÓN DE LA VÍA CON RIEL 115 R.E. VÍA ELÁSTICA CON SILLAS Y FIJACIONES INDIRECTAS. PEQUEÑO MATERIAL PARA FIJACIÓN. | F13: =+CONCATENATE("INSERT INTO ferreo (id, plano, descripcion, archivo) VALUES(",A13,", '",B13,"', '",E13,"','",C13,".pdf');") -> INSERT INTO ferreo (id, plano, descripcion, archivo) VALUES(8, 'PMDF-09-VI.8-612000-III-006-02819-P-00', 'COLOCACIÓN DE LA VÍA CON RIEL 115 R.E. VÍA ELÁSTICA CON SILLAS Y FIJACIONES INDIRECTAS. PEQUEÑO MATERIAL PARA FIJACIÓN.','PMDF-09-VI.8-612000-III-0010-02819-P-00.pdf');
A14: =A13+1 -> 9 | B14: PMDF-09-VI.8-612000-III-006-02820-P-00 | C14: PMDF-09-VI.8-612000-III-0011-02820-P-00 | D14: Implantación de la vía con rieles 115 R.E. fijación de contra-riel 33C1. | E14: =+UPPER(D14) -> IMPLANTACIÓN DE LA VÍA CON RIELES 115 R.E. FIJACIÓN DE CONTRA-RIEL 33C1. | F14: =+CONCATENATE("INSERT INTO ferreo (id, plano, descripcion, archivo) VALUES(",A14,", '",B14,"', '",E14,"','",C14,".pdf');") -> INSERT INTO ferreo (id, plano, descripcion, archivo) VALUES(9, 'PMDF-09-VI.8-612000-III-006-02820-P-00', 'IMPLANTACIÓN DE LA VÍA CON RIELES 115 R.E. FIJACIÓN DE CONTRA-RIEL 33C1.','PMDF-09-VI.8-612000-III-0011-02820-P-00.pdf');
A15: =A14+1 -> 10 | B15: PMDF-09-VI.8-612000-III-006-02821-P-00 | C15: PMDF-09-VI.8-612000-III-0012-02821-P-00 | D15: Implantación de la vía con rieles 115 R.E. contra-riel 33C1. Detalles de los elementos para su fijación. | E15: =+UPPER(D15) -> IMPLANTACIÓN DE LA VÍA CON RIELES 115 R.E. CONTRA-RIEL 33C1. DETALLES DE LOS ELEMENTOS PARA SU FIJACIÓN. | F15: =+CONCATENATE("INSERT INTO ferreo (id, plano, descripcion, archivo) VALUES(",A15,", '",B15,"', '",E15,"','",C15,".pdf');") -> INSERT INTO ferreo (id, plano, descripcion, archivo) VALUES(10, 'PMDF-09-VI.8-612000-III-006-02821-P-00', 'IMPLANTACIÓN DE LA VÍA CON RIELES 115 R.E. CONTRA-RIEL 33C1. DETALLES DE LOS ELEMENTOS PARA SU FIJACIÓN.','PMDF-09-VI.8-612000-III-0012-02821-P-00.pdf');
A16: =A15+1 -> 11 | B16: PMDF-09-VI.8-612000-III-006-02822-P-00 | C16: PMDF-09-VI.8-612000-III-0013-02822-P-00 | D16: Junta aislante para vía con riel 115 R.E. corte del armado y detalle del pequeño material. | E16: =+UPPER(D16) -> JUNTA AISLANTE PARA VÍA CON RIEL 115 R.E. CORTE DEL ARMADO Y DETALLE DEL PEQUEÑO MATERIAL. | F16: =+CONCATENATE("INSERT INTO ferreo (id, plano, descripcion, archivo) VALUES(",A16,", '",B16,"', '",E16,"','",C16,".pdf');") -> INSERT INTO ferreo (id, plano, descripcion, archivo) VALUES(11, 'PMDF-09-VI.8-612000-III-006-02822-P-00', 'JUNTA AISLANTE PARA VÍA CON RIEL 115 R.E. CORTE DEL ARMADO Y DETALLE DEL PEQUEÑO MATERIAL.','PMDF-09-VI.8-612000-III-0013-02822-P-00.pdf');
A17: =A16+1 -> 12 | B17: PMDF-09-VI.8-612000-III-006-02824-P-00 | C17: PMDF-09-VI.8-612000-III-0015-02824-P-00 | D17: Junta mecánica para vía con rieles 115 R.E. corte del armado y detalles del pequeño material. | E17: =+UPPER(D17) -> JUNTA MECÁNICA PARA VÍA CON RIELES 115 R.E. CORTE DEL ARMADO Y DETALLES DEL PEQUEÑO MATERIAL. | F17: =+CONCATENATE("INSERT INTO ferreo (id, plano, descripcion, archivo) VALUES(",A17,", '",B17,"', '",E17,"','",C17,".pdf');") -> INSERT INTO ferreo (id, plano, descripcion, archivo) VALUES(12, 'PMDF-09-VI.8-612000-III-006-02824-P-00', 'JUNTA MECÁNICA PARA VÍA CON RIELES 115 R.E. CORTE DEL ARMADO Y DETALLES DEL PEQUEÑO MATERIAL.','PMDF-09-VI.8-612000-III-0015-02824-P-00.pdf');
A18: =A17+1 -> 13 | B18: PMDF-09-VI.8-612000-III-006-02825-P-00 | C18: PMDF-09-VI.8-612000-III-0016-02825-P-00 | D18: Almohadilla de caucho acanalada tipo "longitudinal" a utilizar en durmientes de concreto para riel 115 R.E. grapa nabla (s), grapa nabla S1 (s S1) y grapa nabla (s) (recortada). | E18: =+UPPER(D18) -> ALMOHADILLA DE CAUCHO ACANALADA TIPO "LONGITUDINAL" A UTILIZAR EN DURMIENTES DE CONCRETO PARA RIEL 115 R.E. GRAPA NABLA (S), GRAPA NABLA S1 (S S1) Y GRAPA NABLA (S) (RECORTADA). | F18: =+CONCATENATE("INSERT INTO ferreo (id, plano, descripcion, archivo) VALUES(",A18,", '",B18,"', '",E18,"','",C18,".pdf');") -> INSERT INTO ferreo (id, plano, descripcion, archivo) VALUES(13, 'PMDF-09-VI.8-612000-III-006-02825-P-00', 'ALMOHADILLA DE CAUCHO ACANALADA TIPO "LONGITUDINAL" A UTILIZAR EN DURMIENTES DE CONCRETO PARA RIEL 115 R.E. GRAPA NABLA (S), GRAPA NABLA S1 (S S1) Y GRAPA NABLA (S) (RECORTADA).','PMDF-09-VI.8-612000-III-0016-02825-P-00.pdf');
B19: PMDF-09-VI.8-612000-III-006-02827-P-00 | C19: PMDF-09-VI.8-612000-III-0018-02827-P-00 | D19: Corte y perfil de rueda metálica monobloque de ø 860. | E19: =+UPPER(D19) -> CORTE Y PERFIL DE RUEDA METÁLICA MONOBLOQUE DE Ø 860.
A20: =+A18+1 -> 14 | B20: PMDF-09-VI.8-612000-III-006-02828-P-00 | C20: PMDF-09-VI.8-612000-III-0019-02828-P-00 | D20: Distribución de durmientes (zona de aparatos de dilatación) riel 115 R.E. | E20: =+UPPER(D20) -> DISTRIBUCIÓN DE DURMIENTES (ZONA DE APARATOS DE DILATACIÓN) RIEL 115 R.E. | F20: =+CONCATENATE("INSERT INTO ferreo (id, plano, descripcion, archivo) VALUES(",A20,", '",B20,"', '",E20,"','",C20,".pdf');") -> INSERT INTO ferreo (id, plano, descripcion, archivo) VALUES(14, 'PMDF-09-VI.8-612000-III-006-02828-P-00', 'DISTRIBUCIÓN DE DURMIENTES (ZONA DE APARATOS DE DILATACIÓN) RIEL 115 R.E.','PMDF-09-VI.8-612000-III-0019-02828-P-00.pdf');
A21: =A20+1 -> 15 | B21: PMDF-09-VI.8-612000-III-006-02829-P-00 | C21: PMDF-09-VI.8-612000-III-0020-02829-P-00 | D21: Vía con riel 115 R.E. instalación sin silla en talleres maquinado de los durmientes. | E21: =+UPPER(D21) -> VÍA CON RIEL 115 R.E. INSTALACIÓN SIN SILLA EN TALLERES MAQUINADO DE LOS DURMIENTES. | F21: =+CONCATENATE("INSERT INTO ferreo (id, plano, descripcion, archivo) VALUES(",A21,", '",B21,"', '",E21,"','",C21,".pdf');") -> INSERT INTO ferreo (id, plano, descripcion, archivo) VALUES(15, 'PMDF-09-VI.8-612000-III-006-02829-P-00', 'VÍA CON RIEL 115 R.E. INSTALACIÓN SIN SILLA EN TALLERES MAQUINADO DE LOS DURMIENTES.','PMDF-09-VI.8-612000-III-0020-02829-P-00.pdf');
A22: =A21+1 -> 16 | B22: PMDF-09-VI.8612000-III-006-02830-P-00 | C22: PMDF-09-VI.8-612000-III-0021-02830-P-00 | D22: Junta mecánica planchuela tipo (AREMA) "Head Free" para vía con rieles 115 R.E. corte del armado y detalle del pequeño material. | E22: =+UPPER(D22) -> JUNTA MECÁNICA PLANCHUELA TIPO (AREMA) "HEAD FREE" PARA VÍA CON RIELES 115 R.E. CORTE DEL ARMADO Y DETALLE DEL PEQUEÑO MATERIAL. | F22: =+CONCATENATE("INSERT INTO ferreo (id, plano, descripcion, archivo) VALUES(",A22,", '",B22,"', '",E22,"','",C22,".pdf');") -> INSERT INTO ferreo (id, plano, descripcion, archivo) VALUES(16, 'PMDF-09-VI.8612000-III-006-02830-P-00', 'JUNTA MECÁNICA PLANCHUELA TIPO (AREMA) "HEAD FREE" PARA VÍA CON RIELES 115 R.E. CORTE DEL ARMADO Y DETALLE DEL PEQUEÑO MATERIAL.','PMDF-09-VI.8-612000-III-0021-02830-P-00.pdf');
A23: =A22+1 -> 17 | B23: PMDF-09-VI.8-612000-III-006-02831-P-00 | C23: PMDF-09-VI.8-612000-III-0022-02831-P-00 | D23: Montaje de junta mecánica (Planchuela Head Free) con rieles 115 R.E. | E23: =+UPPER(D23) -> MONTAJE DE JUNTA MECÁNICA (PLANCHUELA HEAD FREE) CON RIELES 115 R.E. | F23: =+CONCATENATE("INSERT INTO ferreo (id, plano, descripcion, archivo) VALUES(",A23,", '",B23,"', '",E23,"','",C23,".pdf');") -> INSERT INTO ferreo (id, plano, descripcion, archivo) VALUES(17, 'PMDF-09-VI.8-612000-III-006-02831-P-00', 'MONTAJE DE JUNTA MECÁNICA (PLANCHUELA HEAD FREE) CON RIELES 115 R.E.','PMDF-09-VI.8-612000-III-0022-02831-P-00.pdf');
A24: =A23+1 -> 18 | B24: PMDF-09-VI.8-612000-III-006-02833-P-00 | C24: PMDF-09-VI.8-612000-III-0024-02833-P-00 | D24: Vía de 1435 - con inclinación 1/20 riel 115 R.E. - aguja AM71 de izquierda Tg. 0.13 y Tg. 0.20 detalle. | E24: =+UPPER(D24) -> VÍA DE 1435 - CON INCLINACIÓN 1/20 RIEL 115 R.E. - AGUJA AM71 DE IZQUIERDA TG. 0.13 Y TG. 0.20 DETALLE. | F24: =+CONCATENATE("INSERT INTO ferreo (id, plano, descripcion, archivo) VALUES(",A24,", '",B24,"', '",E24,"','",C24,".pdf');") -> INSERT INTO ferreo (id, plano, descripcion, archivo) VALUES(18, 'PMDF-09-VI.8-612000-III-006-02833-P-00', 'VÍA DE 1435 - CON INCLINACIÓN 1/20 RIEL 115 R.E. - AGUJA AM71 DE IZQUIERDA TG. 0.13 Y TG. 0.20 DETALLE.','PMDF-09-VI.8-612000-III-0024-02833-P-00.pdf');
A25: =A24+1 -> 19 | B25: PMDF-09-VI.8-612000-III-006-02834-P-00 | C25: PMDF-09-VI.8-612000-III-0025-02834-P-00 | D25: Vía de 1435 - puesta al grado de riel 115 R.E. contra-aguja 115 R.E. de izquierda Tg. 0.13, Tg. 0.20 detalle y derecha. | E25: =+UPPER(D25) -> VÍA DE 1435 - PUESTA AL GRADO DE RIEL 115 R.E. CONTRA-AGUJA 115 R.E. DE IZQUIERDA TG. 0.13, TG. 0.20 DETALLE Y DERECHA. | F25: =+CONCATENATE("INSERT INTO ferreo (id, plano, descripcion, archivo) VALUES(",A25,", '",B25,"', '",E25,"','",C25,".pdf');") -> INSERT INTO ferreo (id, plano, descripcion, archivo) VALUES(19, 'PMDF-09-VI.8-612000-III-006-02834-P-00', 'VÍA DE 1435 - PUESTA AL GRADO DE RIEL 115 R.E. CONTRA-AGUJA 115 R.E. DE IZQUIERDA TG. 0.13, TG. 0.20 DETALLE Y DERECHA.','PMDF-09-VI.8-612000-III-0025-02834-P-00.pdf');
A26: =A25+1 -> 20 | B26: PMDF-09-VI.8-612000-III-006-02909-P-00 | C26: PMDF-09-VI.8-612000-III-0026-02909-P-00 | D26: Vía de 1435 - con inclinación 1/20 riel 115 R.E. cruzamiento Tg. 0.13 a derecha plano de conjunto y cruzamiento a derecha Tg. 0.20 ensamble. | E26: =+UPPER(D26) -> VÍA DE 1435 - CON INCLINACIÓN 1/20 RIEL 115 R.E. CRUZAMIENTO TG. 0.13 A DERECHA PLANO DE CONJUNTO Y CRUZAMIENTO A DERECHA TG. 0.20 ENSAMBLE. | F26: =+CONCATENATE("INSERT INTO ferreo (id, plano, descripcion, archivo) VALUES(",A26,", '",B26,"', '",E26,"','",C26,".pdf');") -> INSERT INTO ferreo (id, plano, descripcion, archivo) VALUES(20, 'PMDF-09-VI.8-612000-III-006-02909-P-00', 'VÍA DE 1435 - CON INCLINACIÓN 1/20 RIEL 115 R.E. CRUZAMIENTO TG. 0.13 A DERECHA PLANO DE CONJUNTO Y CRUZAMIENTO A DERECHA TG. 0.20 ENSAMBLE.','PMDF-09-VI.8-612000-III-0026-02909-P-00.pdf');
A27: =A26+1 -> 21 | B27: PMDF-09-VI.8612000-III-006-02910-P-00 | C27: PMDF-09-VI.8-612000-III-0027-02910-P-00 | D27: Vía de 1435 - con inclinación 1/20 parte central de la comunicación Tg. 0.13 entre ejes de vías 3600 plano de conjunto. | E27: =+UPPER(D27) -> VÍA DE 1435 - CON INCLINACIÓN 1/20 PARTE CENTRAL DE LA COMUNICACIÓN TG. 0.13 ENTRE EJES DE VÍAS 3600 PLANO DE CONJUNTO. | F27: =+CONCATENATE("INSERT INTO ferreo (id, plano, descripcion, archivo) VALUES(",A27,", '",B27,"', '",E27,"','",C27,".pdf');") -> INSERT INTO ferreo (id, plano, descripcion, archivo) VALUES(21, 'PMDF-09-VI.8612000-III-006-02910-P-00', 'VÍA DE 1435 - CON INCLINACIÓN 1/20 PARTE CENTRAL DE LA COMUNICACIÓN TG. 0.13 ENTRE EJES DE VÍAS 3600 PLANO DE CONJUNTO.','PMDF-09-VI.8-612000-III-0027-02910-P-00.pdf');
A28: =A27+1 -> 22 | B28: PMDF-09-VI.8-612000-III-006-02911-P-00 | C28: PMDF-09-VI.8-612000-III-0028-02911-P-00 | D28: Vía de 1435 - con inclinación 1/20 riel 115 R.E. montaje contra-riel 115 R.E. desvío Tg. 0.13 plano de conjunto. | E28: =+UPPER(D28) -> VÍA DE 1435 - CON INCLINACIÓN 1/20 RIEL 115 R.E. MONTAJE CONTRA-RIEL 115 R.E. DESVÍO TG. 0.13 PLANO DE CONJUNTO. | F28: =+CONCATENATE("INSERT INTO ferreo (id, plano, descripcion, archivo) VALUES(",A28,", '",B28,"', '",E28,"','",C28,".pdf');") -> INSERT INTO ferreo (id, plano, descripcion, archivo) VALUES(22, 'PMDF-09-VI.8-612000-III-006-02911-P-00', 'VÍA DE 1435 - CON INCLINACIÓN 1/20 RIEL 115 R.E. MONTAJE CONTRA-RIEL 115 R.E. DESVÍO TG. 0.13 PLANO DE CONJUNTO. ','PMDF-09-VI.8-612000-III-0028-02911-P-00.pdf');
A29: =A28+1 -> 23 | B29: PMDF-09-VI.8-612000-III-006-02912-P-00 | C29: PMDF-09-VI.8-612000-III-0029-02912-P-00 | D29: Vía de 1435 - con inclinación 1/20 dispoaitivo de maniobra para aguja Tg. 0.13 montaje de cerrojo V.C.C. (Verrou Carter Coussinet). | E29: =+UPPER(D29) -> VÍA DE 1435 - CON INCLINACIÓN 1/20 DISPOAITIVO DE MANIOBRA PARA AGUJA TG. 0.13 MONTAJE DE CERROJO V.C.C. (VERROU CARTER COUSSINET). | F29: =+CONCATENATE("INSERT INTO ferreo (id, plano, descripcion, archivo) VALUES(",A29,", '",B29,"', '",E29,"','",C29,".pdf');") -> INSERT INTO ferreo (id, plano, descripcion, archivo) VALUES(23, 'PMDF-09-VI.8-612000-III-006-02912-P-00', 'VÍA DE 1435 - CON INCLINACIÓN 1/20 DISPOAITIVO DE MANIOBRA PARA AGUJA TG. 0.13 MONTAJE DE CERROJO V.C.C. (VERROU CARTER COUSSINET).','PMDF-09-VI.8-612000-III-0029-02912-P-00.pdf');
A30: =A29+1 -> 24 | B30: PMDF-09-VI.8-612000-III-006-02913-P-00 | C30: PMDF-09-VI.8-612000-III-0030-02913-P-00 | D30: Vía de 1435 - con inclinación 1/20, dispositivo de maniobra para aguja Tg. 0.13, montaje de cerrojo axial. | E30: =+UPPER(D30) -> VÍA DE 1435 - CON INCLINACIÓN 1/20, DISPOSITIVO DE MANIOBRA PARA AGUJA TG. 0.13, MONTAJE DE CERROJO AXIAL. | F30: =+CONCATENATE("INSERT INTO ferreo (id, plano, descripcion, archivo) VALUES(",A30,", '",B30,"', '",E30,"','",C30,".pdf');") -> INSERT INTO ferreo (id, plano, descripcion, archivo) VALUES(24, 'PMDF-09-VI.8-612000-III-006-02913-P-00', 'VÍA DE 1435 - CON INCLINACIÓN 1/20, DISPOSITIVO DE MANIOBRA PARA AGUJA TG. 0.13, MONTAJE DE CERROJO AXIAL.','PMDF-09-VI.8-612000-III-0030-02913-P-00.pdf');
A31: =A30+1 -> 25 | B31: PMDF-09-VI.8-612000-III-006-02914-P-00 | C31: PMDF-09-VI.8-612000-III-0031-02914-P-00 | D31: Vía de 1435 - con inclinación 1/20 dispositivo de maniobra para aguja Tg. 0.20 montaje del cerrojo V.C.C. (Verrou Carter Coussinet) y montaje de varillas modelo 70 con TR44 o equivalente. | E31: =+UPPER(D31) -> VÍA DE 1435 - CON INCLINACIÓN 1/20 DISPOSITIVO DE MANIOBRA PARA AGUJA TG. 0.20 MONTAJE DEL CERROJO V.C.C. (VERROU CARTER COUSSINET) Y MONTAJE DE VARILLAS MODELO 70 CON TR44 O EQUIVALENTE. | F31: =+CONCATENATE("INSERT INTO ferreo (id, plano, descripcion, archivo) VALUES(",A31,", '",B31,"', '",E31,"','",C31,".pdf');") -> INSERT INTO ferreo (id, plano, descripcion, archivo) VALUES(25, 'PMDF-09-VI.8-612000-III-006-02914-P-00', 'VÍA DE 1435 - CON INCLINACIÓN 1/20 DISPOSITIVO DE MANIOBRA PARA AGUJA TG. 0.20 MONTAJE DEL CERROJO V.C.C. (VERROU CARTER COUSSINET) Y MONTAJE DE VARILLAS MODELO 70 CON TR44 O EQUIVALENTE.','PMDF-09-VI.8-612000-III-0031-02914-P-00.pdf');
A32: =A31+1 -> 26 | B32: PMDF-09-VI.8-612000-III-006-02915-P-00 | C32: PMDF-09-VI.8-612000-III-0032-02915-P-00 | D32: Vía de 1435 - con inclinación 1/20 desviación - zona de agujas Tg. 0.13 plano de conjunto. | E32: =+UPPER(D32) -> VÍA DE 1435 - CON INCLINACIÓN 1/20 DESVIACIÓN - ZONA DE AGUJAS TG. 0.13 PLANO DE CONJUNTO. | F32: =+CONCATENATE("INSERT INTO ferreo (id, plano, descripcion, archivo) VALUES(",A32,", '",B32,"', '",E32,"','",C32,".pdf');") -> INSERT INTO ferreo (id, plano, descripcion, archivo) VALUES(26, 'PMDF-09-VI.8-612000-III-006-02915-P-00', 'VÍA DE 1435 - CON INCLINACIÓN 1/20 DESVIACIÓN - ZONA DE AGUJAS TG. 0.13 PLANO DE CONJUNTO.','PMDF-09-VI.8-612000-III-0032-02915-P-00.pdf');
... A46: =A45+1 -> 40 | B46: PMDF-09-VI.8-612000-III-0059-02942-P-00 | C46: PMDF-09-VI.8-612000-III-0059-02942-P-00 | D46: Tope de arena colocado al final de la vía sobre balasto en la zona de depósitos. | E46: =+UPPER(D46) -> TOPE DE ARENA COLOCADO AL FINAL DE LA VÍA SOBRE BALASTO EN LA ZONA DE DEPÓSITOS. | F46: =+CONCATENATE("INSERT INTO ferreo (id, plano, descripcion, archivo) VALUES(",A46,", '",B46,"', '",E46,"','",C46,".pdf');") -> INSERT INTO ferreo (id, plano, descripcion, archivo) VALUES(40, 'PMDF-09-VI.8-612000-III-0059-02942-P-00', 'TOPE DE ARENA COLOCADO AL FINAL DE LA VÍA SOBRE BALASTO EN LA ZONA DE DEPÓSITOS.','PMDF-09-VI.8-612000-III-0059-02942-P-00.pdf');

Sheet SQL detalles
A1: 1 | B1: DURMIENTE DE CONCRETO BIBLOCK TIPO "SO" CON PERNO DE 22 MM. | C1: =+CONCATENATE("INSERT INTO detalles (id, detalles) VALUES(",A1,", '",B1,"');") -> INSERT INTO detalles (id, detalles) VALUES(1, 'DURMIENTE DE CONCRETO BIBLOCK TIPO "SO" CON PERNO DE 22 MM.');
A2: 2 | B2: DURMIENTE DE CONCRETO MONOLITICO TIPO "S" CON PERNO DE 22 MM | C2: =+CONCATENATE("INSERT INTO detalles (id, detalles) VALUES(",A2,", '",B2,"');") -> INSERT INTO detalles (id, detalles) VALUES(2, 'DURMIENTE DE CONCRETO MONOLITICO TIPO "S" CON PERNO DE 22 MM');
A3: 3 | B3: DURMIENTE DE CONCRETO MONOLITICO TIPO "SO" CON PERNO DE 22 MM | C3: =+CONCATENATE("INSERT INTO detalles (id, detalles) VALUES(",A3,", '",B3,"');") -> INSERT INTO detalles (id, detalles) VALUES(3, 'DURMIENTE DE CONCRETO MONOLITICO TIPO "SO" CON PERNO DE 22 MM');
A4: 4 | B4: COMUNICACIÓN TG. 0.13 DE 4.2 A DERECHA AJUSTE DE BARRA GUIA Y MONTAJES | C4: =+CONCATENATE("INSERT INTO detalles (id, detalles) VALUES(",A4,", '",B4,"');") -> INSERT INTO detalles (id, detalles) VALUES(4, 'COMUNICACIÓN TG. 0.13 DE 4.2 A DERECHA AJUSTE DE BARRA GUIA Y MONTAJES');
A5: 5 | B5: COMUNICACIÓN TG. 0.13 DE 4.2 A IZQUIERDA AJUSTE DE BARRA GUIA Y MONTAJES | C5: =+CONCATENATE("INSERT INTO detalles (id, detalles) VALUES(",A5,", '",B5,"');") -> INSERT INTO detalles (id, detalles) VALUES(5, 'COMUNICACIÓN TG. 0.13 DE 4.2 A IZQUIERDA AJUSTE DE BARRA GUIA Y MONTAJES');
A6: 6 | B6: COMUNICACIÓN TG. 0.13 DE 4.2 A IZQUIERDA CON DESVIO A LA DERECHA AJUSTE DE BARRA GUIA Y MONTAJES | C6: =+CONCATENATE("INSERT INTO detalles (id, detalles) VALUES(",A6,", '",B6,"');") -> INSERT INTO detalles (id, detalles) VALUES(6, 'COMUNICACIÓN TG. 0.13 DE 4.2 A IZQUIERDA CON DESVIO A LA DERECHA AJUSTE DE BARRA GUIA Y MONTAJES');
A7: 7 | B7: COMUNICACIÓN TG. 0.13 DE 4.2 A DERECHA CON DESVIO A LA IZQUIERDA AJUSTE DE BARRA GUIA Y MONTAJES | C7: =+CONCATENATE("INSERT INTO detalles (id, detalles) VALUES(",A7,", '",B7,"');") -> INSERT INTO detalles (id, detalles) VALUES(7, 'COMUNICACIÓN TG. 0.13 DE 4.2 A DERECHA CON DESVIO A LA IZQUIERDA AJUSTE DE BARRA GUIA Y MONTAJES');
A8: 8 | B8: ZONA NEUTRA DE 3 BLOCKS AISLANTES CORTE EN "Z". | C8: =+CONCATENATE("INSERT INTO detalles (id, detalles) VALUES(",A8,", '",B8,"');") -> INSERT INTO detalles (id, detalles) VALUES(8, 'ZONA NEUTRA DE 3 BLOCKS AISLANTES CORTE EN "Z".');
A9: 9 | B9: CORTE DE VIA RECTA CON TRENES EN TUNEL DURMIENTE DE CONCRETO. | C9: =+CONCATENATE("INSERT INTO detalles (id, detalles) VALUES(",A9,", '",B9,"');") -> INSERT INTO detalles (id, detalles) VALUES(9, 'CORTE DE VIA RECTA CON TRENES EN TUNEL DURMIENTE DE CONCRETO.');
A10: 10 | B10: CORTE DE VIA EN RECTA ELEVADA CON TRENES Y DURMIENTE DE CONCRETO. | C10: =+CONCATENATE("INSERT INTO detalles (id, detalles) VALUES(",A10,", '",B10,"');") -> INSERT INTO detalles (id, detalles) VALUES(10, 'CORTE DE VIA EN RECTA ELEVADA CON TRENES Y DURMIENTE DE CONCRETO.');
A11: 11 | B11: CORTE DE VIA CURVA CON TRENES EN CAJON. | C11: =+CONCATENATE("INSERT INTO detalles (id, detalles) VALUES(",A11,", '",B11,"');") -> INSERT INTO detalles (id, detalles) VALUES(11, 'CORTE DE VIA CURVA CON TRENES EN CAJON.');
A12: 12 | B12: CORTE DE VIA EN ESTACION ELEVADA DE LINEA B CON ANDEN LATERAL. | C12: =+CONCATENATE("INSERT INTO detalles (id, detalles) VALUES(",A12,", '",B12,"');") -> INSERT INTO detalles (id, detalles) VALUES(12, 'CORTE DE VIA EN ESTACION ELEVADA DE LINEA B CON ANDEN LATERAL.');
... A203: 91 | B203: COMUNICACIÓN TG. 0.13 DE 5.0 A DERECHA GEOMETRIA | C203: =+CONCATENATE("INSERT INTO detalles (id, detalles) VALUES(",A203,", '",B203,"');") -> INSERT INTO detalles (id, detalles) VALUES(91, 'COMUNICACIÓN TG. 0.13 DE 5.0 A DERECHA GEOMETRIA ');

Sheet SQL detallesf
A1: 1 | B1: JUNTA AISLANTE PEGADA RIEL 115 RE | C1: =+CONCATENATE("INSERT INTO detallesf (id, detalles) VALUES(",A1,", '",B1,"');") -> INSERT INTO detallesf (id, detalles) VALUES(1, 'JUNTA AISLANTE PEGADA RIEL 115 RE');
A2: 2 | B2: APARATO DE DILATACIÓN RIELES 115 RE | C2: =+CONCATENATE("INSERT INTO detallesf (id, detalles) VALUES(",A2,", '",B2,"');") -> INSERT INTO detallesf (id, detalles) VALUES(2, 'APARATO DE DILATACIÓN RIELES 115 RE');
A3: 3 | B3: APARATO DE DILATACIÓN RIELES 115 RE | C3: =+CONCATENATE("INSERT INTO detallesf (id, detalles) VALUES(",A3,", '",B3,"');") -> INSERT INTO detallesf (id, detalles) VALUES(3, 'APARATO DE DILATACIÓN RIELES 115 RE');
A4: 4 | B4: APARATO DE DILATACIÓN RIELES 115 RE | C4: =+CONCATENATE("INSERT INTO detallesf (id, detalles) VALUES(",A4,", '",B4,"');") -> INSERT INTO detallesf (id, detalles) VALUES(4, 'APARATO DE DILATACIÓN RIELES 115 RE');
A5: 5 | B5: IMPLANTACIÓN DE VÍA RIEL 115 RE | C5: =+CONCATENATE("INSERT INTO detallesf (id, detalles) VALUES(",A5,", '",B5,"');") -> INSERT INTO detallesf (id, detalles) VALUES(5, 'IMPLANTACIÓN DE VÍA RIEL 115 RE');
A6: 6 | B6: IMPLANTACIÓN DE VÍA RIEL 115 RE | C6: =+CONCATENATE("INSERT INTO detallesf (id, detalles) VALUES(",A6,", '",B6,"');") -> INSERT INTO detallesf (id, detalles) VALUES(6, 'IMPLANTACIÓN DE VÍA RIEL 115 RE');
A7: 7 | B7: IMPLANTACIÓN DE VÍA RIEL 115 RE | C7: =+CONCATENATE("INSERT INTO detallesf (id, detalles) VALUES(",A7,", '",B7,"');") -> INSERT INTO detallesf (id, detalles) VALUES(7, 'IMPLANTACIÓN DE VÍA RIEL 115 RE');
A8: 8 | B8: IMPLANTACIÓN DE VÍA RIEL 115 RE | C8: =+CONCATENATE("INSERT INTO detallesf (id, detalles) VALUES(",A8,", '",B8,"');") -> INSERT INTO detallesf (id, detalles) VALUES(8, 'IMPLANTACIÓN DE VÍA RIEL 115 RE');
A9: 9 | B9: IMPLANTACIÓN DE VÍA RIEL 115 RE | C9: =+CONCATENATE("INSERT INTO detallesf (id, detalles) VALUES(",A9,", '",B9,"');") -> INSERT INTO detallesf (id, detalles) VALUES(9, 'IMPLANTACIÓN DE VÍA RIEL 115 RE');
A10: 10 | B10: IMPLANTACIÓN DE VÍA RIEL 115 RE | C10: =+CONCATENATE("INSERT INTO detallesf (id, detalles) VALUES(",A10,", '",B10,"');") -> INSERT INTO detallesf (id, detalles) VALUES(10, 'IMPLANTACIÓN DE VÍA RIEL 115 RE');
A11: 11 | B11: JUNTA AISLANTE ORDINARIA RIEL 115 RE | C11: =+CONCATENATE("INSERT INTO detallesf (id, detalles) VALUES(",A11,", '",B11,"');") -> INSERT INTO detallesf (id, detalles) VALUES(11, 'JUNTA AISLANTE ORDINARIA RIEL 115 RE');
A12: 12 | B12: JUNTA MECÁNICA RIEL 115 RE | C12: =+CONCATENATE("INSERT INTO detallesf (id, detalles) VALUES(",A12,", '",B12,"');") -> INSERT INTO detallesf (id, detalles) VALUES(12, 'JUNTA MECÁNICA RIEL 115 RE');
... A40: 40 | B40: TOPE DE FIN DE VÍA | C40: =+CONCATENATE("INSERT INTO detallesf (id, detalles) VALUES(",A40,", '",B40,"');") -> INSERT INTO detallesf (id, detalles) VALUES(40, 'TOPE DE FIN DE VÍA');

Sheet SQL especificacionesref - ERRAT
A2: id | B2: et REF | C2: archivo
A3: 1 | B3: E. F. 3 | C3: EF 03 | D3: 2.3 ESPECIFICACIONES TECNICAS 2018 | E3: =+CONCATENATE("INSERT INTO especificacionesref (id, especificacion) VALUES(",A3,", '",C3,"');") -> INSERT INTO especificacionesref (id, especificacion) VALUES(1, 'EF 03');
A4: 2 | B4: E. F. 5 | C4: E.F. 5 Mod. 0 | D4: 2.1 ESPECIFICACIONES TECNICAS | E4: =+CONCATENATE("INSERT INTO especificacionesref (id, especificacion) VALUES(",A4,", '",C4,"');") -> INSERT INTO especificacionesref (id, especificacion) VALUES(2, 'E.F. 5 Mod. 0');
A5: 3 | B5: E. F. 6 | C5: E.F. 6 Mod. 0 | D5: 2.1 ESPECIFICACIONES TECNICAS | E5: =+CONCATENATE("INSERT INTO especificacionesref (id, especificacion) VALUES(",A5,", '",C5,"');") -> INSERT INTO especificacionesref (id, especificacion) VALUES(3, 'E.F. 6 Mod. 0');
A6: 4
A7: 5
A8: 6
A9: 7
A10: 8 | B10: 30A | C10: ET 30A | D10: 2.3 ESPECIFICACIONES TECNICAS 2018 | E10: =+CONCATENATE("INSERT INTO especificacionesref (id, especificacion) VALUES(",A10,", '",C10,"');") -> INSERT INTO especificacionesref (id, especificacion) VALUES(8, 'ET 30A');
A11: 8 | B11: 30C | C11: ET 30C | D11: 2.3 ESPECIFICACIONES TECNICAS 2018 | E11: =+CONCATENATE("INSERT INTO especificacionesref (id, especificacion) VALUES(",A11,", '",C11,"');") -> INSERT INTO especificacionesref (id, especificacion) VALUES(8, 'ET 30C');
A12: 9
A13: 10
A14: 11
A15: 12
A16: 13
A17: 14
A18: 15 | B18: E. F. 1 | C18: E.F. 1 Mod. 0 | D18: 2.1 ESPECIFICACIONES TECNICAS | E18: =+CONCATENATE("INSERT INTO especificacionesref (id, especificacion) VALUES(",A18,", '",C18,"');") -> INSERT INTO especificacionesref (id, especificacion) VALUES(15, 'E.F. 1 Mod. 0');
A19: 16 | B19: E. F. 2 | C19: E.F. 2 Mod. 0 | D19: 2.1 ESPECIFICACIONES TECNICAS | E19: =+CONCATENATE("INSERT INTO especificacionesref (id, especificacion) VALUES(",A19,", '",C19,"');") -> INSERT INTO especificacionesref (id, especificacion) VALUES(16, 'E.F. 2 Mod. 0');
A20: 17 | B20: E. F. 4 | C20: E.F. 4 TIPO O MONO | E20: =+CONCATENATE("INSERT INTO especificacionesref (id, especificacion) VALUES(",A20,", '",C20,"');") -> INSERT INTO especificacionesref (id, especificacion) VALUES(17, 'E.F. 4 TIPO O MONO');
A21: 18 | B21: 30A | C21: ET 30A | D21: 2.3 ESPECIFICACIONES TECNICAS 2018 | E21: =+CONCATENATE("INSERT INTO especificacionesref (id, especificacion) VALUES(",A21,", '",C21,"');") -> INSERT INTO especificacionesref (id, especificacion) VALUES(18, 'ET 30A');
A22: 18 | B22: 30C | C22: ET 30C | D22: 2.3 ESPECIFICACIONES TECNICAS 2018 | E22: =+CONCATENATE("INSERT INTO especificacionesref (id, especificacion) VALUES(",A22,", '",C22,"');") -> INSERT INTO especificacionesref (id, especificacion) VALUES(18, 'ET 30C');
A23: 19 | B23: 30C | C23: ET 30C | D23: 2.3 ESPECIFICACIONES TECNICAS 2018 | E23: =+CONCATENATE("INSERT INTO especificacionesref (id, especificacion) VALUES(",A23,", '",C23,"');") -> INSERT INTO especificacionesref (id, especificacion) VALUES(19, 'ET 30C');
A24: 20 | B24: 1C | C24: ET 01C | D24: 2.3 ESPECIFICACIONES TECNICAS 2018 | E24: =+CONCATENATE("INSERT INTO especificacionesref (id, especificacion) VALUES(",A24,", '",C24,"');") -> INSERT INTO especificacionesref (id, especificacion) VALUES(20, 'ET 01C');
A25: 20 | B25: 2C | C25: ET 02C | D25: 2.3 ESPECIFICACIONES TECNICAS 2018 | E25: =+CONCATENATE("INSERT INTO especificacionesref (id, especificacion) VALUES(",A25,", '",C25,"');") -> INSERT INTO especificacionesref (id, especificacion) VALUES(20, 'ET 02C');
A26: 20 | B26: 13C | C26: ET 13C | D26: 2.3 ESPECIFICACIONES TECNICAS 2018 | E26: =+CONCATENATE("INSERT INTO especificacionesref (id, especificacion) VALUES(",A26,", '",C26,"');") -> INSERT INTO especificacionesref (id, especificacion) VALUES(20, 'ET 13C');
A27: 20 | B27: 9C | C27: E.T. 9 Mod. C | D27: 2.3 ESPECIFICACIONES TECNICAS 2018 | E27: =+CONCATENATE("INSERT INTO especificacionesref (id, especificacion) VALUES(",A27,", '",C27,"');") -> INSERT INTO especificacionesref (id, especificacion) VALUES(20, 'E.T. 9 Mod. C');
A28: 21 | B28: 1C | C28: ET 01C | D28: 2.3 ESPECIFICACIONES TECNICAS 2018 | E28: =+CONCATENATE("INSERT INTO especificacionesref (id, especificacion) VALUES(",A28,", '",C28,"');") -> INSERT INTO especificacionesref (id, especificacion) VALUES(21, 'ET 01C');
A29: 21 | B29: 2C | C29: ET 02C | D29: 2.3 ESPECIFICACIONES TECNICAS 2018 | E29: =+CONCATENATE("INSERT INTO especificacionesref (id, especificacion) VALUES(",A29,", '",C29,"');") -> INSERT INTO especificacionesref (id, especificacion) VALUES(21, 'ET 02C');
A30: 21 | B30: 13C | C30: ET 13C | D30: 2.3 ESPECIFICACIONES TECNICAS 2018 | E30: =+CONCATENATE("INSERT INTO especificacionesref (id, especificacion) VALUES(",A30,", '",C30,"');") -> INSERT INTO especificacionesref (id, especificacion) VALUES(21, 'ET 13C');
A31: 21 | B31: 9C | C31: E.T. 9 Mod. C | D31: 2.3 ESPECIFICACIONES TECNICAS 2018 | E31: =+CONCATENATE("INSERT INTO especificacionesref (id, especificacion) VALUES(",A31,", '",C31,"');") -> INSERT INTO especificacionesref (id, especificacion) VALUES(21, 'E.T. 9 Mod. C');
A32: 22 | B32: 30A | C32: ET 30A | D32: 2.3 ESPECIFICACIONES TECNICAS 2018 | E32: =+CONCATENATE("INSERT INTO especificacionesref (id, especificacion) VALUES(",A32,", '",C32,"');") -> INSERT INTO especificacionesref (id, especificacion) VALUES(22, 'ET 30A');
... A79: 40 | B79: 1C | C79: ET 01C | D79: 2.3 ESPECIFICACIONES TECNICAS 2018 | E79: =+CONCATENATE("INSERT INTO especificacionesref (id, especificacion) VALUES(",A79,", '",C79,"');") -> INSERT INTO especificacionesref (id, especificacion) VALUES(40, 'ET 01C');
A80: 41
A81: 42
A82: 43 | B82: 12C | C82: ET 12C | D82: 2.3 ESPECIFICACIONES TECNICAS 2018 | E82: =+CONCATENATE("INSERT INTO especificacionesref (id, especificacion) VALUES(",A82,", '",C82,"');") -> INSERT INTO especificacionesref (id, especificacion) VALUES(43, 'ET 12C');
A83: 43 | B83: 2C | C83: ET 02C | D83: 2.3 ESPECIFICACIONES TECNICAS 2018 | E83: =+CONCATENATE("INSERT INTO especificacionesref (id, especificacion) VALUES(",A83,", '",C83,"');") -> INSERT INTO especificacionesref (id, especificacion) VALUES(43, 'ET 02C');
A84: 44 | B84: 13B | C84: ET 13B | D84: 2.3 ESPECIFICACIONES TECNICAS 2018 | E84: =+CONCATENATE("INSERT INTO especificacionesref (id, especificacion) VALUES(",A84,", '",C84,"');") -> INSERT INTO especificacionesref (id, especificacion) VALUES(44, 'ET 13B');
A85: 44 | B85: 13C | C85: ET 13C | D85: 2.3 ESPECIFICACIONES TECNICAS 2018 | E85: =+CONCATENATE("INSERT INTO especificacionesref (id, especificacion) VALUES(",A85,", '",C85,"');") -> INSERT INTO especificacionesref (id, especificacion) VALUES(44, 'ET 13C');
A86: 45 | B86: 30C | C86: ET 30C | D86: 2.3 ESPECIFICACIONES TECNICAS 2018 | E86: =+CONCATENATE("INSERT INTO especificacionesref (id, especificacion) VALUES(",A86,", '",C86,"');") -> INSERT INTO especificacionesref (id, especificacion) VALUES(45, 'ET 30C');
A87: 46 | B87: 1C | C87: ET 01C | D87: 2.3 ESPECIFICACIONES TECNICAS 2018 | E87: =+CONCATENATE("INSERT INTO especificacionesref (id, especificacion) VALUES(",A87,", '",C87,"');") -> INSERT INTO especificacionesref (id, especificacion) VALUES(46, 'ET 01C');
A88: 47 | B88: 1C | C88: ET 01C | D88: 2.3 ESPECIFICACIONES TECNICAS 2018 | E88: =+CONCATENATE("INSERT INTO especificacionesref (id, especificacion) VALUES(",A88,", '",C88,"');") -> INSERT INTO especificacionesref (id, especificacion) VALUES(47, 'ET 01C');
A89: 48 | B89: 1C | C89: ET 01C | D89: 2.3 ESPECIFICACIONES TECNICAS 2018 | E89: =+CONCATENATE("INSERT INTO especificacionesref (id, especificacion) VALUES(",A89,", '",C89,"');") -> INSERT INTO especificacionesref (id, especificacion) VALUES(48, 'ET 01C');
A90: 49 | B90: 1C | C90: ET 01C | D90: 2.3 ESPECIFICACIONES TECNICAS 2018 | E90: =+CONCATENATE("INSERT INTO especificacionesref (id, especificacion) VALUES(",A90,", '",C90,"');") -> INSERT INTO especificacionesref (id, especificacion) VALUES(49, 'ET 01C');
A91: 50 | B91: 1C | C91: ET 01C | D91: 2.3 ESPECIFICACIONES TECNICAS 2018 | E91: =+CONCATENATE("INSERT INTO especificacionesref (id, especificacion) VALUES(",A91,", '",C91,"');") -> INSERT INTO especificacionesref (id, especificacion) VALUES(50, 'ET 01C');
A92: 51 | B92: 13B | C92: ET 13B | D92: 2.3 ESPECIFICACIONES TECNICAS 2018 | E92: =+CONCATENATE("INSERT INTO especificacionesref (id, especificacion) VALUES(",A92,", '",C92,"');") -> INSERT INTO especificacionesref (id, especificacion) VALUES(51, 'ET 13B');
A93: 51 | B93: 13C | C93: ET 13C | D93: 2.3 ESPECIFICACIONES TECNICAS 2018 | E93: =+CONCATENATE("INSERT INTO especificacionesref (id, especificacion) VALUES(",A93,", '",C93,"');") -> INSERT INTO especificacionesref (id, especificacion) VALUES(51, 'ET 13C');
A94: 52
A95: 53 | B95: 30C | C95: ET 30C | D95: 2.3 ESPECIFICACIONES TECNICAS 2018 | E95: =+CONCATENATE("INSERT INTO especificacionesref (id, especificacion) VALUES(",A95,", '",C95,"');") -> INSERT INTO especificacionesref (id, especificacion) VALUES(53, 'ET 30C');
A96: 54
A97: 55
A98: 56
A99: 57
A100: 58
A101: 59
A102: 60 | B102: 30A | C102: ET 30A | D102: 2.3 ESPECIFICACIONES TECNICAS 2018 | E102: =+CONCATENATE("INSERT INTO especificacionesref (id, especificacion) VALUES(",A102,", '",C102,"');") -> INSERT INTO especificacionesref (id, especificacion) VALUES(60, 'ET 30A');
A103: 60 | B103: 30C | C103: ET 30C | D103: 2.3 ESPECIFICACIONES TECNICAS 2018 | E103: =+CONCATENATE("INSERT INTO especificacionesref (id, especificacion) VALUES(",A103,", '",C103,"');") -> INSERT INTO especificacionesref (id, especificacion) VALUES(60, 'ET 30C');
A104: 61 | B104: 1C | C104: ET 01C | D104: 2.3 ESPECIFICACIONES TECNICAS 2018 | E104: =+CONCATENATE("INSERT INTO especificacionesref (id, especificacion) VALUES(",A104,", '",C104,"');") -> INSERT INTO especificacionesref (id, especificacion) VALUES(61, 'ET 01C');
A105: 61 | B105: 2C | C105: ET 02C | D105: 2.3 ESPECIFICACIONES TECNICAS 2018 | E105: =+CONCATENATE("INSERT INTO especificacionesref (id, especificacion) VALUES(",A105,", '",C105,"');") -> INSERT INTO especificacionesref (id, especificacion) VALUES(61, 'ET 02C');
A106: 61 | B106: 13C | C106: ET 13C | D106: 2.3 ESPECIFICACIONES TECNICAS 2018 | E106: =+CONCATENATE("INSERT INTO especificacionesref (id, especificacion) VALUES(",A106,", '",C106,"');") -> INSERT INTO especificacionesref (id, especificacion) VALUES(61, 'ET 13C');
A107: 61 | B107: 9C | C107: E.T. 9 Mod. C | D107: 2.3 ESPECIFICACIONES TECNICAS 2018 | E107: =+CONCATENATE("INSERT INTO especificacionesref (id, especificacion) VALUES(",A107,", '",C107,"');") -> INSERT INTO especificacionesref (id, especificacion) VALUES(61, 'E.T. 9 Mod. C');
A108: 62
A109: 63
A110: 64
A111: 65
A112: 66
A113: 67
A114: 68
A115: 69 | B115: 30 A | C115: ET 30A | D115: 2.3 ESPECIFICACIONES TECNICAS 2018 | E115: =+CONCATENATE("INSERT INTO especificacionesref (id, especificacion) VALUES(",A115,", '",C115,"');") -> INSERT INTO especificacionesref (id, especificacion) VALUES(69, 'ET 30A');
A116: 70 | B116: 30A | C116: ET 30A | D116: 2.3 ESPECIFICACIONES TECNICAS 2018 | E116: =+CONCATENATE("INSERT INTO especificacionesref (id, especificacion) VALUES(",A116,", '",C116,"');") -> INSERT INTO especificacionesref (id, especificacion) VALUES(70, 'ET 30A');
A117: 70 | B117: 30C | C117: ET 30C | D117: 2.3 ESPECIFICACIONES TECNICAS 2018 | E117: =+CONCATENATE("INSERT INTO especificacionesref (id, especificacion) VALUES(",A117,", '",C117,"');") -> INSERT INTO especificacionesref (id, especificacion) VALUES(70, 'ET 30C');
A118: 71 | B118: 13B | C118: ET 13B | D118: 2.3 ESPECIFICACIONES TECNICAS 2018 | E118: =+CONCATENATE("INSERT INTO especificacionesref (id, especificacion) VALUES(",A118,", '",C118,"');") -> INSERT INTO especificacionesref (id, especificacion) VALUES(71, 'ET 13B');
A119: 71 | B119: 13C | C119: ET 13C | D119: 2.3 ESPECIFICACIONES TECNICAS 2018 | E119: =+CONCATENATE("INSERT INTO especificacionesref (id, especificacion) VALUES(",A119,", '",C119,"');") -> INSERT INTO especificacionesref (id, especificacion) VALUES(71, 'ET 13C');
A120: 72 | B120: 1C | C120: ET 01C | D120: 2.3 ESPECIFICACIONES TECNICAS 2018 | E120: =+CONCATENATE("INSERT INTO especificacionesref (id, especificacion) VALUES(",A120,", '",C120,"');") -> INSERT INTO especificacionesref (id, especificacion) VALUES(72, 'ET 01C');
A121: 73 | B121: 1C | C121: ET 01C | D121: 2.3 ESPECIFICACIONES TECNICAS 2018 | E121: =+CONCATENATE("INSERT INTO especificacionesref (id, especificacion) VALUES(",A121,", '",C121,"');") -> INSERT INTO especificacionesref (id, especificacion) VALUES(73, 'ET 01C');
A122: 74 | B122: 1C | C122: ET 01C | D122: 2.3 ESPECIFICACIONES TECNICAS 2018 | E122: =+CONCATENATE("INSERT INTO especificacionesref (id, especificacion) VALUES(",A122,", '",C122,"');") -> INSERT INTO especificacionesref (id, especificacion) VALUES(74, 'ET 01C');
A123: 75 | B123: 1C | C123: ET 01C | D123: 2.3 ESPECIFICACIONES TECNICAS 2018 | E123: =+CONCATENATE("INSERT INTO especificacionesref (id, especificacion) VALUES(",A123,", '",C123,"');") -> INSERT INTO especificacionesref (id, especificacion) VALUES(75, 'ET 01C');
A124: 76 | B124: 1C | C124: ET 01C | D124: 2.3 ESPECIFICACIONES TECNICAS 2018 | E124: =+CONCATENATE("INSERT INTO especificacionesref (id, especificacion) VALUES(",A124,", '",C124,"');") -> INSERT INTO especificacionesref (id, especificacion) VALUES(76, 'ET 01C');
A125: 77 | B125: 1C | C125: ET 01C | D125: 2.3 ESPECIFICACIONES TECNICAS 2018 | E125: =+CONCATENATE("INSERT INTO especificacionesref (id, especificacion) VALUES(",A125,", '",C125,"');") -> INSERT INTO especificacionesref (id, especificacion) VALUES(77, 'ET 01C');
A126: 78 | B126: 1C | C126: ET 01C | D126: 2.3 ESPECIFICACIONES TECNICAS 2018 | E126: =+CONCATENATE("INSERT INTO especificacionesref (id, especificacion) VALUES(",A126,", '",C126,"');") -> INSERT INTO especificacionesref (id, especificacion) VALUES(78, 'ET 01C');
... A129: 81 | B129: 1C | C129: ET 01C | D129: 2.3 ESPECIFICACIONES TECNICAS 2018 | E129: =+CONCATENATE("INSERT INTO especificacionesref (id, especificacion) VALUES(",A129,", '",C129,"');") -> INSERT INTO especificacionesref (id, especificacion) VALUES(81, 'ET 01C');
A130: 82
A131: 83
A132: 84 | B132: 30A | C132: ET 30A | D132: 2.3 ESPECIFICACIONES TECNICAS 2018 | E132: =+CONCATENATE("INSERT INTO especificacionesref (id, especificacion) VALUES(",A132,", '",C132,"');") -> INSERT INTO especificacionesref (id, especificacion) VALUES(84, 'ET 30A');
A133: 84 | B133: 30C | C133: ET 30C | D133: 2.3 ESPECIFICACIONES TECNICAS 2018 | E133: =+CONCATENATE("INSERT INTO especificacionesref (id, especificacion) VALUES(",A133,", '",C133,"');") -> INSERT INTO especificacionesref (id, especificacion) VALUES(84, 'ET 30C');
A134: 85 | B134: 30A | C134: ET 30A | D134: 2.3 ESPECIFICACIONES TECNICAS 2018 | E134: =+CONCATENATE("INSERT INTO especificacionesref (id, especificacion) VALUES(",A134,", '",C134,"');") -> INSERT INTO especificacionesref (id, especificacion) VALUES(85, 'ET 30A');
A135: 85 | B135: 30C | C135: ET 30C | D135: 2.3 ESPECIFICACIONES TECNICAS 2018 | E135: =+CONCATENATE("INSERT INTO especificacionesref (id, especificacion) VALUES(",A135,", '",C135,"');") -> INSERT INTO especificacionesref (id, especificacion) VALUES(85, 'ET 30C');
A136: 86 | B136: 30A | C136: ET 30A | D136: 2.3 ESPECIFICACIONES TECNICAS 2018 | E136: =+CONCATENATE("INSERT INTO especificacionesref (id, especificacion) VALUES(",A136,", '",C136,"');") -> INSERT INTO especificacionesref (id, especificacion) VALUES(86, 'ET 30A');
A137: 86 | B137: 30C | C137: ET 30C | D137: 2.3 ESPECIFICACIONES TECNICAS 2018 | E137: =+CONCATENATE("INSERT INTO especificacionesref (id, especificacion) VALUES(",A137,", '",C137,"');") -> INSERT INTO especificacionesref (id, especificacion) VALUES(86, 'ET 30C');
A138: 87
A139: 88 | B139: 13B | C139: ET 13B | D139: 2.3 ESPECIFICACIONES TECNICAS 2018 | E139: =+CONCATENATE("INSERT INTO especificacionesref (id, especificacion) VALUES(",A139,", '",C139,"');") -> INSERT INTO especificacionesref (id, especificacion) VALUES(88, 'ET 13B');
A140: 88 | B140: 13C | C140: ET 13C | D140: 2.3 ESPECIFICACIONES TECNICAS 2018 | E140: =+CONCATENATE("INSERT INTO especificacionesref (id, especificacion) VALUES(",A140,", '",C140,"');") -> INSERT INTO especificacionesref (id, especificacion) VALUES(88, 'ET 13C');
A141: 89 | B141: 13B | C141: ET 13B | D141: 2.3 ESPECIFICACIONES TECNICAS 2018 | E141: =+CONCATENATE("INSERT INTO especificacionesref (id, especificacion) VALUES(",A141,", '",C141,"');") -> INSERT INTO especificacionesref (id, especificacion) VALUES(89, 'ET 13B');
A142: 89 | B142: 13C | C142: ET 13C | D142: 2.3 ESPECIFICACIONES TECNICAS 2018 | E142: =+CONCATENATE("INSERT INTO especificacionesref (id, especificacion) VALUES(",A142,", '",C142,"');") -> INSERT INTO especificacionesref (id, especificacion) VALUES(89, 'ET 13C');
A143: 90
A144: 91 | B144: 1C | C144: ET 01C | D144: 2.3 ESPECIFICACIONES TECNICAS 2018 | E144: =+CONCATENATE("INSERT INTO especificacionesref (id, especificacion) VALUES(",A144,", '",C144,"');") -> INSERT INTO especificacionesref (id, especificacion) VALUES(91, 'ET 01C');
A145: 91 | B145: 2C | C145: ET 02C | D145: 2.3 ESPECIFICACIONES TECNICAS 2018 | E145: =+CONCATENATE("INSERT INTO especificacionesref (id, especificacion) VALUES(",A145,", '",C145,"');") -> INSERT INTO especificacionesref (id, especificacion) VALUES(91, 'ET 02C');
A146: 91 | B146: 13C | C146: ET 13C | D146: 2.3 ESPECIFICACIONES TECNICAS 2018 | E146: =+CONCATENATE("INSERT INTO especificacionesref (id, especificacion) VALUES(",A146,", '",C146,"');") -> INSERT INTO especificacionesref (id, especificacion) VALUES(91, 'ET 13C');
A147: 91 | B147: 9C | C147: E.T. 9 Mod. C | D147: 2.3 ESPECIFICACIONES TECNICAS 2018 | E147: =+CONCATENATE("INSERT INTO especificacionesref (id, especificacion) VALUES(",A147,", '",C147,"');") -> INSERT INTO especificacionesref (id, especificacion) VALUES(91, 'E.T. 9 Mod. C');

Sheet SQL fic A-L
A3: Número | B3: Archivo electrónico | E3: Nombre
A4: 3.1 FICHAS DE INSPECCIÓN CONTROL DE CÁLIDAD
A5: FICHAS A-L | B5: ficha | D5: archivo
A6: 1 | B6: 94397 | D6: 94397 | E6: Cortocircuitador (para el sistema de vía de metro neumático) | F6: =+UPPER(E6) -> CORTOCIRCUITADOR (PARA EL SISTEMA DE VÍA DE METRO NEUMÁTICO) | G6: =+CONCATENATE("INSERT INTO fic (id, ficha, descripcion, archivo) VALUES(",A6,", '",B6,"', '",F6,"','",D6,".pdf');") -> INSERT INTO fic (id, ficha, descripcion, archivo) VALUES(1, '94397', 'CORTOCIRCUITADOR (PARA EL SISTEMA DE VÍA DE METRO NEUMÁTICO)','94397.pdf');
A7: =A6+1 -> 2 | B7: 211307 REV 0 | D7: 211307 REV 0 | E7: Guarnición helicoidal para perno tirafondo de 22mm. | F7: =+UPPER(E7) -> GUARNICIÓN HELICOIDAL PARA PERNO TIRAFONDO DE 22MM. | G7: =+CONCATENATE("INSERT INTO fic (id, ficha, descripcion, archivo) VALUES(",A7,", '",B7,"', '",F7,"','",D7,".pdf');") -> INSERT INTO fic (id, ficha, descripcion, archivo) VALUES(2, '211307 REV 0', 'GUARNICIÓN HELICOIDAL PARA PERNO TIRAFONDO DE 22MM.','211307 REV 0.pdf');
A8: =A7+1 -> 3 | B8: 231841 REV 2 | C8: el nombre del archivo tiene mas espacios | D8: 231841 REV 2 | E8: Equipo de tapas de plástico reforzado con fibra de vidrio. | F8: =+UPPER(E8) -> EQUIPO DE TAPAS DE PLÁSTICO REFORZADO CON FIBRA DE VIDRIO. | G8: =+CONCATENATE("INSERT INTO fic (id, ficha, descripcion, archivo) VALUES(",A8,", '",B8,"', '",F8,"','",D8,".pdf');") -> INSERT INTO fic (id, ficha, descripcion, archivo) VALUES(3, '231841 REV 2', 'EQUIPO DE TAPAS DE PLÁSTICO REFORZADO CON FIBRA DE VIDRIO.','231841 REV 2.pdf');
A9: =A8+1 -> 4 | B9: 237729 REV 0 | D9: 237729 REV 0 | E9: Costal de vinilona 65 x 90. | F9: =+UPPER(E9) -> COSTAL DE VINILONA 65 X 90. | G9: =+CONCATENATE("INSERT INTO fic (id, ficha, descripcion, archivo) VALUES(",A9,", '",B9,"', '",F9,"','",D9,".pdf');") -> INSERT INTO fic (id, ficha, descripcion, archivo) VALUES(4, '237729 REV 0', 'COSTAL DE VINILONA 65 X 90.','237729 REV 0.pdf');
A10: =A9+1 -> 5 | B10: 4003763, 4101027, 4101028, 4102684, 4103482, 4103575 REV 3 | D10: 4003763, 4101027, 4101028, 4102684, 4103482, 4103575 REV 3 | E10: Chavetas 4003763, 4101027, 4101028, 4102684, 4103482, 4103575 | F10: =+UPPER(E10) -> CHAVETAS 4003763, 4101027, 4101028, 4102684, 4103482, 4103575 | G10: =+CONCATENATE("INSERT INTO fic (id, ficha, descripcion, archivo) VALUES(",A10,", '",B10,"', '",F10,"','",D10,".pdf');") -> INSERT INTO fic (id, ficha, descripcion, archivo) VALUES(5, '4003763, 4101027, 4101028, 4102684, 4103482, 4103575 REV 3', 'CHAVETAS 4003763, 4101027, 4101028, 4102684, 4103482, 4103575','4003763, 4101027, 4101028, 4102684, 4103482, 4103575 REV 3.pdf');
A11: =A10+1 -> 6 | B11: 4100014-4100015-4102050 REV 1 | D11: 4100014-4100015-4102050 REV 1 | E11: Calza aislante para aislador 4100014, 4100015, 4102050 | F11: =+UPPER(E11) -> CALZA AISLANTE PARA AISLADOR 4100014, 4100015, 4102050 | G11: =+CONCATENATE("INSERT INTO fic (id, ficha, descripcion, archivo) VALUES(",A11,", '",B11,"', '",F11,"','",D11,".pdf');") -> INSERT INTO fic (id, ficha, descripcion, archivo) VALUES(6, '4100014-4100015-4102050 REV 1', 'CALZA AISLANTE PARA AISLADOR 4100014, 4100015, 4102050 ','4100014-4100015-4102050 REV 1.pdf');
A12: =A11+1 -> 7 | B12: 4101023 | C12: indicacion 31 de mayo de 2018 - se cambia 4101023 SP por 4101023.pdf incluyendo plano | D12: 4101023 | E12: Barra de separación de agujas N° 1. | F12: =+UPPER(E12) -> BARRA DE SEPARACIÓN DE AGUJAS N° 1. | G12: =+CONCATENATE("INSERT INTO fic (id, ficha, descripcion, archivo) VALUES(",A12,", '",B12,"', '",F12,"','",D12,".pdf');") -> INSERT INTO fic (id, ficha, descripcion, archivo) VALUES(7, '4101023', 'BARRA DE SEPARACIÓN DE AGUJAS N° 1.','4101023.pdf');
A13: =A12+1 -> 8 | B13: 4101024 | C13: indicacion 31 de mayo de 2018 - se cambia 4101024 SP por 4101024.pdf incluyendo plano | D13: 4101024 | E13: Barra de separación de agujas N° 2. | F13: =+UPPER(E13) -> BARRA DE SEPARACIÓN DE AGUJAS N° 2. | G13: =+CONCATENATE("INSERT INTO fic (id, ficha, descripcion, archivo) VALUES(",A13,", '",B13,"', '",F13,"','",D13,".pdf');") -> INSERT INTO fic (id, ficha, descripcion, archivo) VALUES(8, '4101024', 'BARRA DE SEPARACIÓN DE AGUJAS N° 2.','4101024.pdf');
A14: =A13+1 -> 9 | B14: 4101029 | D14: 4101029 | E14: Forro aislante. | F14: =+UPPER(E14) -> FORRO AISLANTE. | G14: =+CONCATENATE("INSERT INTO fic (id, ficha, descripcion, archivo) VALUES(",A14,", '",B14,"', '",F14,"','",D14,".pdf');") -> INSERT INTO fic (id, ficha, descripcion, archivo) VALUES(9, '4101029', 'FORRO AISLANTE.','4101029.pdf');
A15: =A14+1 -> 10 | B15: 4101030, 4101226, 4101242, 4102105, 4102290 | D15: 4101030, 4101226, 4101242, 4102105, 4102290 | E15: Bujes asilantes 4101030,4101226, 4101242, 4102105, 4102290 | F15: =+UPPER(E15) -> BUJES ASILANTES 4101030,4101226, 4101242, 4102105, 4102290 | G15: =+CONCATENATE("INSERT INTO fic (id, ficha, descripcion, archivo) VALUES(",A15,", '",B15,"', '",F15,"','",D15,".pdf');") -> INSERT INTO fic (id, ficha, descripcion, archivo) VALUES(10, '4101030, 4101226, 4101242, 4102105, 4102290', 'BUJES ASILANTES 4101030,4101226, 4101242, 4102105, 4102290','4101030, 4101226, 4101242, 4102105, 4102290.pdf');
A16: =A15+1 -> 11 | B16: 4101220 | D16: 4101220 | E16: Corredera. | F16: =+UPPER(E16) -> CORREDERA. | G16: =+CONCATENATE("INSERT INTO fic (id, ficha, descripcion, archivo) VALUES(",A16,", '",B16,"', '",F16,"','",D16,".pdf');") -> INSERT INTO fic (id, ficha, descripcion, archivo) VALUES(11, '4101220', 'CORREDERA.','4101220.pdf');
A17: =A16+1 -> 12 | B17: 4101221 | D17: 4101221 | E17: Buje separador 44 x 34 L-26 | F17: =+UPPER(E17) -> BUJE SEPARADOR 44 X 34 L-26 | G17: =+CONCATENATE("INSERT INTO fic (id, ficha, descripcion, archivo) VALUES(",A17,", '",B17,"', '",F17,"','",D17,".pdf');") -> INSERT INTO fic (id, ficha, descripcion, archivo) VALUES(12, '4101221', 'BUJE SEPARADOR 44 X 34 L-26','4101221.pdf');
A18: =A17+1 -> 13 | B18: 4101246 | D18: 4101246 | E18: Calza de ajuste del conmutador. | F18: =+UPPER(E18) -> CALZA DE AJUSTE DEL CONMUTADOR. | G18: =+CONCATENATE("INSERT INTO fic (id, ficha, descripcion, archivo) VALUES(",A18,", '",B18,"', '",F18,"','",D18,".pdf');") -> INSERT INTO fic (id, ficha, descripcion, archivo) VALUES(13, '4101246', 'CALZA DE AJUSTE DEL CONMUTADOR.','4101246.pdf');
A19: =A18+1 -> 14 | B19: 4101260 | D19: 4101260 | E19: Eje de candado para cerrojo individual. | F19: =+UPPER(E19) -> EJE DE CANDADO PARA CERROJO INDIVIDUAL. | G19: =+CONCATENATE("INSERT INTO fic (id, ficha, descripcion, archivo) VALUES(",A19,", '",B19,"', '",F19,"','",D19,".pdf');") -> INSERT INTO fic (id, ficha, descripcion, archivo) VALUES(14, '4101260', 'EJE DE CANDADO PARA CERROJO INDIVIDUAL.','4101260.pdf');
A20: =A19+1 -> 15 | B20: 4101262 REV 0 | D20: 4101262 REV 0 | E20: Buje antifricción. | F20: =+UPPER(E20) -> BUJE ANTIFRICCIÓN. | G20: =+CONCATENATE("INSERT INTO fic (id, ficha, descripcion, archivo) VALUES(",A20,", '",B20,"', '",F20,"','",D20,".pdf');") -> INSERT INTO fic (id, ficha, descripcion, archivo) VALUES(15, '4101262 REV 0', 'BUJE ANTIFRICCIÓN.','4101262 REV 0.pdf');
A21: =A20+1 -> 16 | B21: 4101265 REV 0 | D21: 4101265 REV 0 | E21: Block silenciador longuitud 30. | F21: =+UPPER(E21) -> BLOCK SILENCIADOR LONGUITUD 30. | G21: =+CONCATENATE("INSERT INTO fic (id, ficha, descripcion, archivo) VALUES(",A21,", '",B21,"', '",F21,"','",D21,".pdf');") -> INSERT INTO fic (id, ficha, descripcion, archivo) VALUES(16, '4101265 REV 0', 'BLOCK SILENCIADOR LONGUITUD 30.','4101265 REV 0.pdf');
A22: =A21+1 -> 17 | B22: 4101266 REV 0 | D22: 4101266 REV 0 | E22: Block silenciador longuitud 60 | F22: =+UPPER(E22) -> BLOCK SILENCIADOR LONGUITUD 60 | G22: =+CONCATENATE("INSERT INTO fic (id, ficha, descripcion, archivo) VALUES(",A22,", '",B22,"', '",F22,"','",D22,".pdf');") -> INSERT INTO fic (id, ficha, descripcion, archivo) VALUES(17, '4101266 REV 0', 'BLOCK SILENCIADOR LONGUITUD 60','4101266 REV 0.pdf');
A23: =A22+1 -> 18 | B23: 4101271, 4102496, 97, 4102671, 4103490 | D23: 4101271, 4102496, 97, 4102671, 4103490 | E23: Laina de ajuste para cerrojo individual 4101271, 4102496, 4102497, 4102671, 4103490 | F23: =+UPPER(E23) -> LAINA DE AJUSTE PARA CERROJO INDIVIDUAL 4101271, 4102496, 4102497, 4102671, 4103490 | G23: =+CONCATENATE("INSERT INTO fic (id, ficha, descripcion, archivo) VALUES(",A23,", '",B23,"', '",F23,"','",D23,".pdf');") -> INSERT INTO fic (id, ficha, descripcion, archivo) VALUES(18, '4101271, 4102496, 97, 4102671, 4103490', 'LAINA DE AJUSTE PARA CERROJO INDIVIDUAL 4101271, 4102496, 4102497, 4102671, 4103490','4101271, 4102496, 97, 4102671, 4103490.pdf');
A24: =A23+1 -> 19 | B24: 4101272-4102509-4102498-4102510 REV 0 | D24: 4101272-4102509-4102498-4102510 REV 0 | E24: Laina de nivelación para cerrojo individual 4101272, 4102509, 4102498, 4102510. | F24: =+UPPER(E24) -> LAINA DE NIVELACIÓN PARA CERROJO INDIVIDUAL 4101272, 4102509, 4102498, 4102510. | G24: =+CONCATENATE("INSERT INTO fic (id, ficha, descripcion, archivo) VALUES(",A24,", '",B24,"', '",F24,"','",D24,".pdf');") -> INSERT INTO fic (id, ficha, descripcion, archivo) VALUES(19, '4101272-4102509-4102498-4102510 REV 0', 'LAINA DE NIVELACIÓN PARA CERROJO INDIVIDUAL 4101272, 4102509, 4102498, 4102510.','4101272-4102509-4102498-4102510 REV 0.pdf');
A25: =A24+1 -> 20 | B25: 4101275 REV 1 | D25: 4101275 REV 1 | E25: Calza inclinada. | F25: =+UPPER(E25) -> CALZA INCLINADA. | G25: =+CONCATENATE("INSERT INTO fic (id, ficha, descripcion, archivo) VALUES(",A25,", '",B25,"', '",F25,"','",D25,".pdf');") -> INSERT INTO fic (id, ficha, descripcion, archivo) VALUES(20, '4101275 REV 1', 'CALZA INCLINADA.','4101275 REV 1.pdf');
A26: =A25+1 -> 21 | B26: 4102034, 4103400, 4103546 rev 3 | D26: 4102034, 4103400, 4103546 rev 3 | E26: Separador aislante (end post) de riel 80 lb/yd 4102034, 4103400, 4103546. | F26: =+UPPER(E26) -> SEPARADOR AISLANTE (END POST) DE RIEL 80 LB/YD 4102034, 4103400, 4103546. | G26: =+CONCATENATE("INSERT INTO fic (id, ficha, descripcion, archivo) VALUES(",A26,", '",B26,"', '",F26,"','",D26,".pdf');") -> INSERT INTO fic (id, ficha, descripcion, archivo) VALUES(21, '4102034, 4103400, 4103546 rev 3', 'SEPARADOR AISLANTE (END POST) DE RIEL 80 LB/YD 4102034, 4103400, 4103546.','4102034, 4103400, 4103546 rev 3.pdf');
A27: =A26+1 -> 22 | B27: 4102037, 4103401, 4103547 rev 3 | D27: 4102037, 4103401, 4103547 rev 3 | E27: Separador aislante (end post) de pista 4102037, 4103401, 4103547. | F27: =+UPPER(E27) -> SEPARADOR AISLANTE (END POST) DE PISTA 4102037, 4103401, 4103547. | G27: =+CONCATENATE("INSERT INTO fic (id, ficha, descripcion, archivo) VALUES(",A27,", '",B27,"', '",F27,"','",D27,".pdf');") -> INSERT INTO fic (id, ficha, descripcion, archivo) VALUES(22, '4102037, 4103401, 4103547 rev 3', 'SEPARADOR AISLANTE (END POST) DE PISTA 4102037, 4103401, 4103547.','4102037, 4103401, 4103547 rev 3.pdf');
A28: =A27+1 -> 23 | B28: 4102042 REV 2 | C28: el nombre del archivo tiene mas espacios | D28: 4102042 REV 2 | E28: Cuña o candado de ensamble de zoclo. | F28: =+UPPER(E28) -> CUÑA O CANDADO DE ENSAMBLE DE ZOCLO. | G28: =+CONCATENATE("INSERT INTO fic (id, ficha, descripcion, archivo) VALUES(",A28,", '",B28,"', '",F28,"','",D28,".pdf');") -> INSERT INTO fic (id, ficha, descripcion, archivo) VALUES(23, '4102042 REV 2', 'CUÑA O CANDADO DE ENSAMBLE DE ZOCLO.','4102042 REV 2.pdf');
A29: =A28+1 -> 24 | B29: 4102044 REV 2 | D29: 4102044 REV 2 | E29: Candelero modificado. | F29: =+UPPER(E29) -> CANDELERO MODIFICADO. | G29: =+CONCATENATE("INSERT INTO fic (id, ficha, descripcion, archivo) VALUES(",A29,", '",B29,"', '",F29,"','",D29,".pdf');") -> INSERT INTO fic (id, ficha, descripcion, archivo) VALUES(24, '4102044 REV 2', 'CANDELERO MODIFICADO.','4102044 REV 2.pdf');
A30: =A29+1 -> 25 | B30: 4102045 | D30: 4102045 | E30: Clavo tipo hillti (para madera dura). | F30: =+UPPER(E30) -> CLAVO TIPO HILLTI (PARA MADERA DURA). | G30: =+CONCATENATE("INSERT INTO fic (id, ficha, descripcion, archivo) VALUES(",A30,", '",B30,"', '",F30,"','",D30,".pdf');") -> INSERT INTO fic (id, ficha, descripcion, archivo) VALUES(25, '4102045', 'CLAVO TIPO HILLTI (PARA MADERA DURA).','4102045.pdf');
A31: =A30+1 -> 26 | B31: 4102046, 4102232, 4102245 | D31: 4102046, 4102232, 4102245 | E31: Calza metálica permanente (GALIBO) 4102046, 4102232, 4102245. | F31: =+UPPER(E31) -> CALZA METÁLICA PERMANENTE (GALIBO) 4102046, 4102232, 4102245. | G31: =+CONCATENATE("INSERT INTO fic (id, ficha, descripcion, archivo) VALUES(",A31,", '",B31,"', '",F31,"','",D31,".pdf');") -> INSERT INTO fic (id, ficha, descripcion, archivo) VALUES(26, '4102046, 4102232, 4102245', 'CALZA METÁLICA PERMANENTE (GALIBO) 4102046, 4102232, 4102245.','4102046, 4102232, 4102245.pdf');
A32: =A31+1 -> 27 | B32: 4102051, 4102151 REV 1 | D32: 4102051, 4102151 REV 1 | E32: Calza inclinada para crucetas 4102051, 4102151. | F32: =+UPPER(E32) -> CALZA INCLINADA PARA CRUCETAS 4102051, 4102151. | G32: =+CONCATENATE("INSERT INTO fic (id, ficha, descripcion, archivo) VALUES(",A32,", '",B32,"', '",F32,"','",D32,".pdf');") -> INSERT INTO fic (id, ficha, descripcion, archivo) VALUES(27, '4102051, 4102151 REV 1', 'CALZA INCLINADA PARA CRUCETAS 4102051, 4102151.','4102051, 4102151 REV 1.pdf');
A33: =A32+1 -> 28 | B33: 4102065 REV 1 | D33: 4102065 REV 1 | E33: Grapa tipo sapo para riel. | F33: =+UPPER(E33) -> GRAPA TIPO SAPO PARA RIEL. | G33: =+CONCATENATE("INSERT INTO fic (id, ficha, descripcion, archivo) VALUES(",A33,", '",B33,"', '",F33,"','",D33,".pdf');") -> INSERT INTO fic (id, ficha, descripcion, archivo) VALUES(28, '4102065 REV 1', 'GRAPA TIPO SAPO PARA RIEL.','4102065 REV 1.pdf');
A34: =A33+1 -> 29 | B34: 4102074 REV 0 | C34: el nombre del archivo tiene mas espacios | D34: 4102074 REV 0 | E34: Estribo. | F34: =+UPPER(E34) -> ESTRIBO. | G34: =+CONCATENATE("INSERT INTO fic (id, ficha, descripcion, archivo) VALUES(",A34,", '",B34,"', '",F34,"','",D34,".pdf');") -> INSERT INTO fic (id, ficha, descripcion, archivo) VALUES(29, '4102074 REV 0', 'ESTRIBO.','4102074 REV 0.pdf');
A35: =A34+1 -> 30 | B35: 4102075 REV 1 | D35: 4102075 REV 1 | E35: Calza inclinada diametro 25. | F35: =+UPPER(E35) -> CALZA INCLINADA DIAMETRO 25. | G35: =+CONCATENATE("INSERT INTO fic (id, ficha, descripcion, archivo) VALUES(",A35,", '",B35,"', '",F35,"','",D35,".pdf');") -> INSERT INTO fic (id, ficha, descripcion, archivo) VALUES(30, '4102075 REV 1', 'CALZA INCLINADA DIAMETRO 25.','4102075 REV 1.pdf');
A36: =A35+1 -> 31 | B36: 4102145 rev 3 | D36: 4102145 rev 3 | E36: Separador aislante (end post) de riel 100 lb/yd. | F36: =+UPPER(E36) -> SEPARADOR AISLANTE (END POST) DE RIEL 100 LB/YD. | G36: =+CONCATENATE("INSERT INTO fic (id, ficha, descripcion, archivo) VALUES(",A36,", '",B36,"', '",F36,"','",D36,".pdf');") -> INSERT INTO fic (id, ficha, descripcion, archivo) VALUES(31, '4102145 rev 3', 'SEPARADOR AISLANTE (END POST) DE RIEL 100 LB/YD.','4102145 rev 3.pdf');
A37: =A36+1 -> 32 | B37: 4102147 REV 0 | D37: 4102147 REV 0 | E37: Calza inclinada diametro 18. | F37: =+UPPER(E37) -> CALZA INCLINADA DIAMETRO 18. | G37: =+CONCATENATE("INSERT INTO fic (id, ficha, descripcion, archivo) VALUES(",A37,", '",B37,"', '",F37,"','",D37,".pdf');") -> INSERT INTO fic (id, ficha, descripcion, archivo) VALUES(32, '4102147 REV 0', 'CALZA INCLINADA DIAMETRO 18.','4102147 REV 0.pdf');
A38: =A37+1 -> 33 | B38: 4102148 REV 0 | C38: el nombre del archivo tiene mas espacios | D38: 4102148 REV 0 | E38: Grapa tipo sapo para pista. | F38: =+UPPER(E38) -> GRAPA TIPO SAPO PARA PISTA. | G38: =+CONCATENATE("INSERT INTO fic (id, ficha, descripcion, archivo) VALUES(",A38,", '",B38,"', '",F38,"','",D38,".pdf');") -> INSERT INTO fic (id, ficha, descripcion, archivo) VALUES(33, '4102148 REV 0', 'GRAPA TIPO SAPO PARA PISTA.','4102148 REV 0.pdf');
A39: =A38+1 -> 34 | B39: 4102181 rev 3 | D39: 4102181 rev 3 | E39: Separador asilante(end post) de contra riel. | F39: =+UPPER(E39) -> SEPARADOR ASILANTE(END POST) DE CONTRA RIEL. | G39: =+CONCATENATE("INSERT INTO fic (id, ficha, descripcion, archivo) VALUES(",A39,", '",B39,"', '",F39,"','",D39,".pdf');") -> INSERT INTO fic (id, ficha, descripcion, archivo) VALUES(34, '4102181 rev 3', 'SEPARADOR ASILANTE(END POST) DE CONTRA RIEL.','4102181 rev 3.pdf');
A40: =A39+1 -> 35 | B40: 4102187 rev 2 | D40: 4102187 rev 2 | E40: Separador aislante (end post) de pista metálica sobre durmiente. | F40: =+UPPER(E40) -> SEPARADOR AISLANTE (END POST) DE PISTA METÁLICA SOBRE DURMIENTE. | G40: =+CONCATENATE("INSERT INTO fic (id, ficha, descripcion, archivo) VALUES(",A40,", '",B40,"', '",F40,"','",D40,".pdf');") -> INSERT INTO fic (id, ficha, descripcion, archivo) VALUES(35, '4102187 rev 2', 'SEPARADOR AISLANTE (END POST) DE PISTA METÁLICA SOBRE DURMIENTE.','4102187 rev 2.pdf');
A41: =A40+1 -> 36 | B41: 4102188 rev 3 | D41: 4102188 rev 3 | E41: Separador aislante (end post) de pista de talon de corazon. | F41: =+UPPER(E41) -> SEPARADOR AISLANTE (END POST) DE PISTA DE TALON DE CORAZON. | G41: =+CONCATENATE("INSERT INTO fic (id, ficha, descripcion, archivo) VALUES(",A41,", '",B41,"', '",F41,"','",D41,".pdf');") -> INSERT INTO fic (id, ficha, descripcion, archivo) VALUES(36, '4102188 rev 3', 'SEPARADOR AISLANTE (END POST) DE PISTA DE TALON DE CORAZON.','4102188 rev 3.pdf');
A42: =A41+1 -> 37 | B42: 4102203, 204, 205, 628, 4103549 | C42: el nombre del archivo tiene mas espacios | D42: 4102203, 204, 205, 628, 4103549 | E42: Laina de ajuste para cerrojo axial 4102203, 4102204, 4102205, 4102628, 4103549. | F42: =+UPPER(E42) -> LAINA DE AJUSTE PARA CERROJO AXIAL 4102203, 4102204, 4102205, 4102628, 4103549. | G42: =+CONCATENATE("INSERT INTO fic (id, ficha, descripcion, archivo) VALUES(",A42,", '",B42,"', '",F42,"','",D42,".pdf');") -> INSERT INTO fic (id, ficha, descripcion, archivo) VALUES(37, '4102203, 204, 205, 628, 4103549 ', 'LAINA DE AJUSTE PARA CERROJO AXIAL 4102203, 4102204, 4102205, 4102628, 4103549.','4102203, 204, 205, 628, 4103549.pdf');
A43: =A42+1 -> 38 | B43: 4102233 | D43: 4102233 | E43: Calza exterior tipo U. | F43: =+UPPER(E43) -> CALZA EXTERIOR TIPO U. | G43: =+CONCATENATE("INSERT INTO fic (id, ficha, descripcion, archivo) VALUES(",A43,", '",B43,"', '",F43,"','",D43,".pdf');") -> INSERT INTO fic (id, ficha, descripcion, archivo) VALUES(38, '4102233', 'CALZA EXTERIOR TIPO U.','4102233.pdf');
A44: =A43+1 -> 39 | B44: 4102244 REV 3 | D44: 4102244 REV 3 | E44: Ancla para sujeción de tapa de block | F44: =+UPPER(E44) -> ANCLA PARA SUJECIÓN DE TAPA DE BLOCK | G44: =+CONCATENATE("INSERT INTO fic (id, ficha, descripcion, archivo) VALUES(",A44,", '",B44,"', '",F44,"','",D44,".pdf');") -> INSERT INTO fic (id, ficha, descripcion, archivo) VALUES(39, '4102244 REV 3', 'ANCLA PARA SUJECIÓN DE TAPA DE BLOCK','4102244 REV 3.pdf');
A45: =A44+1 -> 40 | B45: 4102293 REV 0 | D45: 4102293 REV 0 | E45: Canaleta de 2000 x 150 x 150 espeor 4mm de fibra de vídrio. | F45: =+UPPER(E45) -> CANALETA DE 2000 X 150 X 150 ESPEOR 4MM DE FIBRA DE VÍDRIO. | G45: =+CONCATENATE("INSERT INTO fic (id, ficha, descripcion, archivo) VALUES(",A45,", '",B45,"', '",F45,"','",D45,".pdf');") -> INSERT INTO fic (id, ficha, descripcion, archivo) VALUES(40, '4102293 REV 0', 'CANALETA DE 2000 X 150 X 150 ESPEOR 4MM DE FIBRA DE VÍDRIO.','4102293 REV 0.pdf');
A46: =A45+1 -> 41 | B46: 4102347-4102442 REV 1 | D46: 4102347-4102442 REV 1 | E46: Almohadilla acanalada para riel y pista 4102347, 4102442. | F46: =+UPPER(E46) -> ALMOHADILLA ACANALADA PARA RIEL Y PISTA 4102347, 4102442. | G46: =+CONCATENATE("INSERT INTO fic (id, ficha, descripcion, archivo) VALUES(",A46,", '",B46,"', '",F46,"','",D46,".pdf');") -> INSERT INTO fic (id, ficha, descripcion, archivo) VALUES(41, '4102347-4102442 REV 1', 'ALMOHADILLA ACANALADA PARA RIEL Y PISTA 4102347, 4102442.','4102347-4102442 REV 1.pdf');
A47: =A46+1 -> 42 | B47: 4102363 REV 0 | C47: el nombre del archivo tiene mas espacios | D47: 4102363 REV 0 | E47: Durmiente de concreto biblock tipo "O". | F47: =+UPPER(E47) -> DURMIENTE DE CONCRETO BIBLOCK TIPO "O". | G47: =+CONCATENATE("INSERT INTO fic (id, ficha, descripcion, archivo) VALUES(",A47,", '",B47,"', '",F47,"','",D47,".pdf');") -> INSERT INTO fic (id, ficha, descripcion, archivo) VALUES(42, '4102363 REV 0', 'DURMIENTE DE CONCRETO BIBLOCK TIPO "O".','4102363 REV 0.pdf');
A48: =A47+1 -> 43 | B48: 4102451 REV 1 | D48: 4102451 REV 1 | E48: Estribo lateral. | F48: =+UPPER(E48) -> ESTRIBO LATERAL. | G48: =+CONCATENATE("INSERT INTO fic (id, ficha, descripcion, archivo) VALUES(",A48,", '",B48,"', '",F48,"','",D48,".pdf');") -> INSERT INTO fic (id, ficha, descripcion, archivo) VALUES(43, '4102451 REV 1', 'ESTRIBO LATERAL.','4102451 REV 1.pdf');
A49: =A48+1 -> 44 | B49: 4102452 | D49: 4102452 | E49: Arandela metálica AP GV | F49: =+UPPER(E49) -> ARANDELA METÁLICA AP GV | G49: =+CONCATENATE("INSERT INTO fic (id, ficha, descripcion, archivo) VALUES(",A49,", '",B49,"', '",F49,"','",D49,".pdf');") -> INSERT INTO fic (id, ficha, descripcion, archivo) VALUES(44, '4102452', 'ARANDELA METÁLICA AP GV','4102452.pdf');
B50: 4102455 plano | C50: por indicación de reunión del 31 de mayo de 2018 se elimina porque se incluyó plano a la especificación mismo PDF | D50: 4102455 plano | E50: Grapa nylon normal 4103514, 4103478, 4103480, 4103479, 4102455, 4102456, 4102457, 4102459. | F50: =+UPPER(E50) -> GRAPA NYLON NORMAL 4103514, 4103478, 4103480, 4103479, 4102455, 4102456, 4102457, 4102459.
A51: =+A49+1 -> 45 | B51: 4102455, 456, 457, 459, 4103478, 479, 480, 4103514 | C51: por indicación de reunión del 31 de mayo de 2018 se cambia archivo para incluir con plano | D51: 4102455, 456, 457, 459, 4103478, 479, 480, 4103514 | E51: Grapa nylon normal 4103514, 4103478, 4103480, 4103479, 4102455, 4102456, 4102457, 4102459. | F51: =+UPPER(E51) -> GRAPA NYLON NORMAL 4103514, 4103478, 4103480, 4103479, 4102455, 4102456, 4102457, 4102459. | G51: =+CONCATENATE("INSERT INTO fic (id, ficha, descripcion, archivo) VALUES(",A51,", '",B51,"', '",F51,"','",D51,".pdf');") -> INSERT INTO fic (id, ficha, descripcion, archivo) VALUES(45, '4102455, 456, 457, 459, 4103478, 479, 480, 4103514', 'GRAPA NYLON NORMAL 4103514, 4103478, 4103480, 4103479, 4102455, 4102456, 4102457, 4102459.','4102455, 456, 457, 459, 4103478, 479, 480, 4103514.pdf');
A52: =A51+1 -> 46 | B52: 4102507 REV 0 | D52: 4102507 REV 0 | E52: Grapa RP 80. | F52: =+UPPER(E52) -> GRAPA RP 80. | G52: =+CONCATENATE("INSERT INTO fic (id, ficha, descripcion, archivo) VALUES(",A52,", '",B52,"', '",F52,"','",D52,".pdf');") -> INSERT INTO fic (id, ficha, descripcion, archivo) VALUES(46, '4102507 REV 0', 'GRAPA RP 80.','4102507 REV 0.pdf');
A53: =A52+1 -> 47 | B53: 4102551 REV 0 | D53: 4102551 REV 0 | E53: Guarnición helicoidal de 19mm. | F53: =+UPPER(E53) -> GUARNICIÓN HELICOIDAL DE 19MM. | G53: =+CONCATENATE("INSERT INTO fic (id, ficha, descripcion, archivo) VALUES(",A53,", '",B53,"', '",F53,"','",D53,".pdf');") -> INSERT INTO fic (id, ficha, descripcion, archivo) VALUES(47, '4102551 REV 0', 'GUARNICIÓN HELICOIDAL DE 19MM.','4102551 REV 0.pdf');
A54: =A53+1 -> 48 | B54: 4102558-4102561 REV 0 | D54: 4102558-4102561 REV 0 | E54: Banda aislante de neopreno para riel y pista 4102558, 4102561. | F54: =+UPPER(E54) -> BANDA AISLANTE DE NEOPRENO PARA RIEL Y PISTA 4102558, 4102561. | G54: =+CONCATENATE("INSERT INTO fic (id, ficha, descripcion, archivo) VALUES(",A54,", '",B54,"', '",F54,"','",D54,".pdf');") -> INSERT INTO fic (id, ficha, descripcion, archivo) VALUES(48, '4102558-4102561 REV 0', 'BANDA AISLANTE DE NEOPRENO PARA RIEL Y PISTA 4102558, 4102561.','4102558-4102561 REV 0.pdf');
A55: =A54+1 -> 49 | B55: 4102599 REV 0 | D55: 4102599 REV 0 | E55: Lamina de caucho lisa para aislador. | F55: =+UPPER(E55) -> LAMINA DE CAUCHO LISA PARA AISLADOR. | G55: =+CONCATENATE("INSERT INTO fic (id, ficha, descripcion, archivo) VALUES(",A55,", '",B55,"', '",F55,"','",D55,".pdf');") -> INSERT INTO fic (id, ficha, descripcion, archivo) VALUES(49, '4102599 REV 0', 'LAMINA DE CAUCHO LISA PARA AISLADOR.','4102599 REV 0.pdf');
A56: =A55+1 -> 50 | B56: 4102669-4103495-4103544-4103545 REV 1 | D56: 4102669-4103495-4103544-4103545 REV 1 | E56: Calza para aislador en vía sobre concreto 4102669, 4103495, 4103544, 4103545. | F56: =+UPPER(E56) -> CALZA PARA AISLADOR EN VÍA SOBRE CONCRETO 4102669, 4103495, 4103544, 4103545. | G56: =+CONCATENATE("INSERT INTO fic (id, ficha, descripcion, archivo) VALUES(",A56,", '",B56,"', '",F56,"','",D56,".pdf');") -> INSERT INTO fic (id, ficha, descripcion, archivo) VALUES(50, '4102669-4103495-4103544-4103545 REV 1', 'CALZA PARA AISLADOR EN VÍA SOBRE CONCRETO 4102669, 4103495, 4103544, 4103545.','4102669-4103495-4103544-4103545 REV 1.pdf');
A57: =A56+1 -> 51 | B57: 4102700 REV 0 | D57: 4102700 REV 0 | E57: Balasto para metro sobre neumático. | F57: =+UPPER(E57) -> BALASTO PARA METRO SOBRE NEUMÁTICO. | G57: =+CONCATENATE("INSERT INTO fic (id, ficha, descripcion, archivo) VALUES(",A57,", '",B57,"', '",F57,"','",D57,".pdf');") -> INSERT INTO fic (id, ficha, descripcion, archivo) VALUES(51, '4102700 REV 0', 'BALASTO PARA METRO SOBRE NEUMÁTICO.','4102700 REV 0.pdf');
A58: =A57+1 -> 52 | B58: 4102728 REV 0 | D58: 4102728 REV 0 | E58: Calza aislante para riel de 80 LB/YD. | F58: =+UPPER(E58) -> CALZA AISLANTE PARA RIEL DE 80 LB/YD. | G58: =+CONCATENATE("INSERT INTO fic (id, ficha, descripcion, archivo) VALUES(",A58,", '",B58,"', '",F58,"','",D58,".pdf');") -> INSERT INTO fic (id, ficha, descripcion, archivo) VALUES(52, '4102728 REV 0', 'CALZA AISLANTE PARA RIEL DE 80 LB/YD.','4102728 REV 0.pdf');
A59: =A58+1 -> 53 | B59: 4102729 REV 0 | D59: 4102729 REV 0 | E59: Calza aislante para pista metálica. | F59: =+UPPER(E59) -> CALZA AISLANTE PARA PISTA METÁLICA. | G59: =+CONCATENATE("INSERT INTO fic (id, ficha, descripcion, archivo) VALUES(",A59,", '",B59,"', '",F59,"','",D59,".pdf');") -> INSERT INTO fic (id, ficha, descripcion, archivo) VALUES(53, '4102729 REV 0', 'CALZA AISLANTE PARA PISTA METÁLICA.','4102729 REV 0.pdf');
A60: =A59+1 -> 54 | B60: 4103365 | D60: 4103365 | E60: Calza permanente tipo talon. | F60: =+UPPER(E60) -> CALZA PERMANENTE TIPO TALON. | G60: =+CONCATENATE("INSERT INTO fic (id, ficha, descripcion, archivo) VALUES(",A60,", '",B60,"', '",F60,"','",D60,".pdf');") -> INSERT INTO fic (id, ficha, descripcion, archivo) VALUES(54, '4103365', 'CALZA PERMANENTE TIPO TALON.','4103365.pdf');
A61: =A60+1 -> 55 | B61: 4103384 REV 0 | D61: 4103384 REV 0 | E61: Block aislante con maquinado para tapa de block. | F61: =+UPPER(E61) -> BLOCK AISLANTE CON MAQUINADO PARA TAPA DE BLOCK. | G61: =+CONCATENATE("INSERT INTO fic (id, ficha, descripcion, archivo) VALUES(",A61,", '",B61,"', '",F61,"','",D61,".pdf');") -> INSERT INTO fic (id, ficha, descripcion, archivo) VALUES(55, '4103384 REV 0', 'BLOCK AISLANTE CON MAQUINADO PARA TAPA DE BLOCK.','4103384 REV 0.pdf');
A62: =A61+1 -> 56 | B62: 4103385 REV 0 | C62: el nombre del archivo tiene mas espacios | D62: 4103385 REV 0 | E62: Block aislante para zona neutra de 4 blocks corte en Z. | F62: =+UPPER(E62) -> BLOCK AISLANTE PARA ZONA NEUTRA DE 4 BLOCKS CORTE EN Z. | G62: =+CONCATENATE("INSERT INTO fic (id, ficha, descripcion, archivo) VALUES(",A62,", '",B62,"', '",F62,"','",D62,".pdf');") -> INSERT INTO fic (id, ficha, descripcion, archivo) VALUES(56, '4103385 REV 0', 'BLOCK AISLANTE PARA ZONA NEUTRA DE 4 BLOCKS CORTE EN Z.','4103385 REV 0.pdf');
A63: =A62+1 -> 57 | B63: 4103412-4103413-4103414-4103415 REV 0 | C63: el nombre del archivo tiene mas espacios | D63: 4103412-4103413-4103414-4103415 REV 0 | E63: Laina de ajuste para tapa de block aislante 410312, 4103413, 4103414, 4103415. | F63: =+UPPER(E63) -> LAINA DE AJUSTE PARA TAPA DE BLOCK AISLANTE 410312, 4103413, 4103414, 4103415. | G63: =+CONCATENATE("INSERT INTO fic (id, ficha, descripcion, archivo) VALUES(",A63,", '",B63,"', '",F63,"','",D63,".pdf');") -> INSERT INTO fic (id, ficha, descripcion, archivo) VALUES(57, '4103412-4103413-4103414-4103415 REV 0', 'LAINA DE AJUSTE PARA TAPA DE BLOCK AISLANTE 410312, 4103413, 4103414, 4103415.','4103412-4103413-4103414-4103415 REV 0.pdf');
A64: =A63+1 -> 58 | B64: 4103494, 4103524, 525 | D64: 4103494, 4103524, 525 | E64: Calza aumento de (40mm, 30mm, 20 mm) para zóclo de riel y pista (silla) | F64: =+UPPER(E64) -> CALZA AUMENTO DE (40MM, 30MM, 20 MM) PARA ZÓCLO DE RIEL Y PISTA (SILLA) | G64: =+CONCATENATE("INSERT INTO fic (id, ficha, descripcion, archivo) VALUES(",A64,", '",B64,"', '",F64,"','",D64,".pdf');") -> INSERT INTO fic (id, ficha, descripcion, archivo) VALUES(58, '4103494, 4103524, 525', 'CALZA AUMENTO DE (40MM, 30MM, 20 MM) PARA ZÓCLO DE RIEL Y PISTA (SILLA)','4103494, 4103524, 525.pdf');
A65: =A64+1 -> 59 | B65: 4103505 REV 0 | C65: el nombre del archivo tiene mas espacios | D65: 4103505 REV 0 | E65: Lamina resorte. | F65: =+UPPER(E65) -> LAMINA RESORTE. | G65: =+CONCATENATE("INSERT INTO fic (id, ficha, descripcion, archivo) VALUES(",A65,", '",B65,"', '",F65,"','",D65,".pdf');") -> INSERT INTO fic (id, ficha, descripcion, archivo) VALUES(59, '4103505 REV 0', 'LAMINA RESORTE. ','4103505 REV 0.pdf');
A66: =A65+1 -> 60 | B66: 4103509 REV 1 | D66: 4103509 REV 1 | E66: Arandela de presión con doble espiral. | F66: =+UPPER(E66) -> ARANDELA DE PRESIÓN CON DOBLE ESPIRAL. | G66: =+CONCATENATE("INSERT INTO fic (id, ficha, descripcion, archivo) VALUES(",A66,", '",B66,"', '",F66,"','",D66,".pdf');") -> INSERT INTO fic (id, ficha, descripcion, archivo) VALUES(60, '4103509 REV 1', 'ARANDELA DE PRESIÓN CON DOBLE ESPIRAL.','4103509 REV 1.pdf');
A67: =A66+1 -> 61 | B67: 4103522 REV 0 | D67: 4103522 REV 0 | E67: Charola de plástico pultruido reforzado con fibra de vidrio tipo FYP- A1-3N. | F67: =+UPPER(E67) -> CHAROLA DE PLÁSTICO PULTRUIDO REFORZADO CON FIBRA DE VIDRIO TIPO FYP- A1-3N. | G67: =+CONCATENATE("INSERT INTO fic (id, ficha, descripcion, archivo) VALUES(",A67,", '",B67,"', '",F67,"','",D67,".pdf');") -> INSERT INTO fic (id, ficha, descripcion, archivo) VALUES(61, '4103522 REV 0', 'CHAROLA DE PLÁSTICO PULTRUIDO REFORZADO CON FIBRA DE VIDRIO TIPO FYP- A1-3N.','4103522 REV 0.pdf');
A68: =A67+1 -> 62 | B68: 4103523-4103504 REV 0 | D68: 4103523-4103504 REV 0 | E68: Almohadilla acanalada para pista y riel sobre zoclo silla 4103523, 4103504. | F68: =+UPPER(E68) -> ALMOHADILLA ACANALADA PARA PISTA Y RIEL SOBRE ZOCLO SILLA 4103523, 4103504. | G68: =+CONCATENATE("INSERT INTO fic (id, ficha, descripcion, archivo) VALUES(",A68,", '",B68,"', '",F68,"','",D68,".pdf');") -> INSERT INTO fic (id, ficha, descripcion, archivo) VALUES(62, '4103523-4103504 REV 0', 'ALMOHADILLA ACANALADA PARA PISTA Y RIEL SOBRE ZOCLO SILLA 4103523, 4103504.','4103523-4103504 REV 0.pdf');
A69: =A68+1 -> 63 | B69: 4103550 | D69: 4103550 | E69: Lamina de resorte con recorte E.T. 61 C. | F69: =+UPPER(E69) -> LAMINA DE RESORTE CON RECORTE E.T. 61 C. | G69: =+CONCATENATE("INSERT INTO fic (id, ficha, descripcion, archivo) VALUES(",A69,", '",B69,"', '",F69,"','",D69,".pdf');") -> INSERT INTO fic (id, ficha, descripcion, archivo) VALUES(63, '4103550', 'LAMINA DE RESORTE CON RECORTE E.T. 61 C. ','4103550.pdf');
A70: =A69+1 -> 64 | B70: 4103566- 4103567- 4103568 REV 0 | C70: el nombre del archivo tiene mas espacios | D70: 4103566-4103567-4103568 REV 0 | E70: Grapa de nylon recortada 4103566 (grapa 8); 4103567 (grapa 9); 4103568 ( grapa 10). | F70: =+UPPER(E70) -> GRAPA DE NYLON RECORTADA 4103566 (GRAPA 8); 4103567 (GRAPA 9); 4103568 ( GRAPA 10). | G70: =+CONCATENATE("INSERT INTO fic (id, ficha, descripcion, archivo) VALUES(",A70,", '",B70,"', '",F70,"','",D70,".pdf');") -> INSERT INTO fic (id, ficha, descripcion, archivo) VALUES(64, '4103566- 4103567- 4103568 REV 0', 'GRAPA DE NYLON RECORTADA 4103566 (GRAPA 8); 4103567 (GRAPA 9); 4103568 ( GRAPA 10). ','4103566-4103567-4103568 REV 0.pdf');
A71: =A70+1 -> 65 | B71: 4103580 REV 0 | D71: 4103580 REV 0 | E71: Extención para tirafondera de 3/4" y largo de 13". | F71: =+UPPER(E71) -> EXTENCIÓN PARA TIRAFONDERA DE 3/4" Y LARGO DE 13". | G71: =+CONCATENATE("INSERT INTO fic (id, ficha, descripcion, archivo) VALUES(",A71,", '",B71,"', '",F71,"','",D71,".pdf');") -> INSERT INTO fic (id, ficha, descripcion, archivo) VALUES(65, '4103580 REV 0', 'EXTENCIÓN PARA TIRAFONDERA DE 3/4" Y LARGO DE 13".','4103580 REV 0.pdf');
A72: =A71+1 -> 66 | B72: 4103979 REV 0. | C72: el nombre del archivo tiene mas espacios | D72: 4103979 REV 0 | E72: Grapa NABLA G-4 para durmiente monolitico de concreto MRN. | F72: =+UPPER(E72) -> GRAPA NABLA G-4 PARA DURMIENTE MONOLITICO DE CONCRETO MRN. | G72: =+CONCATENATE("INSERT INTO fic (id, ficha, descripcion, archivo) VALUES(",A72,", '",B72,"', '",F72,"','",D72,".pdf');") -> INSERT INTO fic (id, ficha, descripcion, archivo) VALUES(66, '4103979 REV 0.', 'GRAPA NABLA G-4 PARA DURMIENTE MONOLITICO DE CONCRETO MRN.','4103979 REV 0.pdf');
A73: =A72+1 -> 67 | B73: 8500225 REV 1 | C73: el nombre del archivo tiene mas espacios | D73: 8500225 REV 1 | E73: End post separador aislante. | F73: =+UPPER(E73) -> END POST SEPARADOR AISLANTE. | G73: =+CONCATENATE("INSERT INTO fic (id, ficha, descripcion, archivo) VALUES(",A73,", '",B73,"', '",F73,"','",D73,".pdf');") -> INSERT INTO fic (id, ficha, descripcion, archivo) VALUES(67, '8500225 REV 1', 'END POST SEPARADOR AISLANTE.','8500225 REV 1.pdf');

Sheet SQL fic M-P
A3: Número | B3: Archivo electrónico | E3: Nombre
A4: 3.2 FICHAS DE INSPECCIÓN CONTROL DE CÁLIDAD
A5: FICHAS M-P | B5: ficha | C5: archivo
A6: =+'SQL fic A-L'!A73+1 -> 68 | B6: 4101025 | C6: 4101025 | E6: Pata de articulación. | F6: =+UPPER(E6) -> PATA DE ARTICULACIÓN. | G6: =+CONCATENATE("INSERT INTO fic (id, ficha, descripcion, archivo) VALUES(",A6,", '",B6,"', '",F6,"','",C6,".pdf');") -> INSERT INTO fic (id, ficha, descripcion, archivo) VALUES(68, '4101025', 'PATA DE ARTICULACIÓN.','4101025.pdf');
A7: =A6+1 -> 69 | B7: 4101223 | C7: 4101223 | E7: Plaqueta aislante | F7: =+UPPER(E7) -> PLAQUETA AISLANTE | G7: =+CONCATENATE("INSERT INTO fic (id, ficha, descripcion, archivo) VALUES(",A7,", '",B7,"', '",F7,"','",C7,".pdf');") -> INSERT INTO fic (id, ficha, descripcion, archivo) VALUES(69, '4101223', 'PLAQUETA AISLANTE ','4101223.pdf');
A8: =A7+1 -> 70 | B8: 4101224 REV 1 | C8: 4101224 REV 1 | E8: Planchuela inclinada exterior de tirante. | F8: =+UPPER(E8) -> PLANCHUELA INCLINADA EXTERIOR DE TIRANTE. | G8: =+CONCATENATE("INSERT INTO fic (id, ficha, descripcion, archivo) VALUES(",A8,", '",B8,"', '",F8,"','",C8,".pdf');") -> INSERT INTO fic (id, ficha, descripcion, archivo) VALUES(70, '4101224 REV 1', 'PLANCHUELA INCLINADA EXTERIOR DE TIRANTE.','4101224 REV 1.pdf');
A9: =A8+1 -> 71 | B9: 4101225-4102490 REV 2 | C9: 4101225-4102490 REV 2 | E9: Planchuela interior para agujas a derecha 4101225, 4102490. | F9: =+UPPER(E9) -> PLANCHUELA INTERIOR PARA AGUJAS A DERECHA 4101225, 4102490. | G9: =+CONCATENATE("INSERT INTO fic (id, ficha, descripcion, archivo) VALUES(",A9,", '",B9,"', '",F9,"','",C9,".pdf');") -> INSERT INTO fic (id, ficha, descripcion, archivo) VALUES(71, '4101225-4102490 REV 2', 'PLANCHUELA INTERIOR PARA AGUJAS A DERECHA 4101225, 4102490.','4101225-4102490 REV 2.pdf');
A10: =A9+1 -> 72 | B10: 4101243 REV 1 | C10: 4101243 REV 1 | E10: Plaqueta aislante 250 X 90 X 10 | F10: =+UPPER(E10) -> PLAQUETA AISLANTE 250 X 90 X 10 | G10: =+CONCATENATE("INSERT INTO fic (id, ficha, descripcion, archivo) VALUES(",A10,", '",B10,"', '",F10,"','",C10,".pdf');") -> INSERT INTO fic (id, ficha, descripcion, archivo) VALUES(72, '4101243 REV 1', 'PLAQUETA AISLANTE 250 X 90 X 10 ','4101243 REV 1.pdf');
A11: =A10+1 -> 73 | B11: 4101244 REV 1 | C11: 4101244 REV 1 | E11: Placa de extremo. | F11: =+UPPER(E11) -> PLACA DE EXTREMO. | G11: =+CONCATENATE("INSERT INTO fic (id, ficha, descripcion, archivo) VALUES(",A11,", '",B11,"', '",F11,"','",C11,".pdf');") -> INSERT INTO fic (id, ficha, descripcion, archivo) VALUES(73, '4101244 REV 1', 'PLACA DE EXTREMO.','4101244 REV 1.pdf');
A12: =A11+1 -> 74 | B12: 4101247, 4103491, 4103492 | C12: 4101247, 4103491, 4103492 | E12: Plaqueta de ajuste 4101247, 4103191, 4103492 | F12: =+UPPER(E12) -> PLAQUETA DE AJUSTE 4101247, 4103191, 4103492 | G12: =+CONCATENATE("INSERT INTO fic (id, ficha, descripcion, archivo) VALUES(",A12,", '",B12,"', '",F12,"','",C12,".pdf');") -> INSERT INTO fic (id, ficha, descripcion, archivo) VALUES(74, '4101247, 4103491, 4103492', 'PLAQUETA DE AJUSTE 4101247, 4103191, 4103492','4101247, 4103491, 4103492.pdf');
A13: =A12+1 -> 75 | B13: 4101286 | C13: 4101286 | E13: Manguito de acoplamiento para las barras de mando. | F13: =+UPPER(E13) -> MANGUITO DE ACOPLAMIENTO PARA LAS BARRAS DE MANDO. | G13: =+CONCATENATE("INSERT INTO fic (id, ficha, descripcion, archivo) VALUES(",A13,", '",B13,"', '",F13,"','",C13,".pdf');") -> INSERT INTO fic (id, ficha, descripcion, archivo) VALUES(75, '4101286', 'MANGUITO DE ACOPLAMIENTO PARA LAS BARRAS DE MANDO.','4101286.pdf');
A14: =A13+1 -> 76 | B14: 4101294 REV 1 | C14: 4101294 REV 1 | E14: Plca soporte de escuadra de retorno. | F14: =+UPPER(E14) -> PLCA SOPORTE DE ESCUADRA DE RETORNO. | G14: =+CONCATENATE("INSERT INTO fic (id, ficha, descripcion, archivo) VALUES(",A14,", '",B14,"', '",F14,"','",C14,".pdf');") -> INSERT INTO fic (id, ficha, descripcion, archivo) VALUES(76, '4101294 REV 1', 'PLCA SOPORTE DE ESCUADRA DE RETORNO.','4101294 REV 1.pdf');
A15: =A14+1 -> 77 | B15: 4102031 | C15: 4102031 | D15: por indicación de reunión del 31 de mayo de 2018 se elimina porque se incluyó plano a la especificación mismo PDF | E15: Planchuela aislante de 6 barrenos para riel de 80 lb/yd | F15: =+UPPER(E15) -> PLANCHUELA AISLANTE DE 6 BARRENOS PARA RIEL DE 80 LB/YD | G15: =+CONCATENATE("INSERT INTO fic (id, ficha, descripcion, archivo) VALUES(",A15,", '",B15,"', '",F15,"','",C15,".pdf');") -> INSERT INTO fic (id, ficha, descripcion, archivo) VALUES(77, '4102031', 'PLANCHUELA AISLANTE DE 6 BARRENOS PARA RIEL DE 80 LB/YD','4102031.pdf');
B16: 4102031P | C16: 4102031P | D16: por indicación de reunión del 31 de mayo de 2018 se elimina porque se incluyó plano a la especificación mismo PDF | E16: Planchuela aislante de 6 barrenos para riel de 80 lb/yd | F16: =+UPPER(E16) -> PLANCHUELA AISLANTE DE 6 BARRENOS PARA RIEL DE 80 LB/YD
A17: =+A15+1 -> 78 | B17: 4102035 REV 1 | C17: 4102035 REV 1 | E17: Planchuela aislante para pista de rodamiento de 6 barrenos (modificada). | F17: =+UPPER(E17) -> PLANCHUELA AISLANTE PARA PISTA DE RODAMIENTO DE 6 BARRENOS (MODIFICADA). | G17: =+CONCATENATE("INSERT INTO fic (id, ficha, descripcion, archivo) VALUES(",A17,", '",B17,"', '",F17,"','",C17,".pdf');") -> INSERT INTO fic (id, ficha, descripcion, archivo) VALUES(78, '4102035 REV 1', 'PLANCHUELA AISLANTE PARA PISTA DE RODAMIENTO DE 6 BARRENOS (MODIFICADA).','4102035 REV 1.pdf');
A18: =A17+1 -> 79 | B18: 4102036 REV 1 | C18: 4102036 REV 1 | E18: Plaqueta para junta aislante de pista | F18: =+UPPER(E18) -> PLAQUETA PARA JUNTA AISLANTE DE PISTA | G18: =+CONCATENATE("INSERT INTO fic (id, ficha, descripcion, archivo) VALUES(",A18,", '",B18,"', '",F18,"','",C18,".pdf');") -> INSERT INTO fic (id, ficha, descripcion, archivo) VALUES(79, '4102036 REV 1', 'PLAQUETA PARA JUNTA AISLANTE DE PISTA ','4102036 REV 1.pdf');
A19: =A18+1 -> 80 | B19: 4102041 REV 3 | C19: 4102041 REV 3 | D19: espacios de mas al final | E19: Perno para durmiente de madera tipo "S". | F19: =+UPPER(E19) -> PERNO PARA DURMIENTE DE MADERA TIPO "S". | G19: =+CONCATENATE("INSERT INTO fic (id, ficha, descripcion, archivo) VALUES(",A19,", '",B19,"', '",F19,"','",C19,".pdf');") -> INSERT INTO fic (id, ficha, descripcion, archivo) VALUES(80, '4102041 REV 3 ', 'PERNO PARA DURMIENTE DE MADERA TIPO "S". ','4102041 REV 3.pdf');
A20: =A19+1 -> 81 | B20: 4102048, 4102540, 4102647 rev4 | C20: 4102048, 4102540, 4102647 rev4 | E20: Perno tipo nelson con ferrul 4102048, 4102540 y 4102647 | F20: =+UPPER(E20) -> PERNO TIPO NELSON CON FERRUL 4102048, 4102540 Y 4102647 | G20: =+CONCATENATE("INSERT INTO fic (id, ficha, descripcion, archivo) VALUES(",A20,", '",B20,"', '",F20,"','",C20,".pdf');") -> INSERT INTO fic (id, ficha, descripcion, archivo) VALUES(81, '4102048, 4102540, 4102647 rev4', 'PERNO TIPO NELSON CON FERRUL 4102048, 4102540 Y 4102647','4102048, 4102540, 4102647 rev4.pdf');
A21: =A20+1 -> 82 | B21: 4102052, 4102152 | C21: 4102052, 4102152 | E21: Plaqueta inclinida 45 X 40 4102052, 4102152 | F21: =+UPPER(E21) -> PLAQUETA INCLINIDA 45 X 40 4102052, 4102152 | G21: =+CONCATENATE("INSERT INTO fic (id, ficha, descripcion, archivo) VALUES(",A21,", '",B21,"', '",F21,"','",C21,".pdf');") -> INSERT INTO fic (id, ficha, descripcion, archivo) VALUES(82, '4102052, 4102152', 'PLAQUETA INCLINIDA 45 X 40 4102052, 4102152','4102052, 4102152.pdf');
A22: =A21+1 -> 83 | B22: 4102066 REV 0 | C22: 4102066 REV 0 | E22: Plaqueta aislante tipo Z | F22: =+UPPER(E22) -> PLAQUETA AISLANTE TIPO Z | G22: =+CONCATENATE("INSERT INTO fic (id, ficha, descripcion, archivo) VALUES(",A22,", '",B22,"', '",F22,"','",C22,".pdf');") -> INSERT INTO fic (id, ficha, descripcion, archivo) VALUES(83, '4102066 REV 0', 'PLAQUETA AISLANTE TIPO Z','4102066 REV 0.pdf');
A23: =A22+1 -> 84 | B23: 4102072 REV 0 | C23: 4102072 REV 0 | E23: Plaqueta aislante de riel de 80 LB/YD | F23: =+UPPER(E23) -> PLAQUETA AISLANTE DE RIEL DE 80 LB/YD | G23: =+CONCATENATE("INSERT INTO fic (id, ficha, descripcion, archivo) VALUES(",A23,", '",B23,"', '",F23,"','",C23,".pdf');") -> INSERT INTO fic (id, ficha, descripcion, archivo) VALUES(84, '4102072 REV 0', 'PLAQUETA AISLANTE DE RIEL DE 80 LB/YD','4102072 REV 0.pdf');
A24: =A23+1 -> 85 | B24: 4102073 REV 0 | C24: 4102073 REV 0 | E24: Plaqueta aislante de pista | F24: =+UPPER(E24) -> PLAQUETA AISLANTE DE PISTA | G24: =+CONCATENATE("INSERT INTO fic (id, ficha, descripcion, archivo) VALUES(",A24,", '",B24,"', '",F24,"','",C24,".pdf');") -> INSERT INTO fic (id, ficha, descripcion, archivo) VALUES(85, '4102073 REV 0', 'PLAQUETA AISLANTE DE PISTA ','4102073 REV 0.pdf');
A25: =A24+1 -> 86 | B25: 4102161 | C25: 4102161 | D25: por indicación de reunión del 31 de mayo de 2018 se agrega plano a especificacion mismo PDF | E25: Planchuela aislante para pista de rodamiento en zona de aparatos. | F25: =+UPPER(E25) -> PLANCHUELA AISLANTE PARA PISTA DE RODAMIENTO EN ZONA DE APARATOS. | G25: =+CONCATENATE("INSERT INTO fic (id, ficha, descripcion, archivo) VALUES(",A25,", '",B25,"', '",F25,"','",C25,".pdf');") -> INSERT INTO fic (id, ficha, descripcion, archivo) VALUES(86, '4102161', 'PLANCHUELA AISLANTE PARA PISTA DE RODAMIENTO EN ZONA DE APARATOS.','4102161.pdf');
B26: 4102161P | C26: 4102161P | D26: por indicación de reunión del 31 de mayo de 2018 se elimina porque se incluyó plano a la especificación mismo PDF | E26: Planchuela aislante para pista de rodamiento en zona de aparatos. | F26: =+UPPER(E26) -> PLANCHUELA AISLANTE PARA PISTA DE RODAMIENTO EN ZONA DE APARATOS.
A27: =+A25+1 -> 87 | B27: 4102162 REV 1 | C27: 4102162 REV 1 | E27: Planchuela aislante interior para riel de 100 lb/yd | F27: =+UPPER(E27) -> PLANCHUELA AISLANTE INTERIOR PARA RIEL DE 100 LB/YD | G27: =+CONCATENATE("INSERT INTO fic (id, ficha, descripcion, archivo) VALUES(",A27,", '",B27,"', '",F27,"','",C27,".pdf');") -> INSERT INTO fic (id, ficha, descripcion, archivo) VALUES(87, '4102162 REV 1', 'PLANCHUELA AISLANTE INTERIOR PARA RIEL DE 100 LB/YD','4102162 REV 1.pdf');
A28: =A27+1 -> 88 | B28: 4102163 | C28: 4102163 | D28: por indicación de reunión del 31 de mayo de 2018 se agrega plano a especificacion mismo PDF | E28: Planchuela aislante exterior para riel de 100 lb/yd | F28: =+UPPER(E28) -> PLANCHUELA AISLANTE EXTERIOR PARA RIEL DE 100 LB/YD | G28: =+CONCATENATE("INSERT INTO fic (id, ficha, descripcion, archivo) VALUES(",A28,", '",B28,"', '",F28,"','",C28,".pdf');") -> INSERT INTO fic (id, ficha, descripcion, archivo) VALUES(88, '4102163', 'PLANCHUELA AISLANTE EXTERIOR PARA RIEL DE 100 LB/YD','4102163.pdf');
B29: 4102163P | C29: 4102163P | D29: por indicación de reunión del 31 de mayo de 2018 se elimina porque se incluyó plano a la especificación mismo PDF | E29: Planchuela aislante exterior para riel de 100 lb/yd | F29: =+UPPER(E29) -> PLANCHUELA AISLANTE EXTERIOR PARA RIEL DE 100 LB/YD
A30: =+A28+1 -> 89 | B30: 4102227 REV 0 | C30: 4102227 REV 0 | E30: Planchuela metalica para pista de rodamiento | F30: =+UPPER(E30) -> PLANCHUELA METALICA PARA PISTA DE RODAMIENTO | G30: =+CONCATENATE("INSERT INTO fic (id, ficha, descripcion, archivo) VALUES(",A30,", '",B30,"', '",F30,"','",C30,".pdf');") -> INSERT INTO fic (id, ficha, descripcion, archivo) VALUES(89, '4102227 REV 0', 'PLANCHUELA METALICA PARA PISTA DE RODAMIENTO ','4102227 REV 0.pdf');
A31: =A30+1 -> 90 | B31: 4102228 REV 0 | C31: 4102228 REV 0 | E31: Planchuela metalica para riel de 80 LB/YD (Junta de dilatacion de riel ) | F31: =+UPPER(E31) -> PLANCHUELA METALICA PARA RIEL DE 80 LB/YD (JUNTA DE DILATACION DE RIEL ) | G31: =+CONCATENATE("INSERT INTO fic (id, ficha, descripcion, archivo) VALUES(",A31,", '",B31,"', '",F31,"','",C31,".pdf');") -> INSERT INTO fic (id, ficha, descripcion, archivo) VALUES(90, '4102228 REV 0', 'PLANCHUELA METALICA PARA RIEL DE 80 LB/YD (JUNTA DE DILATACION DE RIEL ) ','4102228 REV 0.pdf');
A32: =A31+1 -> 91 | B32: 4102229 REV 0 | C32: 4102229 REV 0 | E32: Plaqueta metalica de 60 X 45 X 6 para junta de dilatacion de riel y pista | F32: =+UPPER(E32) -> PLAQUETA METALICA DE 60 X 45 X 6 PARA JUNTA DE DILATACION DE RIEL Y PISTA | G32: =+CONCATENATE("INSERT INTO fic (id, ficha, descripcion, archivo) VALUES(",A32,", '",B32,"', '",F32,"','",C32,".pdf');") -> INSERT INTO fic (id, ficha, descripcion, archivo) VALUES(91, '4102229 REV 0', 'PLAQUETA METALICA DE 60 X 45 X 6 PARA JUNTA DE DILATACION DE RIEL Y PISTA ','4102229 REV 0.pdf');
A33: =A32+1 -> 92 | B33: 4102234 REV 1 | C33: 4102234 REV 1 | E33: Placa aislante de fibra de vidrio. | F33: =+UPPER(E33) -> PLACA AISLANTE DE FIBRA DE VIDRIO. | G33: =+CONCATENATE("INSERT INTO fic (id, ficha, descripcion, archivo) VALUES(",A33,", '",B33,"', '",F33,"','",C33,".pdf');") -> INSERT INTO fic (id, ficha, descripcion, archivo) VALUES(92, '4102234 REV 1', 'PLACA AISLANTE DE FIBRA DE VIDRIO.','4102234 REV 1.pdf');
A34: =A33+1 -> 93 | B34: 4102272 REV 0 | C34: 4102272 REV 0 | E34: Plaqueta metalica de 2 orificios para junta aislante de pista | F34: =+UPPER(E34) -> PLAQUETA METALICA DE 2 ORIFICIOS PARA JUNTA AISLANTE DE PISTA | G34: =+CONCATENATE("INSERT INTO fic (id, ficha, descripcion, archivo) VALUES(",A34,", '",B34,"', '",F34,"','",C34,".pdf');") -> INSERT INTO fic (id, ficha, descripcion, archivo) VALUES(93, '4102272 REV 0', 'PLAQUETA METALICA DE 2 ORIFICIOS PARA JUNTA AISLANTE DE PISTA ','4102272 REV 0.pdf');
A35: =A34+1 -> 94 | B35: 4102310, 4102312 REV 1 | C35: 4102310, 4102312 REV 1 | E35: Planchuela interior para agujas a izquierda 4102310, 4102312. | F35: =+UPPER(E35) -> PLANCHUELA INTERIOR PARA AGUJAS A IZQUIERDA 4102310, 4102312. | G35: =+CONCATENATE("INSERT INTO fic (id, ficha, descripcion, archivo) VALUES(",A35,", '",B35,"', '",F35,"','",C35,".pdf');") -> INSERT INTO fic (id, ficha, descripcion, archivo) VALUES(94, '4102310, 4102312 REV 1', 'PLANCHUELA INTERIOR PARA AGUJAS A IZQUIERDA 4102310, 4102312.','4102310, 4102312 REV 1.pdf');
A36: =A35+1 -> 95 | B36: 4102316 REV 0 | C36: 4102316 REV 0 | E36: Perno para barra de saparación. | F36: =+UPPER(E36) -> PERNO PARA BARRA DE SAPARACIÓN. | G36: =+CONCATENATE("INSERT INTO fic (id, ficha, descripcion, archivo) VALUES(",A36,", '",B36,"', '",F36,"','",C36,".pdf');") -> INSERT INTO fic (id, ficha, descripcion, archivo) VALUES(95, '4102316 REV 0', 'PERNO PARA BARRA DE SAPARACIÓN.','4102316 REV 0.pdf');
A37: =A36+1 -> 96 | B37: 4102453 rev 1 | C37: 4102453 rev 1 | E37: Perno tirafondo de 19 mm con tuerca HL-18. | F37: =+UPPER(E37) -> PERNO TIRAFONDO DE 19 MM CON TUERCA HL-18. | G37: =+CONCATENATE("INSERT INTO fic (id, ficha, descripcion, archivo) VALUES(",A37,", '",B37,"', '",F37,"','",C37,".pdf');") -> INSERT INTO fic (id, ficha, descripcion, archivo) VALUES(96, '4102453 rev 1', 'PERNO TIRAFONDO DE 19 MM CON TUERCA HL-18.','4102453 rev 1.pdf');
A38: =A37+1 -> 97 | B38: 4102463 REV 1 | C38: 4102463 REV 1 | E38: Placa resorte tipo APGV. | F38: =+UPPER(E38) -> PLACA RESORTE TIPO APGV. | G38: =+CONCATENATE("INSERT INTO fic (id, ficha, descripcion, archivo) VALUES(",A38,", '",B38,"', '",F38,"','",C38,".pdf');") -> INSERT INTO fic (id, ficha, descripcion, archivo) VALUES(97, '4102463 REV 1', 'PLACA RESORTE TIPO APGV.','4102463 REV 1.pdf');
A39: =A38+1 -> 98 | B39: 4102470 REV 1 | C39: 4102470 REV 1 | E39: Plaqueta metalica de 2 orificios para junta aislante de riel de 100 lb/yd | F39: =+UPPER(E39) -> PLAQUETA METALICA DE 2 ORIFICIOS PARA JUNTA AISLANTE DE RIEL DE 100 LB/YD | G39: =+CONCATENATE("INSERT INTO fic (id, ficha, descripcion, archivo) VALUES(",A39,", '",B39,"', '",F39,"','",C39,".pdf');") -> INSERT INTO fic (id, ficha, descripcion, archivo) VALUES(98, '4102470 REV 1', 'PLAQUETA METALICA DE 2 ORIFICIOS PARA JUNTA AISLANTE DE RIEL DE 100 LB/YD','4102470 REV 1.pdf');
A40: =A39+1 -> 99 | B40: 4102554, 555, 556, 4102634, 4102646. | C40: 4102554, 555, 556, 4102634, 4102646 | D40: espacios intercalados | E40: Media calza para ajuste de barra guía 4102554, 4102555, 4102556, 4102634, 4102646. | F40: =+UPPER(E40) -> MEDIA CALZA PARA AJUSTE DE BARRA GUÍA 4102554, 4102555, 4102556, 4102634, 4102646. | G40: =+CONCATENATE("INSERT INTO fic (id, ficha, descripcion, archivo) VALUES(",A40,", '",B40,"', '",F40,"','",C40,".pdf');") -> INSERT INTO fic (id, ficha, descripcion, archivo) VALUES(99, '4102554, 555, 556, 4102634, 4102646.', 'MEDIA CALZA PARA AJUSTE DE BARRA GUÍA 4102554, 4102555, 4102556, 4102634, 4102646.','4102554, 555, 556, 4102634, 4102646.pdf');
A41: =A40+1 -> 100 | B41: 4102753 REV 2 | C41: 4102753 REV 2 | E41: Plaqueta para junta aislante de riel de 80 lb/yd | F41: =+UPPER(E41) -> PLAQUETA PARA JUNTA AISLANTE DE RIEL DE 80 LB/YD | G41: =+CONCATENATE("INSERT INTO fic (id, ficha, descripcion, archivo) VALUES(",A41,", '",B41,"', '",F41,"','",C41,".pdf');") -> INSERT INTO fic (id, ficha, descripcion, archivo) VALUES(100, '4102753 REV 2', 'PLAQUETA PARA JUNTA AISLANTE DE RIEL DE 80 LB/YD','4102753 REV 2.pdf');
A42: =A41+1 -> 101 | B42: 4103134-4103247 REV 0 | C42: 4103134-4103247 REV 0 | E42: Perno para fijación de barra guía de diametro 16 L=X 4103134, 4103247. | F42: =+UPPER(E42) -> PERNO PARA FIJACIÓN DE BARRA GUÍA DE DIAMETRO 16 L=X 4103134, 4103247. | G42: =+CONCATENATE("INSERT INTO fic (id, ficha, descripcion, archivo) VALUES(",A42,", '",B42,"', '",F42,"','",C42,".pdf');") -> INSERT INTO fic (id, ficha, descripcion, archivo) VALUES(101, '4103134-4103247 REV 0', 'PERNO PARA FIJACIÓN DE BARRA GUÍA DE DIAMETRO 16 L=X 4103134, 4103247.','4103134-4103247 REV 0.pdf');
A43: =A42+1 -> 102 | B43: 4103246 | C43: 4103246 | E43: Proteccion de neumatico portador ponchado | F43: =+UPPER(E43) -> PROTECCION DE NEUMATICO PORTADOR PONCHADO | G43: =+CONCATENATE("INSERT INTO fic (id, ficha, descripcion, archivo) VALUES(",A43,", '",B43,"', '",F43,"','",C43,".pdf');") -> INSERT INTO fic (id, ficha, descripcion, archivo) VALUES(102, '4103246', 'PROTECCION DE NEUMATICO PORTADOR PONCHADO ','4103246.pdf');
A44: =A43+1 -> 103 | B44: 4103377 REV 0 | C44: 4103377 REV 0 | E44: Planchuela metálica interior para junta mecánica de riel de 80 LB/YD. | F44: =+UPPER(E44) -> PLANCHUELA METÁLICA INTERIOR PARA JUNTA MECÁNICA DE RIEL DE 80 LB/YD. | G44: =+CONCATENATE("INSERT INTO fic (id, ficha, descripcion, archivo) VALUES(",A44,", '",B44,"', '",F44,"','",C44,".pdf');") -> INSERT INTO fic (id, ficha, descripcion, archivo) VALUES(103, '4103377 REV 0', 'PLANCHUELA METÁLICA INTERIOR PARA JUNTA MECÁNICA DE RIEL DE 80 LB/YD.','4103377 REV 0.pdf');
A45: =A44+1 -> 104 | B45: 4103500 REV 0. | C45: 4103500 REV 0 | D45: punto al final | E45: Planchuela metálica exterior para junta mecánica de riel de 80 LB/YD. | F45: =+UPPER(E45) -> PLANCHUELA METÁLICA EXTERIOR PARA JUNTA MECÁNICA DE RIEL DE 80 LB/YD. | G45: =+CONCATENATE("INSERT INTO fic (id, ficha, descripcion, archivo) VALUES(",A45,", '",B45,"', '",F45,"','",C45,".pdf');") -> INSERT INTO fic (id, ficha, descripcion, archivo) VALUES(104, '4103500 REV 0.', 'PLANCHUELA METÁLICA EXTERIOR PARA JUNTA MECÁNICA DE RIEL DE 80 LB/YD.','4103500 REV 0.pdf');
A46: =A45+1 -> 105 | B46: 4103501 REV 0 | C46: 4103501 REV 0 | E46: Planchuela metálica para junta mecánica de pista. | F46: =+UPPER(E46) -> PLANCHUELA METÁLICA PARA JUNTA MECÁNICA DE PISTA. | G46: =+CONCATENATE("INSERT INTO fic (id, ficha, descripcion, archivo) VALUES(",A46,", '",B46,"', '",F46,"','",C46,".pdf');") -> INSERT INTO fic (id, ficha, descripcion, archivo) VALUES(105, '4103501 REV 0', 'PLANCHUELA METÁLICA PARA JUNTA MECÁNICA DE PISTA.','4103501 REV 0.pdf');
A47: =A46+1 -> 106 | B47: 4103513 REV 2 | C47: 4103513 REV 2 | E47: Placa de ácero inoxidable 4 x 152 x 305. | F47: =+UPPER(E47) -> PLACA DE ÁCERO INOXIDABLE 4 X 152 X 305. | G47: =+CONCATENATE("INSERT INTO fic (id, ficha, descripcion, archivo) VALUES(",A47,", '",B47,"', '",F47,"','",C47,".pdf');") -> INSERT INTO fic (id, ficha, descripcion, archivo) VALUES(106, '4103513 REV 2', 'PLACA DE ÁCERO INOXIDABLE 4 X 152 X 305.','4103513 REV 2.pdf');
A48: =A47+1 -> 107 | B48: 4103573 | C48: 4103573 | E48: Plca resorte APGV recortada para juntas. | F48: =+UPPER(E48) -> PLCA RESORTE APGV RECORTADA PARA JUNTAS. | G48: =+CONCATENATE("INSERT INTO fic (id, ficha, descripcion, archivo) VALUES(",A48,", '",B48,"', '",F48,"','",C48,".pdf');") -> INSERT INTO fic (id, ficha, descripcion, archivo) VALUES(107, '4103573', 'PLCA RESORTE APGV RECORTADA PARA JUNTAS.','4103573.pdf');
A49: =A48+1 -> 108 | B49: 4103581 | C49: 4103581 | D49: por indicación de reunión del 31 de mayo de 2018 se agrega plano a especificacion mismo PDF | E49: Planchuela metálica de 6 orificios para junta mecánica deslizante para riel. | F49: =+UPPER(E49) -> PLANCHUELA METÁLICA DE 6 ORIFICIOS PARA JUNTA MECÁNICA DESLIZANTE PARA RIEL. | G49: =+CONCATENATE("INSERT INTO fic (id, ficha, descripcion, archivo) VALUES(",A49,", '",B49,"', '",F49,"','",C49,".pdf');") -> INSERT INTO fic (id, ficha, descripcion, archivo) VALUES(108, '4103581', 'PLANCHUELA METÁLICA DE 6 ORIFICIOS PARA JUNTA MECÁNICA DESLIZANTE PARA RIEL.','4103581.pdf');
A50: =A49+1 -> 109 | B50: 4103582 REV 0 | C50: 4103582 REV 0 | D50: espacios intercalados | E50: Planchuela matálica de 6 orificios para junta mecánica deslaziante para pista | F50: =+UPPER(E50) -> PLANCHUELA MATÁLICA DE 6 ORIFICIOS PARA JUNTA MECÁNICA DESLAZIANTE PARA PISTA | G50: =+CONCATENATE("INSERT INTO fic (id, ficha, descripcion, archivo) VALUES(",A50,", '",B50,"', '",F50,"','",C50,".pdf');") -> INSERT INTO fic (id, ficha, descripcion, archivo) VALUES(109, '4103582 REV 0', 'PLANCHUELA MATÁLICA DE 6 ORIFICIOS PARA JUNTA MECÁNICA DESLAZIANTE PARA PISTA ','4103582 REV 0.pdf');
A51: =A50+1 -> 110 | B51: 4103583 | C51: 4103583 | D51: por indicación de reunión del 31 de mayo de 2018 se agrega plano a especificacion mismo PDF | E51: Planchuela aislante de 6 barrenos para embridado de riel de 80 lb/yd. | F51: =+UPPER(E51) -> PLANCHUELA AISLANTE DE 6 BARRENOS PARA EMBRIDADO DE RIEL DE 80 LB/YD. | G51: =+CONCATENATE("INSERT INTO fic (id, ficha, descripcion, archivo) VALUES(",A51,", '",B51,"', '",F51,"','",C51,".pdf');") -> INSERT INTO fic (id, ficha, descripcion, archivo) VALUES(110, '4103583', 'PLANCHUELA AISLANTE DE 6 BARRENOS PARA EMBRIDADO DE RIEL DE 80 LB/YD.','4103583.pdf');
A52: =A51+1 -> 111 | B52: 4103584 REV 1. | C52: 4103584 REV 1 | D52: espacios intercalados | E52: Planchuela aislante exterior para embriado de riel de 100 LB/YD. | F52: =+UPPER(E52) -> PLANCHUELA AISLANTE EXTERIOR PARA EMBRIADO DE RIEL DE 100 LB/YD. | G52: =+CONCATENATE("INSERT INTO fic (id, ficha, descripcion, archivo) VALUES(",A52,", '",B52,"', '",F52,"','",C52,".pdf');") -> INSERT INTO fic (id, ficha, descripcion, archivo) VALUES(111, '4103584 REV 1.', 'PLANCHUELA AISLANTE EXTERIOR PARA EMBRIADO DE RIEL DE 100 LB/YD.','4103584 REV 1.pdf');
A53: =A52+1 -> 112 | B53: 4103585 REV 2 | C53: 4103585 REV 2 | E53: Planchuela aislante para embridado de pista de rodamiento de 6 barrenos. | F53: =+UPPER(E53) -> PLANCHUELA AISLANTE PARA EMBRIDADO DE PISTA DE RODAMIENTO DE 6 BARRENOS. | G53: =+CONCATENATE("INSERT INTO fic (id, ficha, descripcion, archivo) VALUES(",A53,", '",B53,"', '",F53,"','",C53,".pdf');") -> INSERT INTO fic (id, ficha, descripcion, archivo) VALUES(112, '4103585 REV 2', 'PLANCHUELA AISLANTE PARA EMBRIDADO DE PISTA DE RODAMIENTO DE 6 BARRENOS.','4103585 REV 2.pdf');
A54: =A53+1 -> 113 | B54: 4103586 | C54: 4103586 | D54: por indicación de reunión del 31 de mayo de 2018 se agrega plano a especificacion mismo PDF | E54: Planchuela aislante interior para embridado de riel de 100 lb/yd | F54: =+UPPER(E54) -> PLANCHUELA AISLANTE INTERIOR PARA EMBRIDADO DE RIEL DE 100 LB/YD | G54: =+CONCATENATE("INSERT INTO fic (id, ficha, descripcion, archivo) VALUES(",A54,", '",B54,"', '",F54,"','",C54,".pdf');") -> INSERT INTO fic (id, ficha, descripcion, archivo) VALUES(113, '4103586', 'PLANCHUELA AISLANTE INTERIOR PARA EMBRIDADO DE RIEL DE 100 LB/YD','4103586.pdf');
A55: =A54+1 -> 114 | B55: 4103587 REV 2 | C55: 4103587 REV 2 | E55: Planchuela aislante para embridado de pista de rodamiento en zona de aparatos. | F55: =+UPPER(E55) -> PLANCHUELA AISLANTE PARA EMBRIDADO DE PISTA DE RODAMIENTO EN ZONA DE APARATOS. | G55: =+CONCATENATE("INSERT INTO fic (id, ficha, descripcion, archivo) VALUES(",A55,", '",B55,"', '",F55,"','",C55,".pdf');") -> INSERT INTO fic (id, ficha, descripcion, archivo) VALUES(114, '4103587 REV 2', 'PLANCHUELA AISLANTE PARA EMBRIDADO DE PISTA DE RODAMIENTO EN ZONA DE APARATOS.','4103587 REV 2.pdf');
A56: =A55+1 -> 115 | B56: 4103597, 4103593 | C56: 4103597, 4103593 | E56: Protección neumático portador ponchado con canaleta protectora de conector de la rueda fónica | F56: =+UPPER(E56) -> PROTECCIÓN NEUMÁTICO PORTADOR PONCHADO CON CANALETA PROTECTORA DE CONECTOR DE LA RUEDA FÓNICA | G56: =+CONCATENATE("INSERT INTO fic (id, ficha, descripcion, archivo) VALUES(",A56,", '",B56,"', '",F56,"','",C56,".pdf');") -> INSERT INTO fic (id, ficha, descripcion, archivo) VALUES(115, '4103597, 4103593', 'PROTECCIÓN NEUMÁTICO PORTADOR PONCHADO CON CANALETA PROTECTORA DE CONECTOR DE LA RUEDA FÓNICA','4103597, 4103593.pdf');

Sheet SQL fic R-Z
A3: Número | B3: Archivo electrónico | E3: Nombre
A4: 3.3 FICHAS DE INSPECCIÓN CONTROL DE CÁLIDAD
A5: FICHAS R-Z | B5: ficha | C5: archivo
A6: =+'SQL fic M-P'!A56+1 -> 116 | B6: 41020 | C6: 41020 | E6: Solvente dielectrico libre de clorado. | F6: =+UPPER(E6) -> SOLVENTE DIELECTRICO LIBRE DE CLORADO. | G6: =+CONCATENATE("INSERT INTO fic (id, ficha, descripcion, archivo) VALUES(",A6,", '",B6,"', '",F6,"','",C6,".pdf');") -> INSERT INTO fic (id, ficha, descripcion, archivo) VALUES(116, '41020', 'SOLVENTE DIELECTRICO LIBRE DE CLORADO.','41020.pdf');
A7: =A6+1 -> 117 | B7: 123416 REV 0 | C7: 123416 REV 0 | D7: espacios de mas | E7: Tuerca hexagonal HKM 14. | F7: =+UPPER(E7) -> TUERCA HEXAGONAL HKM 14. | G7: =+CONCATENATE("INSERT INTO fic (id, ficha, descripcion, archivo) VALUES(",A7,", '",B7,"', '",F7,"','",C7,".pdf');") -> INSERT INTO fic (id, ficha, descripcion, archivo) VALUES(117, '123416 REV 0', 'TUERCA HEXAGONAL HKM 14.','123416 REV 0.pdf');
A8: =A7+1 -> 118 | B8: 4101214 REV 1 | C8: 4101214 REV 1 | E8: Tirante de separación. | F8: =+UPPER(E8) -> TIRANTE DE SEPARACIÓN. | G8: =+CONCATENATE("INSERT INTO fic (id, ficha, descripcion, archivo) VALUES(",A8,", '",B8,"', '",F8,"','",C8,".pdf');") -> INSERT INTO fic (id, ficha, descripcion, archivo) VALUES(118, '4101214 REV 1', 'TIRANTE DE SEPARACIÓN.','4101214 REV 1.pdf');
A9: =A8+1 -> 119 | B9: 4101227, 4101241, 4101267, 4102106, 4102174 | C9: 4101227, 4101241, 4101267, 4102106, 4102174 | E9: Roldanas aislantes 4101227, 4101241, 4101267, 4102106, 4102174 | F9: =+UPPER(E9) -> ROLDANAS AISLANTES 4101227, 4101241, 4101267, 4102106, 4102174 | G9: =+CONCATENATE("INSERT INTO fic (id, ficha, descripcion, archivo) VALUES(",A9,", '",B9,"', '",F9,"','",C9,".pdf');") -> INSERT INTO fic (id, ficha, descripcion, archivo) VALUES(119, '4101227, 4101241, 4101267, 4102106, 4102174', 'ROLDANAS AISLANTES 4101227, 4101241, 4101267, 4102106, 4102174','4101227, 4101241, 4101267, 4102106, 4102174.pdf');
A10: =A9+1 -> 120 | B10: 4101233 REV 1. | C10: 4101233 REV 1 | D10: punto al final | E10: Tornillo de ajuste para cerrojo axial HM-14. | F10: =+UPPER(E10) -> TORNILLO DE AJUSTE PARA CERROJO AXIAL HM-14. | G10: =+CONCATENATE("INSERT INTO fic (id, ficha, descripcion, archivo) VALUES(",A10,", '",B10,"', '",F10,"','",C10,".pdf');") -> INSERT INTO fic (id, ficha, descripcion, archivo) VALUES(120, '4101233 REV 1.', 'TORNILLO DE AJUSTE PARA CERROJO AXIAL HM-14.','4101233 REV 1.pdf');
A11: =A10+1 -> 121 | B11: 4101239 REV 1 | C11: 4101239 REV 1 | E11: Tornillo HM-12 con tuerca HM-12. | F11: =+UPPER(E11) -> TORNILLO HM-12 CON TUERCA HM-12. | G11: =+CONCATENATE("INSERT INTO fic (id, ficha, descripcion, archivo) VALUES(",A11,", '",B11,"', '",F11,"','",C11,".pdf');") -> INSERT INTO fic (id, ficha, descripcion, archivo) VALUES(121, '4101239 REV 1', 'TORNILLO HM-12 CON TUERCA HM-12.','4101239 REV 1.pdf');
A12: =A11+1 -> 122 | B12: 4101240, 298, 4102101, 104, 108, 120, 515, 4103600 rev 3 | C12: 4101240, 298, 4102101, 104, 108, 120, 515, 4103600 rev 3 | E12: Rondanas planas 4101240, 4101298, 4102101, 4102104, 4102108, 4102120, 4102515 y 4103600 | F12: =+UPPER(E12) -> RONDANAS PLANAS 4101240, 4101298, 4102101, 4102104, 4102108, 4102120, 4102515 Y 4103600 | G12: =+CONCATENATE("INSERT INTO fic (id, ficha, descripcion, archivo) VALUES(",A12,", '",B12,"', '",F12,"','",C12,".pdf');") -> INSERT INTO fic (id, ficha, descripcion, archivo) VALUES(122, '4101240, 298, 4102101, 104, 108, 120, 515, 4103600 rev 3', 'RONDANAS PLANAS 4101240, 4101298, 4102101, 4102104, 4102108, 4102120, 4102515 Y 4103600','4101240, 298, 4102101, 104, 108, 120, 515, 4103600 rev 3.pdf');
A13: =A12+1 -> 123 | B13: 4101243 REV 0 | C13: 4101243 REV 0 | E13: Roldana aislante 40 X 22; e =5 | F13: =+UPPER(E13) -> ROLDANA AISLANTE 40 X 22; E =5 | G13: =+CONCATENATE("INSERT INTO fic (id, ficha, descripcion, archivo) VALUES(",A13,", '",B13,"', '",F13,"','",C13,".pdf');") -> INSERT INTO fic (id, ficha, descripcion, archivo) VALUES(123, '4101243 REV 0', 'ROLDANA AISLANTE 40 X 22; E =5 ','4101243 REV 0.pdf');
A14: =A13+1 -> 124 | B14: 4101255 REV 1 | C14: 4101255 REV 1 | E14: Soporte de cerrojo individual. | F14: =+UPPER(E14) -> SOPORTE DE CERROJO INDIVIDUAL. | G14: =+CONCATENATE("INSERT INTO fic (id, ficha, descripcion, archivo) VALUES(",A14,", '",B14,"', '",F14,"','",C14,".pdf');") -> INSERT INTO fic (id, ficha, descripcion, archivo) VALUES(124, '4101255 REV 1', 'SOPORTE DE CERROJO INDIVIDUAL.','4101255 REV 1.pdf');
A15: =A14+1 -> 125 | B15: 4101258-4102087-4102088 REV 1 | C15: 4101258-4102087-4102088 REV 1 | E15: Tornillo cabeza cuadrada QM-24 4101258, 4102087, 4102088. | F15: =+UPPER(E15) -> TORNILLO CABEZA CUADRADA QM-24 4101258, 4102087, 4102088. | G15: =+CONCATENATE("INSERT INTO fic (id, ficha, descripcion, archivo) VALUES(",A15,", '",B15,"', '",F15,"','",C15,".pdf');") -> INSERT INTO fic (id, ficha, descripcion, archivo) VALUES(125, '4101258-4102087-4102088 REV 1', 'TORNILLO CABEZA CUADRADA QM-24 4101258, 4102087, 4102088.','4101258-4102087-4102088 REV 1.pdf');
A16: =A15+1 -> 126 | B16: 4101259, 4102089, 90, 91, 92, 93, 94, 95, 96, 4102579, 4103303 | C16: 4101259, 4102089, 90, 91, 92, 93, 94, 95, 96, 4102579, 4103303 | E16: Tornillo cabeza de diamante diametro 20 4101259, 4102089, 4102090, 4102091, 4102092, 4102093, 4102094, 4102095, 4102096, 4102579, 4103303 | F16: =+UPPER(E16) -> TORNILLO CABEZA DE DIAMANTE DIAMETRO 20 4101259, 4102089, 4102090, 4102091, 4102092, 4102093, 4102094, 4102095, 4102096, 4102579, 4103303 | G16: =+CONCATENATE("INSERT INTO fic (id, ficha, descripcion, archivo) VALUES(",A16,", '",B16,"', '",F16,"','",C16,".pdf');") -> INSERT INTO fic (id, ficha, descripcion, archivo) VALUES(126, '4101259, 4102089, 90, 91, 92, 93, 94, 95, 96, 4102579, 4103303', 'TORNILLO CABEZA DE DIAMANTE DIAMETRO 20 4101259, 4102089, 4102090, 4102091, 4102092, 4102093, 4102094, 4102095, 4102096, 4102579, 4103303','4101259, 4102089, 90, 91, 92, 93, 94, 95, 96, 4102579, 4103303.pdf');
A17: =A16+1 -> 127 | B17: 4101263 REV 0 | C17: 4101263 REV 0 | E17: Tornillo o eje de barra de separación. | F17: =+UPPER(E17) -> TORNILLO O EJE DE BARRA DE SEPARACIÓN. | G17: =+CONCATENATE("INSERT INTO fic (id, ficha, descripcion, archivo) VALUES(",A17,", '",B17,"', '",F17,"','",C17,".pdf');") -> INSERT INTO fic (id, ficha, descripcion, archivo) VALUES(127, '4101263 REV 0', 'TORNILLO O EJE DE BARRA DE SEPARACIÓN.','4101263 REV 0.pdf');
A18: =A17+1 -> 128 | B18: 4101264 REV 0 | C18: 4101264 REV 0 | E18: Tornillo o eje de la barra de mando de cerrojo individual. | F18: =+UPPER(E18) -> TORNILLO O EJE DE LA BARRA DE MANDO DE CERROJO INDIVIDUAL. | G18: =+CONCATENATE("INSERT INTO fic (id, ficha, descripcion, archivo) VALUES(",A18,", '",B18,"', '",F18,"','",C18,".pdf');") -> INSERT INTO fic (id, ficha, descripcion, archivo) VALUES(128, '4101264 REV 0', 'TORNILLO O EJE DE LA BARRA DE MANDO DE CERROJO INDIVIDUAL.','4101264 REV 0.pdf');
A19: =A18+1 -> 129 | B19: 4101269 REV 0 | C19: 4101269 REV 0 | E19: Tornillo HM-12-45-28 con tuerca HM-12. | F19: =+UPPER(E19) -> TORNILLO HM-12-45-28 CON TUERCA HM-12. | G19: =+CONCATENATE("INSERT INTO fic (id, ficha, descripcion, archivo) VALUES(",A19,", '",B19,"', '",F19,"','",C19,".pdf');") -> INSERT INTO fic (id, ficha, descripcion, archivo) VALUES(129, '4101269 REV 0', 'TORNILLO HM-12-45-28 CON TUERCA HM-12.','4101269 REV 0.pdf');
A20: =A19+1 -> 130 | B20: 4102040 REV 1 | C20: 4102040 REV 1 | E20: Zoclo metálico de bridas laterales. | F20: =+UPPER(E20) -> ZOCLO METÁLICO DE BRIDAS LATERALES. | G20: =+CONCATENATE("INSERT INTO fic (id, ficha, descripcion, archivo) VALUES(",A20,", '",B20,"', '",F20,"','",C20,".pdf');") -> INSERT INTO fic (id, ficha, descripcion, archivo) VALUES(130, '4102040 REV 1', 'ZOCLO METÁLICO DE BRIDAS LATERALES.','4102040 REV 1.pdf');
A21: =A20+1 -> 131 | B21: 4102063 REV 1 | C21: 4102063 REV 1 | E21: Varilla de fijación diámetro 22. | F21: =+UPPER(E21) -> VARILLA DE FIJACIÓN DIÁMETRO 22. | G21: =+CONCATENATE("INSERT INTO fic (id, ficha, descripcion, archivo) VALUES(",A21,", '",B21,"', '",F21,"','",C21,".pdf');") -> INSERT INTO fic (id, ficha, descripcion, archivo) VALUES(131, '4102063 REV 1', 'VARILLA DE FIJACIÓN DIÁMETRO 22.','4102063 REV 1.pdf');
A22: =A21+1 -> 132 | B22: 4102064 REV 1 | C22: 4102064 REV 1 | E22: Varilla de fijación diámetro 16. | F22: =+UPPER(E22) -> VARILLA DE FIJACIÓN DIÁMETRO 16. | G22: =+CONCATENATE("INSERT INTO fic (id, ficha, descripcion, archivo) VALUES(",A22,", '",B22,"', '",F22,"','",C22,".pdf');") -> INSERT INTO fic (id, ficha, descripcion, archivo) VALUES(132, '4102064 REV 1', 'VARILLA DE FIJACIÓN DIÁMETRO 16.','4102064 REV 1.pdf');
A23: =A22+1 -> 133 | B23: 4102068 -4102071 REV 0 | C23: 4102068-4102071 REV 0 | D23: semejante | E23: Zoclo aislante para aislador 4102068, 4102071. | F23: =+UPPER(E23) -> ZOCLO AISLANTE PARA AISLADOR 4102068, 4102071. | G23: =+CONCATENATE("INSERT INTO fic (id, ficha, descripcion, archivo) VALUES(",A23,", '",B23,"', '",F23,"','",C23,".pdf');") -> INSERT INTO fic (id, ficha, descripcion, archivo) VALUES(133, '4102068 -4102071 REV 0', 'ZOCLO AISLANTE PARA AISLADOR 4102068, 4102071.','4102068-4102071 REV 0.pdf');
A24: =A23+1 -> 134 | B24: 4102069 REV 0 | C24: 4102069 REV 0 | D24: espacios de mas | E24: Zoclo aislante de riel de 80 LB/YD. | F24: =+UPPER(E24) -> ZOCLO AISLANTE DE RIEL DE 80 LB/YD. | G24: =+CONCATENATE("INSERT INTO fic (id, ficha, descripcion, archivo) VALUES(",A24,", '",B24,"', '",F24,"','",C24,".pdf');") -> INSERT INTO fic (id, ficha, descripcion, archivo) VALUES(134, '4102069 REV 0', 'ZOCLO AISLANTE DE RIEL DE 80 LB/YD.','4102069 REV 0.pdf');
A25: =A24+1 -> 135 | B25: 4102070 REV 0 | C25: 4102070 REV 0 | D25: espacios de mas | E25: Zoclo aislante de pista de rodamiento. | F25: =+UPPER(E25) -> ZOCLO AISLANTE DE PISTA DE RODAMIENTO. | G25: =+CONCATENATE("INSERT INTO fic (id, ficha, descripcion, archivo) VALUES(",A25,", '",B25,"', '",F25,"','",C25,".pdf');") -> INSERT INTO fic (id, ficha, descripcion, archivo) VALUES(135, '4102070 REV 0', 'ZOCLO AISLANTE DE PISTA DE RODAMIENTO.','4102070 REV 0.pdf');
A26: =A25+1 -> 136 | B26: 4102076, 4103552, 4103553 REV 2 | C26: 4102076, 4103552, 4103553 REV 2 | E26: Tornillo para madera Q-12 4102076, 4103552, 4103553. | F26: =+UPPER(E26) -> TORNILLO PARA MADERA Q-12 4102076, 4103552, 4103553. | G26: =+CONCATENATE("INSERT INTO fic (id, ficha, descripcion, archivo) VALUES(",A26,", '",B26,"', '",F26,"','",C26,".pdf');") -> INSERT INTO fic (id, ficha, descripcion, archivo) VALUES(136, '4102076, 4103552, 4103553 REV 2', 'TORNILLO PARA MADERA Q-12 4102076, 4103552, 4103553. ','4102076, 4103552, 4103553 REV 2.pdf');
A27: =A26+1 -> 137 | B27: 4102080 | C27: 4102080 | D27: por indicacion del 31 de mayo de 2018 se agrega plano a ficha | E27: Soporte de tabla protectora de motor. | F27: =+UPPER(E27) -> SOPORTE DE TABLA PROTECTORA DE MOTOR. | G27: =+CONCATENATE("INSERT INTO fic (id, ficha, descripcion, archivo) VALUES(",A27,", '",B27,"', '",F27,"','",C27,".pdf');") -> INSERT INTO fic (id, ficha, descripcion, archivo) VALUES(137, '4102080', 'SOPORTE DE TABLA PROTECTORA DE MOTOR.','4102080.pdf');
A28: =A27+1 -> 138 | B28: 4102102-4102299 REV 0 | C28: 4102102- 4102299 REV 0 | D28: espacios de mas | E28: Roldanas elasticas D1 X De x e 4102102, 4102299 | F28: =+UPPER(E28) -> ROLDANAS ELASTICAS D1 X DE X E 4102102, 4102299 | G28: =+CONCATENATE("INSERT INTO fic (id, ficha, descripcion, archivo) VALUES(",A28,", '",B28,"', '",F28,"','",C28,".pdf');") -> INSERT INTO fic (id, ficha, descripcion, archivo) VALUES(138, '4102102-4102299 REV 0', 'ROLDANAS ELASTICAS D1 X DE X E 4102102, 4102299','4102102- 4102299 REV 0.pdf');
A29: =A28+1 -> 139 | B29: 4102104 REV 0 | C29: 4102104 REV 0 | D29: espacios de mas | E29: Roldana M 16 N | F29: =+UPPER(E29) -> ROLDANA M 16 N | G29: =+CONCATENATE("INSERT INTO fic (id, ficha, descripcion, archivo) VALUES(",A29,", '",B29,"', '",F29,"','",C29,".pdf');") -> INSERT INTO fic (id, ficha, descripcion, archivo) VALUES(139, '4102104 REV 0', 'ROLDANA M 16 N ','4102104 REV 0.pdf');
A30: =A29+1 -> 140 | B30: 4102110 REV 1 | C30: 4102110 REV 1 | E30: Tuerca autofrenada M 16. | F30: =+UPPER(E30) -> TUERCA AUTOFRENADA M 16. | G30: =+CONCATENATE("INSERT INTO fic (id, ficha, descripcion, archivo) VALUES(",A30,", '",B30,"', '",F30,"','",C30,".pdf');") -> INSERT INTO fic (id, ficha, descripcion, archivo) VALUES(140, '4102110 REV 1', 'TUERCA AUTOFRENADA M 16.','4102110 REV 1.pdf');
A31: =A30+1 -> 141 | B31: 4102111 REV 1 | C31: 4102111 REV 1 | E31: Tuercas autofrenadas M-22. | F31: =+UPPER(E31) -> TUERCAS AUTOFRENADAS M-22. | G31: =+CONCATENATE("INSERT INTO fic (id, ficha, descripcion, archivo) VALUES(",A31,", '",B31,"', '",F31,"','",C31,".pdf');") -> INSERT INTO fic (id, ficha, descripcion, archivo) VALUES(141, '4102111 REV 1', 'TUERCAS AUTOFRENADAS M-22.','4102111 REV 1.pdf');
A32: =A31+1 -> 142 | B32: 4102112, 113, 114, 448, 588, 589, 590 REV 3 | C32: 4102112, 113, 114, 448, 588, 589, 590 REV 3 | E32: Tornillo cabeza cuadrada QM-22 4102112, 4102113, 4102114, 4102448, 4102588, 4102589, 4102590 | F32: =+UPPER(E32) -> TORNILLO CABEZA CUADRADA QM-22 4102112, 4102113, 4102114, 4102448, 4102588, 4102589, 4102590 | G32: =+CONCATENATE("INSERT INTO fic (id, ficha, descripcion, archivo) VALUES(",A32,", '",B32,"', '",F32,"','",C32,".pdf');") -> INSERT INTO fic (id, ficha, descripcion, archivo) VALUES(142, '4102112, 113, 114, 448, 588, 589, 590 REV 3', 'TORNILLO CABEZA CUADRADA QM-22 4102112, 4102113, 4102114, 4102448, 4102588, 4102589, 4102590','4102112, 113, 114, 448, 588, 589, 590 REV 3.pdf');
A33: =A32+1 -> 143 | B33: 4102115, 116, 117, 118, 189, 583, 584, 585, 4103559 | C33: 4102115, 116, 117, 118, 189, 583, 584, 585, 4103559 | E33: Tornillo cabeza hexagonal HM-22 4102115, 4102116, 4102117, 4102118, 4102189, 4102583, 4102584, 4102585, 4103559 | F33: =+UPPER(E33) -> TORNILLO CABEZA HEXAGONAL HM-22 4102115, 4102116, 4102117, 4102118, 4102189, 4102583, 4102584, 4102585, 4103559 | G33: =+CONCATENATE("INSERT INTO fic (id, ficha, descripcion, archivo) VALUES(",A33,", '",B33,"', '",F33,"','",C33,".pdf');") -> INSERT INTO fic (id, ficha, descripcion, archivo) VALUES(143, '4102115, 116, 117, 118, 189, 583, 584, 585, 4103559', 'TORNILLO CABEZA HEXAGONAL HM-22 4102115, 4102116, 4102117, 4102118, 4102189, 4102583, 4102584, 4102585, 4103559','4102115, 116, 117, 118, 189, 583, 584, 585, 4103559.pdf');
A34: =A33+1 -> 144 | B34: 4102119 REV 1 | C34: 4102119 REV 1 | E34: Tornillo H-24 -150-60. | F34: =+UPPER(E34) -> TORNILLO H-24 -150-60. | G34: =+CONCATENATE("INSERT INTO fic (id, ficha, descripcion, archivo) VALUES(",A34,", '",B34,"', '",F34,"','",C34,".pdf');") -> INSERT INTO fic (id, ficha, descripcion, archivo) VALUES(144, '4102119 REV 1', 'TORNILLO H-24 -150-60.','4102119 REV 1.pdf');
A35: =A34+1 -> 145 | B35: 4102121, 4102126, 4102762, 4102512, 4102149, 4102466, 4102454, 4102763, 4103372, 4103355 | C35: 4102121, 4102126, 4102762, 4102512, 4102149,4102466,4102454,4102763, 4103372, 4103355 | D35: semejante | E35: Roldana de presión "Tipo Grower" 4102762, 4102512, 4102149, 4102466, 4102454, 4102763, 4102121, 4102126, 4103372, 4103555 | F35: =+UPPER(E35) -> ROLDANA DE PRESIÓN "TIPO GROWER" 4102762, 4102512, 4102149, 4102466, 4102454, 4102763, 4102121, 4102126, 4103372, 4103555 | G35: =+CONCATENATE("INSERT INTO fic (id, ficha, descripcion, archivo) VALUES(",A35,", '",B35,"', '",F35,"','",C35,".pdf');") -> INSERT INTO fic (id, ficha, descripcion, archivo) VALUES(145, '4102121, 4102126, 4102762, 4102512, 4102149, 4102466, 4102454, 4102763, 4103372, 4103355', 'ROLDANA DE PRESIÓN "TIPO GROWER" 4102762, 4102512, 4102149, 4102466, 4102454, 4102763, 4102121, 4102126, 4103372, 4103555','4102121, 4102126, 4102762, 4102512, 4102149,4102466,4102454,4102763, 4103372, 4103355.pdf');
A36: =A35+1 -> 146 | B36: 4102124 REV 1 | C36: 4102124 REV 1 | E36: Tirafondo "A" 23-115. | F36: =+UPPER(E36) -> TIRAFONDO "A" 23-115. | G36: =+CONCATENATE("INSERT INTO fic (id, ficha, descripcion, archivo) VALUES(",A36,", '",B36,"', '",F36,"','",C36,".pdf');") -> INSERT INTO fic (id, ficha, descripcion, archivo) VALUES(146, '4102124 REV 1', 'TIRAFONDO "A" 23-115.','4102124 REV 1.pdf');
A37: =A36+1 -> 147 | B37: 4102125 REV 0 | C37: 4102125 REV 0 | D37: comentario | E37: Tirafondo "C" 23-135. | F37: =+UPPER(E37) -> TIRAFONDO "C" 23-135. | G37: =+CONCATENATE("INSERT INTO fic (id, ficha, descripcion, archivo) VALUES(",A37,", '",B37,"', '",F37,"','",C37,".pdf');") -> INSERT INTO fic (id, ficha, descripcion, archivo) VALUES(147, '4102125 REV 0', 'TIRAFONDO "C" 23-135.','4102125 REV 0.pdf');
A38: =A37+1 -> 148 | B38: 4102128 REV 1 | C38: 4102128 REV 1 | E38: Tuerca HL-20. | F38: =+UPPER(E38) -> TUERCA HL-20. | G38: =+CONCATENATE("INSERT INTO fic (id, ficha, descripcion, archivo) VALUES(",A38,", '",B38,"', '",F38,"','",C38,".pdf');") -> INSERT INTO fic (id, ficha, descripcion, archivo) VALUES(148, '4102128 REV 1', 'TUERCA HL-20.','4102128 REV 1.pdf');
A39: =A38+1 -> 149 | B39: 4102150 REV 0 | C39: 4102150 REV 0 | D39: espacios de mas | E39: Roldana plana metálica. | F39: =+UPPER(E39) -> ROLDANA PLANA METÁLICA. | G39: =+CONCATENATE("INSERT INTO fic (id, ficha, descripcion, archivo) VALUES(",A39,", '",B39,"', '",F39,"','",C39,".pdf');") -> INSERT INTO fic (id, ficha, descripcion, archivo) VALUES(149, '4102150 REV 0', 'ROLDANA PLANA METÁLICA.','4102150 REV 0.pdf');
A40: =A39+1 -> 150 | B40: 4102181 rev 3. | C40: 4102181 rev 3 | D40: punto al final | E40: Separador aislante (end post) de contra riel | F40: =+UPPER(E40) -> SEPARADOR AISLANTE (END POST) DE CONTRA RIEL | G40: =+CONCATENATE("INSERT INTO fic (id, ficha, descripcion, archivo) VALUES(",A40,", '",B40,"', '",F40,"','",C40,".pdf');") -> INSERT INTO fic (id, ficha, descripcion, archivo) VALUES(150, '4102181 rev 3.', 'SEPARADOR AISLANTE (END POST) DE CONTRA RIEL','4102181 rev 3.pdf');
A41: =A40+1 -> 151 | B41: 4102191 REV 0 | C41: 4102191 REV 0 | E41: Roldana plana alargada. | F41: =+UPPER(E41) -> ROLDANA PLANA ALARGADA. | G41: =+CONCATENATE("INSERT INTO fic (id, ficha, descripcion, archivo) VALUES(",A41,", '",B41,"', '",F41,"','",C41,".pdf');") -> INSERT INTO fic (id, ficha, descripcion, archivo) VALUES(151, '4102191 REV 0', 'ROLDANA PLANA ALARGADA.','4102191 REV 0.pdf');
A42: =A41+1 -> 152 | B42: 4102268 REV 0 | C42: 4102268 REV 0 | D42: espacios de mas | E42: Zoclo metálico tipo plato soporte de aislador. | F42: =+UPPER(E42) -> ZOCLO METÁLICO TIPO PLATO SOPORTE DE AISLADOR. | G42: =+CONCATENATE("INSERT INTO fic (id, ficha, descripcion, archivo) VALUES(",A42,", '",B42,"', '",F42,"','",C42,".pdf');") -> INSERT INTO fic (id, ficha, descripcion, archivo) VALUES(152, '4102268 REV 0', 'ZOCLO METÁLICO TIPO PLATO SOPORTE DE AISLADOR.','4102268 REV 0.pdf');
A43: =A42+1 -> 153 | B43: 4102294-4103487-4102107-4102553-4102122 REV 1 | C43: 4102294-4103487-4102107-4102553-4102122 REV 1 | D43: espacios de mas | E43: Tuerca HM 4102294; Tuerca HM12 4103487; Tuerca HM16 4102197; Tuerca HM22 4102553; Tuerca HM24 4102122 | F43: =+UPPER(E43) -> TUERCA HM 4102294; TUERCA HM12 4103487; TUERCA HM16 4102197; TUERCA HM22 4102553; TUERCA HM24 4102122 | G43: =+CONCATENATE("INSERT INTO fic (id, ficha, descripcion, archivo) VALUES(",A43,", '",B43,"', '",F43,"','",C43,".pdf');") -> INSERT INTO fic (id, ficha, descripcion, archivo) VALUES(153, '4102294-4103487-4102107-4102553-4102122 REV 1', 'TUERCA HM 4102294; TUERCA HM12 4103487; TUERCA HM16 4102197; TUERCA HM22 4102553; TUERCA HM24 4102122','4102294-4103487-4102107-4102553-4102122 REV 1.pdf');
A44: =A43+1 -> 154 | B44: 4102298 REV 0 | C44: 4102298 REV 0 | E44: Tuercas autofrenadas M-20. | F44: =+UPPER(E44) -> TUERCAS AUTOFRENADAS M-20. | G44: =+CONCATENATE("INSERT INTO fic (id, ficha, descripcion, archivo) VALUES(",A44,", '",B44,"', '",F44,"','",C44,".pdf');") -> INSERT INTO fic (id, ficha, descripcion, archivo) VALUES(154, '4102298 REV 0', 'TUERCAS AUTOFRENADAS M-20.','4102298 REV 0.pdf');
A45: =A44+1 -> 155 | B45: 4102467, 4102476 REV 3 | C45: 4102467, 4102476 REV 3 | E45: Tornillo cabeza de diamante diametro 20 con chavetero 4102467, 4102476. | F45: =+UPPER(E45) -> TORNILLO CABEZA DE DIAMANTE DIAMETRO 20 CON CHAVETERO 4102467, 4102476. | G45: =+CONCATENATE("INSERT INTO fic (id, ficha, descripcion, archivo) VALUES(",A45,", '",B45,"', '",F45,"','",C45,".pdf');") -> INSERT INTO fic (id, ficha, descripcion, archivo) VALUES(155, '4102467, 4102476 REV 3', 'TORNILLO CABEZA DE DIAMANTE DIAMETRO 20 CON CHAVETERO 4102467, 4102476.','4102467, 4102476 REV 3.pdf');
A46: =A45+1 -> 156 | B46: 4102541 REV 0 | C46: 4102541 REV 0 | D46: espacios de mas | E46: Varilla de fijación RP-80 diametro 20mm. | F46: =+UPPER(E46) -> VARILLA DE FIJACIÓN RP-80 DIAMETRO 20MM. | G46: =+CONCATENATE("INSERT INTO fic (id, ficha, descripcion, archivo) VALUES(",A46,", '",B46,"', '",F46,"','",C46,".pdf');") -> INSERT INTO fic (id, ficha, descripcion, archivo) VALUES(156, '4102541 REV 0', 'VARILLA DE FIJACIÓN RP-80 DIAMETRO 20MM.','4102541 REV 0.pdf');
A47: =A46+1 -> 157 | B47: 4102544 REV 0 | C47: 4102544 REV 0 | D47: espacios de mas | E47: Soporte de tabla protectora de frotador. | F47: =+UPPER(E47) -> SOPORTE DE TABLA PROTECTORA DE FROTADOR. | G47: =+CONCATENATE("INSERT INTO fic (id, ficha, descripcion, archivo) VALUES(",A47,", '",B47,"', '",F47,"','",C47,".pdf');") -> INSERT INTO fic (id, ficha, descripcion, archivo) VALUES(157, '4102544 REV 0', 'SOPORTE DE TABLA PROTECTORA DE FROTADOR.','4102544 REV 0.pdf');
A48: =A47+1 -> 158 | B48: 4102578 REV 1 | C48: 4102578 REV 1 | E48: Tornillo cabeza de diamante diametro 22-110-48. | F48: =+UPPER(E48) -> TORNILLO CABEZA DE DIAMANTE DIAMETRO 22-110-48. | G48: =+CONCATENATE("INSERT INTO fic (id, ficha, descripcion, archivo) VALUES(",A48,", '",B48,"', '",F48,"','",C48,".pdf');") -> INSERT INTO fic (id, ficha, descripcion, archivo) VALUES(158, '4102578 REV 1', 'TORNILLO CABEZA DE DIAMANTE DIAMETRO 22-110-48.','4102578 REV 1.pdf');
A49: =A48+1 -> 159 | B49: 4102595 REV 0 | C49: 4102595 REV 0 | E49: Tuerca autofrenada M-8 . | F49: =+UPPER(E49) -> TUERCA AUTOFRENADA M-8 . | G49: =+CONCATENATE("INSERT INTO fic (id, ficha, descripcion, archivo) VALUES(",A49,", '",B49,"', '",F49,"','",C49,".pdf');") -> INSERT INTO fic (id, ficha, descripcion, archivo) VALUES(159, '4102595 REV 0', 'TUERCA AUTOFRENADA M-8 .','4102595 REV 0.pdf');
A50: =A49+1 -> 160 | B50: 4102681 REV 0 | C50: 4102681 REV 0 | E50: Tornillo cabeza hexagonal para tope de junta de dilatación de pista. | F50: =+UPPER(E50) -> TORNILLO CABEZA HEXAGONAL PARA TOPE DE JUNTA DE DILATACIÓN DE PISTA. | G50: =+CONCATENATE("INSERT INTO fic (id, ficha, descripcion, archivo) VALUES(",A50,", '",B50,"', '",F50,"','",C50,".pdf');") -> INSERT INTO fic (id, ficha, descripcion, archivo) VALUES(160, '4102681 REV 0', 'TORNILLO CABEZA HEXAGONAL PARA TOPE DE JUNTA DE DILATACIÓN DE PISTA.','4102681 REV 0.pdf');
A51: =A50+1 -> 161 | B51: 4102682 | C51: 4102682 | E51: Tornillo cabeza hexagonal para tope de junta de dilatación de riel. | F51: =+UPPER(E51) -> TORNILLO CABEZA HEXAGONAL PARA TOPE DE JUNTA DE DILATACIÓN DE RIEL. | G51: =+CONCATENATE("INSERT INTO fic (id, ficha, descripcion, archivo) VALUES(",A51,", '",B51,"', '",F51,"','",C51,".pdf');") -> INSERT INTO fic (id, ficha, descripcion, archivo) VALUES(161, '4102682', 'TORNILLO CABEZA HEXAGONAL PARA TOPE DE JUNTA DE DILATACIÓN DE RIEL.','4102682.pdf');
A52: =A51+1 -> 162 | B52: 4102683, 4103970 | C52: 4102683, 4103970 | D52: espacios de mas | E52: Tuerca HL-18 para tirafondo | F52: =+UPPER(E52) -> TUERCA HL-18 PARA TIRAFONDO | G52: =+CONCATENATE("INSERT INTO fic (id, ficha, descripcion, archivo) VALUES(",A52,", '",B52,"', '",F52,"','",C52,".pdf');") -> INSERT INTO fic (id, ficha, descripcion, archivo) VALUES(162, '4102683, 4103970 ', 'TUERCA HL-18 PARA TIRAFONDO','4102683, 4103970.pdf');
A53: =A52+1 -> 163 | B53: 4103370 | C53: 4103370 | E53: Roldana metálica L16N. | F53: =+UPPER(E53) -> ROLDANA METÁLICA L16N. | G53: =+CONCATENATE("INSERT INTO fic (id, ficha, descripcion, archivo) VALUES(",A53,", '",B53,"', '",F53,"','",C53,".pdf');") -> INSERT INTO fic (id, ficha, descripcion, archivo) VALUES(163, '4103370', 'ROLDANA METÁLICA L16N.','4103370.pdf');
A54: =A53+1 -> 164 | B54: 4103450 REV 1 | C54: 4103450 REV 1 | E54: Tapa de block aislante. | F54: =+UPPER(E54) -> TAPA DE BLOCK AISLANTE. | G54: =+CONCATENATE("INSERT INTO fic (id, ficha, descripcion, archivo) VALUES(",A54,", '",B54,"', '",F54,"','",C54,".pdf');") -> INSERT INTO fic (id, ficha, descripcion, archivo) VALUES(164, '4103450 REV 1', 'TAPA DE BLOCK AISLANTE.','4103450 REV 1.pdf');
A55: =A54+1 -> 165 | B55: 4103459 rev 2 | C55: 4103459 rev 2 | E55: Tuerca hexagonal HL-24. | F55: =+UPPER(E55) -> TUERCA HEXAGONAL HL-24. | G55: =+CONCATENATE("INSERT INTO fic (id, ficha, descripcion, archivo) VALUES(",A55,", '",B55,"', '",F55,"','",C55,".pdf');") -> INSERT INTO fic (id, ficha, descripcion, archivo) VALUES(165, '4103459 rev 2', 'TUERCA HEXAGONAL HL-24.','4103459 rev 2.pdf');
A56: =A55+1 -> 166 | B56: 4103484 | C56: 4103484 | E56: Tornillo OM-10-40 de material aislante. | F56: =+UPPER(E56) -> TORNILLO OM-10-40 DE MATERIAL AISLANTE. | G56: =+CONCATENATE("INSERT INTO fic (id, ficha, descripcion, archivo) VALUES(",A56,", '",B56,"', '",F56,"','",C56,".pdf');") -> INSERT INTO fic (id, ficha, descripcion, archivo) VALUES(166, '4103484', 'TORNILLO OM-10-40 DE MATERIAL AISLANTE.','4103484.pdf');
A57: =A56+1 -> 167 | B57: 4103486 REV 0 | C57: 4103486 REV 0 | D57: espacios de mas | E57: Tuerca especial autofrenada. | F57: =+UPPER(E57) -> TUERCA ESPECIAL AUTOFRENADA. | G57: =+CONCATENATE("INSERT INTO fic (id, ficha, descripcion, archivo) VALUES(",A57,", '",B57,"', '",F57,"','",C57,".pdf');") -> INSERT INTO fic (id, ficha, descripcion, archivo) VALUES(167, '4103486 REV 0', 'TUERCA ESPECIAL AUTOFRENADA.','4103486 REV 0.pdf');
A58: =A57+1 -> 168 | B58: 4103488 | C58: 4103488 | E58: Tuerca QM-10 de material aislante. | F58: =+UPPER(E58) -> TUERCA QM-10 DE MATERIAL AISLANTE. | G58: =+CONCATENATE("INSERT INTO fic (id, ficha, descripcion, archivo) VALUES(",A58,", '",B58,"', '",F58,"','",C58,".pdf');") -> INSERT INTO fic (id, ficha, descripcion, archivo) VALUES(168, '4103488', 'TUERCA QM-10 DE MATERIAL AISLANTE.','4103488.pdf');
A59: =A58+1 -> 169 | B59: 4103489 REV 0 | C59: 4103489 REV 0 | E59: Tope aislante. | F59: =+UPPER(E59) -> TOPE AISLANTE. | G59: =+CONCATENATE("INSERT INTO fic (id, ficha, descripcion, archivo) VALUES(",A59,", '",B59,"', '",F59,"','",C59,".pdf');") -> INSERT INTO fic (id, ficha, descripcion, archivo) VALUES(169, '4103489 REV 0', 'TOPE AISLANTE.','4103489 REV 0.pdf');
A60: =A59+1 -> 170 | B60: 4103493 REV 2 | C60: 4103493 REV 2 | E60: Seguros para sujeción de anclas (juego) | F60: =+UPPER(E60) -> SEGUROS PARA SUJECIÓN DE ANCLAS (JUEGO) | G60: =+CONCATENATE("INSERT INTO fic (id, ficha, descripcion, archivo) VALUES(",A60,", '",B60,"', '",F60,"','",C60,".pdf');") -> INSERT INTO fic (id, ficha, descripcion, archivo) VALUES(170, '4103493 REV 2', 'SEGUROS PARA SUJECIÓN DE ANCLAS (JUEGO)','4103493 REV 2.pdf');
A61: =A60+1 -> 171 | B61: 4103496 REV 0 | C61: 4103496 REV 0 | D61: espacios de mas | E61: Taquete de anclaje para fijación de aislador sobre losa de concreto. | F61: =+UPPER(E61) -> TAQUETE DE ANCLAJE PARA FIJACIÓN DE AISLADOR SOBRE LOSA DE CONCRETO. | G61: =+CONCATENATE("INSERT INTO fic (id, ficha, descripcion, archivo) VALUES(",A61,", '",B61,"', '",F61,"','",C61,".pdf');") -> INSERT INTO fic (id, ficha, descripcion, archivo) VALUES(171, '4103496 REV 0', 'TAQUETE DE ANCLAJE PARA FIJACIÓN DE AISLADOR SOBRE LOSA DE CONCRETO.','4103496 REV 0.pdf');
A62: =A61+1 -> 172 | B62: 4103497, 4103502, 557, 556 | C62: 4103497, 4103502, 557, 556 | E62: Tirafondo especial 22 X 130 tipo: (8 código 4103502), (9 código 4103557), (10 código 4103556), (15 código 4103497) | F62: =+UPPER(E62) -> TIRAFONDO ESPECIAL 22 X 130 TIPO: (8 CÓDIGO 4103502), (9 CÓDIGO 4103557), (10 CÓDIGO 4103556), (15 CÓDIGO 4103497) | G62: =+CONCATENATE("INSERT INTO fic (id, ficha, descripcion, archivo) VALUES(",A62,", '",B62,"', '",F62,"','",C62,".pdf');") -> INSERT INTO fic (id, ficha, descripcion, archivo) VALUES(172, '4103497, 4103502, 557, 556', 'TIRAFONDO ESPECIAL 22 X 130 TIPO: (8 CÓDIGO 4103502), (9 CÓDIGO 4103557), (10 CÓDIGO 4103556), (15 CÓDIGO 4103497)','4103497, 4103502, 557, 556.pdf');
A63: =A62+1 -> 173 | B63: 4103506 REV 1 | C63: 4103506 REV 1 | E63: Zoclo de riel y pista E.T 19 C. | F63: =+UPPER(E63) -> ZOCLO DE RIEL Y PISTA E.T 19 C. | G63: =+CONCATENATE("INSERT INTO fic (id, ficha, descripcion, archivo) VALUES(",A63,", '",B63,"', '",F63,"','",C63,".pdf');") -> INSERT INTO fic (id, ficha, descripcion, archivo) VALUES(173, '4103506 REV 1', 'ZOCLO DE RIEL Y PISTA E.T 19 C.','4103506 REV 1.pdf');
A64: =A63+1 -> 174 | B64: 4103510 | C64: 4103510 | E64: Silla para riel y pista. | F64: =+UPPER(E64) -> SILLA PARA RIEL Y PISTA. | G64: =+CONCATENATE("INSERT INTO fic (id, ficha, descripcion, archivo) VALUES(",A64,", '",B64,"', '",F64,"','",C64,".pdf');") -> INSERT INTO fic (id, ficha, descripcion, archivo) VALUES(174, '4103510', 'SILLA PARA RIEL Y PISTA.','4103510.pdf');
A65: =A64+1 -> 175 | B65: 4103511 REV 0 | C65: 4103511 REV 0 | D65: espacios de mas | E65: Tubo de PVC diam 22.23, e= 2mm, L=117mm | F65: =+UPPER(E65) -> TUBO DE PVC DIAM 22.23, E= 2MM, L=117MM | G65: =+CONCATENATE("INSERT INTO fic (id, ficha, descripcion, archivo) VALUES(",A65,", '",B65,"', '",F65,"','",C65,".pdf');") -> INSERT INTO fic (id, ficha, descripcion, archivo) VALUES(175, '4103511 REV 0', 'TUBO DE PVC DIAM 22.23, E= 2MM, L=117MM','4103511 REV 0.pdf');
A66: =A65+1 -> 176 | B66: 4103521 REV 1 | C66: 4103521 REV 1 | D66: espacios de mas | E66: Tapa pultruida de plástico reforzado con fibra de vidrio. | F66: =+UPPER(E66) -> TAPA PULTRUIDA DE PLÁSTICO REFORZADO CON FIBRA DE VIDRIO. | G66: =+CONCATENATE("INSERT INTO fic (id, ficha, descripcion, archivo) VALUES(",A66,", '",B66,"', '",F66,"','",C66,".pdf');") -> INSERT INTO fic (id, ficha, descripcion, archivo) VALUES(176, '4103521 REV 1', 'TAPA PULTRUIDA DE PLÁSTICO REFORZADO CON FIBRA DE VIDRIO.','4103521 REV 1.pdf');
A67: =A66+1 -> 177 | B67: 4103558 | C67: 4103558 | E67: Tope aislante con recorte. | F67: =+UPPER(E67) -> TOPE AISLANTE CON RECORTE. | G67: =+CONCATENATE("INSERT INTO fic (id, ficha, descripcion, archivo) VALUES(",A67,", '",B67,"', '",F67,"','",C67,".pdf');") -> INSERT INTO fic (id, ficha, descripcion, archivo) VALUES(177, '4103558', 'TOPE AISLANTE CON RECORTE. ','4103558.pdf');
A68: =A67+1 -> 178 | B68: 4103574 REV 0 | C68: 4103574 REV 0 | D68: espacios de mas | E68: Tuerca HL-22. | F68: =+UPPER(E68) -> TUERCA HL-22. | G68: =+CONCATENATE("INSERT INTO fic (id, ficha, descripcion, archivo) VALUES(",A68,", '",B68,"', '",F68,"','",C68,".pdf');") -> INSERT INTO fic (id, ficha, descripcion, archivo) VALUES(178, '4103574 REV 0', 'TUERCA HL-22.','4103574 REV 0.pdf');

Sheet SQL fic 13Mzo
A3: Número | B3: Archivo electrónico | E3: Nombre
A4: 3.5 FICHAS DE INSPECCIÓN CONTROL DE CÁLIDAD
A5: FICHAS 8500000
A6: =+'SQL fic R-Z'!A68+1 -> 179 | B6: 8500001 | C6: 8500001 | E6: Cojinete 60 PG | F6: =+UPPER(E6) -> COJINETE 60 PG | G6: =+CONCATENATE("INSERT INTO fic (id, ficha, descripcion, archivo) VALUES(",A6,", '",B6,"', '",F6,"','",C6,".pdf');") -> INSERT INTO fic (id, ficha, descripcion, archivo) VALUES(179, '8500001', 'COJINETE 60 PG','8500001.pdf');
A7: =A6+1 -> 180 | B7: 8500020 y 8500021 | C7: 8500020 y 8500021 | E7: Soporte 115 CG 302 y 303 | F7: =+UPPER(E7) -> SOPORTE 115 CG 302 Y 303 | G7: =+CONCATENATE("INSERT INTO fic (id, ficha, descripcion, archivo) VALUES(",A7,", '",B7,"', '",F7,"','",C7,".pdf');") -> INSERT INTO fic (id, ficha, descripcion, archivo) VALUES(180, '8500020 y 8500021', 'SOPORTE 115 CG 302 Y 303','8500020 y 8500021.pdf');
A8: =A7+1 -> 181 | B8: 8500024 | C8: 8500024 | E8: Silleta de tres platinas 60 SD 323 | F8: =+UPPER(E8) -> SILLETA DE TRES PLATINAS 60 SD 323 | G8: =+CONCATENATE("INSERT INTO fic (id, ficha, descripcion, archivo) VALUES(",A8,", '",B8,"', '",F8,"','",C8,".pdf');") -> INSERT INTO fic (id, ficha, descripcion, archivo) VALUES(181, '8500024', 'SILLETA DE TRES PLATINAS 60 SD 323','8500024.pdf');
A9: =A8+1 -> 182 | B9: 8500025 | C9: 8500025 | E9: Silleta de tres platinas 60 SD 322 | F9: =+UPPER(E9) -> SILLETA DE TRES PLATINAS 60 SD 322 | G9: =+CONCATENATE("INSERT INTO fic (id, ficha, descripcion, archivo) VALUES(",A9,", '",B9,"', '",F9,"','",C9,".pdf');") -> INSERT INTO fic (id, ficha, descripcion, archivo) VALUES(182, '8500025', 'SILLETA DE TRES PLATINAS 60 SD 322','8500025.pdf');
A10: =A9+1 -> 183 | B10: 8500026 | C10: 8500026 | E10: Silleta de dos platinas 60 SD 319 | F10: =+UPPER(E10) -> SILLETA DE DOS PLATINAS 60 SD 319 | G10: =+CONCATENATE("INSERT INTO fic (id, ficha, descripcion, archivo) VALUES(",A10,", '",B10,"', '",F10,"','",C10,".pdf');") -> INSERT INTO fic (id, ficha, descripcion, archivo) VALUES(183, '8500026', 'SILLETA DE DOS PLATINAS 60 SD 319','8500026.pdf');
A11: =A10+1 -> 184 | B11: 8500027 | C11: 8500027 | E11: Silleta doble platina 60P 361 | F11: =+UPPER(E11) -> SILLETA DOBLE PLATINA 60P 361 | G11: =+CONCATENATE("INSERT INTO fic (id, ficha, descripcion, archivo) VALUES(",A11,", '",B11,"', '",F11,"','",C11,".pdf');") -> INSERT INTO fic (id, ficha, descripcion, archivo) VALUES(184, '8500027', 'SILLETA DOBLE PLATINA 60P 361','8500027.pdf');
A12: =A11+1 -> 185 | B12: 8500028 | C12: 8500028 | E12: Silleta doble platina 60P 362 | F12: =+UPPER(E12) -> SILLETA DOBLE PLATINA 60P 362 | G12: =+CONCATENATE("INSERT INTO fic (id, ficha, descripcion, archivo) VALUES(",A12,", '",B12,"', '",F12,"','",C12,".pdf');") -> INSERT INTO fic (id, ficha, descripcion, archivo) VALUES(185, '8500028', 'SILLETA DOBLE PLATINA 60P 362','8500028.pdf');
A13: =A12+1 -> 186 | B13: 8500030 | C13: 8500030 | E13: Silleta SU 115 RE modificada | F13: =+UPPER(E13) -> SILLETA SU 115 RE MODIFICADA | G13: =+CONCATENATE("INSERT INTO fic (id, ficha, descripcion, archivo) VALUES(",A13,", '",B13,"', '",F13,"','",C13,".pdf');") -> INSERT INTO fic (id, ficha, descripcion, archivo) VALUES(186, '8500030', 'SILLETA SU 115 RE MODIFICADA','8500030.pdf');
A14: =A13+1 -> 187 | B14: 8500031 | C14: 8500031 | E14: Silleta triple platina 60P 363 | F14: =+UPPER(E14) -> SILLETA TRIPLE PLATINA 60P 363 | G14: =+CONCATENATE("INSERT INTO fic (id, ficha, descripcion, archivo) VALUES(",A14,", '",B14,"', '",F14,"','",C14,".pdf');") -> INSERT INTO fic (id, ficha, descripcion, archivo) VALUES(187, '8500031', 'SILLETA TRIPLE PLATINA 60P 363','8500031.pdf');
A15: =A14+1 -> 188 | B15: 8500066 | C15: 8500066 | E15: Balancin de ataque de cerrojo axial MRM 115 RE | F15: =+UPPER(E15) -> BALANCIN DE ATAQUE DE CERROJO AXIAL MRM 115 RE | G15: =+CONCATENATE("INSERT INTO fic (id, ficha, descripcion, archivo) VALUES(",A15,", '",B15,"', '",F15,"','",C15,".pdf');") -> INSERT INTO fic (id, ficha, descripcion, archivo) VALUES(188, '8500066', 'BALANCIN DE ATAQUE DE CERROJO AXIAL MRM 115 RE','8500066.pdf');
A16: =A15+1 -> 189 | B16: 8500074 | C16: 8500074 | E16: Soporte de contrariel U-69 | F16: =+UPPER(E16) -> SOPORTE DE CONTRARIEL U-69 | G16: =+CONCATENATE("INSERT INTO fic (id, ficha, descripcion, archivo) VALUES(",A16,", '",B16,"', '",F16,"','",C16,".pdf');") -> INSERT INTO fic (id, ficha, descripcion, archivo) VALUES(189, '8500074', 'SOPORTE DE CONTRARIEL U-69','8500074.pdf');
A17: =A16+1 -> 190 | B17: 8500077 | C17: 8500077 | E17: Tope ajustable de cerrojo axial MRM 115 RE | F17: =+UPPER(E17) -> TOPE AJUSTABLE DE CERROJO AXIAL MRM 115 RE | G17: =+CONCATENATE("INSERT INTO fic (id, ficha, descripcion, archivo) VALUES(",A17,", '",B17,"', '",F17,"','",C17,".pdf');") -> INSERT INTO fic (id, ficha, descripcion, archivo) VALUES(190, '8500077', 'TOPE AJUSTABLE DE CERROJO AXIAL MRM 115 RE','8500077.pdf');
A18: =A17+1 -> 191 | B18: 8500078 | C18: 8500078 | E18: Tope fijo de cerrojo axial MRM 115 RE | F18: =+UPPER(E18) -> TOPE FIJO DE CERROJO AXIAL MRM 115 RE | G18: =+CONCATENATE("INSERT INTO fic (id, ficha, descripcion, archivo) VALUES(",A18,", '",B18,"', '",F18,"','",C18,".pdf');") -> INSERT INTO fic (id, ficha, descripcion, archivo) VALUES(191, '8500078', 'TOPE FIJO DE CERROJO AXIAL MRM 115 RE','8500078.pdf');
A19: =A18+1 -> 192 | B19: 8500138 | C19: 8500138 | E19: Tope aislante para pieza de cruzamiento | F19: =+UPPER(E19) -> TOPE AISLANTE PARA PIEZA DE CRUZAMIENTO | G19: =+CONCATENATE("INSERT INTO fic (id, ficha, descripcion, archivo) VALUES(",A19,", '",B19,"', '",F19,"','",C19,".pdf');") -> INSERT INTO fic (id, ficha, descripcion, archivo) VALUES(192, '8500138', 'TOPE AISLANTE PARA PIEZA DE CRUZAMIENTO','8500138.pdf');
... A24: =A23+1 -> 197 | B24: 8500224 | C24: 8500224 | E24: Tope aislante U.G.-V.F. | F24: =+UPPER(E24) -> TOPE AISLANTE U.G.-V.F. | G24: =+CONCATENATE("INSERT INTO fic (id, ficha, descripcion, archivo) VALUES(",A24,", '",B24,"', '",F24,"','",C24,".pdf');") -> INSERT INTO fic (id, ficha, descripcion, archivo) VALUES(197, '8500224', 'TOPE AISLANTE U.G.-V.F.','8500224.pdf');

Sheet SQL fic 8500000
A3: Número | B3: Archivo electrónico | E3: Nombre
A4: 3.4 FICHAS DE INSPECCIÓN CONTROL DE CÁLIDAD
A5: FICHAS 8500000 | B5: ficha | C5: archivo
A6: =+'SQL fic 13Mzo'!A24+1 -> 198 | B6: 8500002 | C6: 8500002 | E6: Brida,equipo soporte de contrariel | F6: =+UPPER(E6) -> BRIDA,EQUIPO SOPORTE DE CONTRARIEL | G6: =+CONCATENATE("INSERT INTO fic (id, ficha, descripcion,archivo) VALUES(",A6,", '",B6,"', '",F6,"','",C6,".pdf');") -> INSERT INTO fic (id, ficha, descripcion,archivo) VALUES(198, '8500002', 'BRIDA,EQUIPO SOPORTE DE CONTRARIEL','8500002.pdf');
A7: =A6+1 -> 199 | B7: 8500007 | C7: 8500007 | E7: Tornillo cabeza rectangular M20-75N | F7: =+UPPER(E7) -> TORNILLO CABEZA RECTANGULAR M20-75N | G7: =+CONCATENATE("INSERT INTO fic (id, ficha, descripcion,archivo) VALUES(",A7,", '",B7,"', '",F7,"','",C7,".pdf');") -> INSERT INTO fic (id, ficha, descripcion,archivo) VALUES(199, '8500007', 'TORNILLO CABEZA RECTANGULAR M20-75N','8500007.pdf');
A8: =A7+1 -> 200 | B8: 8500008 | C8: 8500008 | E8: Tuerca de castillo M-18 | F8: =+UPPER(E8) -> TUERCA DE CASTILLO M-18 | G8: =+CONCATENATE("INSERT INTO fic (id, ficha, descripcion,archivo) VALUES(",A8,", '",B8,"', '",F8,"','",C8,".pdf');") -> INSERT INTO fic (id, ficha, descripcion,archivo) VALUES(200, '8500008', 'TUERCA DE CASTILLO M-18','8500008.pdf');
A9: =A8+1 -> 201 | B9: 8500009 | C9: 8500009 | E9: Buje de acero | F9: =+UPPER(E9) -> BUJE DE ACERO | G9: =+CONCATENATE("INSERT INTO fic (id, ficha, descripcion,archivo) VALUES(",A9,", '",B9,"', '",F9,"','",C9,".pdf');") -> INSERT INTO fic (id, ficha, descripcion,archivo) VALUES(201, '8500009', 'BUJE DE ACERO ','8500009.pdf');
A10: =A9+1 -> 202 | B10: 8500010 | C10: 8500010 | E10: Buje de base cuadrada | F10: =+UPPER(E10) -> BUJE DE BASE CUADRADA | G10: =+CONCATENATE("INSERT INTO fic (id, ficha, descripcion,archivo) VALUES(",A10,", '",B10,"', '",F10,"','",C10,".pdf');") -> INSERT INTO fic (id, ficha, descripcion,archivo) VALUES(202, '8500010', 'BUJE DE BASE CUADRADA ','8500010.pdf');
A11: =A10+1 -> 203 | B11: 8500011 | C11: 8500011 | E11: Tornillo HM 14 x 90 | F11: =+UPPER(E11) -> TORNILLO HM 14 X 90 | G11: =+CONCATENATE("INSERT INTO fic (id, ficha, descripcion,archivo) VALUES(",A11,", '",B11,"', '",F11,"','",C11,".pdf');") -> INSERT INTO fic (id, ficha, descripcion,archivo) VALUES(203, '8500011', 'TORNILLO HM 14 X 90','8500011.pdf');
A12: =A11+1 -> 204 | B12: 8500055 | C12: 8500055 | E12: Tope aislante nylon 6-6 E.T. 34 para via sobre fosa | F12: =+UPPER(E12) -> TOPE AISLANTE NYLON 6-6 E.T. 34 PARA VIA SOBRE FOSA | G12: =+CONCATENATE("INSERT INTO fic (id, ficha, descripcion,archivo) VALUES(",A12,", '",B12,"', '",F12,"','",C12,".pdf');") -> INSERT INTO fic (id, ficha, descripcion,archivo) VALUES(204, '8500055', 'TOPE AISLANTE NYLON 6-6 E.T. 34 PARA VIA SOBRE FOSA','8500055.pdf');
A13: =A12+1 -> 205 | B13: 8500068 | C13: 8500068 | E13: Corredera corta del eje de candado doble para cerrojo axial MRM 115 RE | F13: =+UPPER(E13) -> CORREDERA CORTA DEL EJE DE CANDADO DOBLE PARA CERROJO AXIAL MRM 115 RE | G13: =+CONCATENATE("INSERT INTO fic (id, ficha, descripcion,archivo) VALUES(",A13,", '",B13,"', '",F13,"','",C13,".pdf');") -> INSERT INTO fic (id, ficha, descripcion,archivo) VALUES(205, '8500068', 'CORREDERA CORTA DEL EJE DE CANDADO DOBLE PARA CERROJO AXIAL MRM 115 RE ','8500068.pdf');
A14: =A13+1 -> 206 | B14: 8500069 | C14: 8500069 | E14: Corredera larga del eje de candado doble de cerrojo axial MRM 115 RE | F14: =+UPPER(E14) -> CORREDERA LARGA DEL EJE DE CANDADO DOBLE DE CERROJO AXIAL MRM 115 RE | G14: =+CONCATENATE("INSERT INTO fic (id, ficha, descripcion,archivo) VALUES(",A14,", '",B14,"', '",F14,"','",C14,".pdf');") -> INSERT INTO fic (id, ficha, descripcion,archivo) VALUES(206, '8500069', 'CORREDERA LARGA DEL EJE DE CANDADO DOBLE DE CERROJO AXIAL MRM 115 RE ','8500069.pdf');
A15: =A14+1 -> 207 | B15: 8500070 | C15: 8500070 | E15: Eje de candado doble de cerrojo axial MRM 115 RE | F15: =+UPPER(E15) -> EJE DE CANDADO DOBLE DE CERROJO AXIAL MRM 115 RE | G15: =+CONCATENATE("INSERT INTO fic (id, ficha, descripcion,archivo) VALUES(",A15,", '",B15,"', '",F15,"','",C15,".pdf');") -> INSERT INTO fic (id, ficha, descripcion,archivo) VALUES(207, '8500070', 'EJE DE CANDADO DOBLE DE CERROJO AXIAL MRM 115 RE ','8500070.pdf');
A16: =A15+1 -> 208 | B16: 8500071 | C16: 8500071 | E16: Placa soporte de cerrojo axial MRM 115 RE | F16: =+UPPER(E16) -> PLACA SOPORTE DE CERROJO AXIAL MRM 115 RE | G16: =+CONCATENATE("INSERT INTO fic (id, ficha, descripcion,archivo) VALUES(",A16,", '",B16,"', '",F16,"','",C16,".pdf');") -> INSERT INTO fic (id, ficha, descripcion,archivo) VALUES(208, '8500071', 'PLACA SOPORTE DE CERROJO AXIAL MRM 115 RE ','8500071.pdf');
A17: =A16+1 -> 209 | B17: 8500072 | C17: 8500072 | E17: Tope de dos barrenos modificados | F17: =+UPPER(E17) -> TOPE DE DOS BARRENOS MODIFICADOS | G17: =+CONCATENATE("INSERT INTO fic (id, ficha, descripcion,archivo) VALUES(",A17,", '",B17,"', '",F17,"','",C17,".pdf');") -> INSERT INTO fic (id, ficha, descripcion,archivo) VALUES(209, '8500072', 'TOPE DE DOS BARRENOS MODIFICADOS ','8500072.pdf');
A18: =A17+1 -> 210 | B18: 8500075 | C18: 8500075 | E18: Placa de soporte de conmutador de cerrojo axial MRM 115 RE | F18: =+UPPER(E18) -> PLACA DE SOPORTE DE CONMUTADOR DE CERROJO AXIAL MRM 115 RE | G18: =+CONCATENATE("INSERT INTO fic (id, ficha, descripcion,archivo) VALUES(",A18,", '",B18,"', '",F18,"','",C18,".pdf');") -> INSERT INTO fic (id, ficha, descripcion,archivo) VALUES(210, '8500075', 'PLACA DE SOPORTE DE CONMUTADOR DE CERROJO AXIAL MRM 115 RE ','8500075.pdf');
... A34: =A33+1 -> 226 | B34: 8500105 | C34: 8500105 | E34: Tornillo cabeza de yunque BR -90 HS-26 | F34: =+UPPER(E34) -> TORNILLO CABEZA DE YUNQUE BR -90 HS-26 | G34: =+CONCATENATE("INSERT INTO fic (id, ficha, descripcion,archivo) VALUES(",A34,", '",B34,"', '",F34,"','",C34,".pdf');") -> INSERT INTO fic (id, ficha, descripcion,archivo) VALUES(226, '8500105', 'TORNILLO CABEZA DE YUNQUE BR -90 HS-26','8500105.pdf');
A35: =A34+1 -> 227 | B35: 8500106, 8500107, 8500108 | C35: 8500106, 8500107, 8500108 | E35: Tornillo de cabeza hexagonal (24x 90,24x100, y 24x225) | F35: =+UPPER(E35) -> TORNILLO DE CABEZA HEXAGONAL (24X 90,24X100, Y 24X225) | G35: =+CONCATENATE("INSERT INTO fic (id, ficha, descripcion,archivo) VALUES(",A35,", '",B35,"', '",F35,"','",C35,".pdf');") -> INSERT INTO fic (id, ficha, descripcion,archivo) VALUES(227, '8500106, 8500107, 8500108', 'TORNILLO DE CABEZA HEXAGONAL (24X 90,24X100, Y 24X225)','8500106, 8500107, 8500108.pdf');
A36: =A35+1 -> 228 | B36: 8500109 | C36: 8500109 | E36: Tornillo de cabeza rectangular M24 x 3.0-90/56 | F36: =+UPPER(E36) -> TORNILLO DE CABEZA RECTANGULAR M24 X 3.0-90/56 | G36: =+CONCATENATE("INSERT INTO fic (id, ficha, descripcion,archivo) VALUES(",A36,", '",B36,"', '",F36,"','",C36,".pdf');") -> INSERT INTO fic (id, ficha, descripcion,archivo) VALUES(228, '8500109', 'TORNILLO DE CABEZA RECTANGULAR M24 X 3.0-90/56','8500109.pdf');
A37: =A36+1 -> 229 | B37: 8500110 | C37: 8500110 | E37: Tornillo pata de robot M20 x 2.5 | F37: =+UPPER(E37) -> TORNILLO PATA DE ROBOT M20 X 2.5 | G37: =+CONCATENATE("INSERT INTO fic (id, ficha, descripcion,archivo) VALUES(",A37,", '",B37,"', '",F37,"','",C37,".pdf');") -> INSERT INTO fic (id, ficha, descripcion,archivo) VALUES(229, '8500110', 'TORNILLO PATA DE ROBOT M20 X 2.5','8500110.pdf');
A38: =A37+1 -> 230 | B38: 8500111. 8500112 | C38: 8500111, 8500112 | D38: ESPACIOS INTERMEDIOS | E38: Tuerca autofrenada M-20 y M-22 | F38: =+UPPER(E38) -> TUERCA AUTOFRENADA M-20 Y M-22 | G38: =+CONCATENATE("INSERT INTO fic (id, ficha, descripcion,archivo) VALUES(",A38,", '",B38,"', '",F38,"','",C38,".pdf');") -> INSERT INTO fic (id, ficha, descripcion,archivo) VALUES(230, '8500111. 8500112', 'TUERCA AUTOFRENADA M-20 Y M-22','8500111, 8500112.pdf');
A39: =A38+1 -> 231 | B39: 8500113 | C39: 8500113 | E39: Tuerca hexagonal M 16 x 2.0 | F39: =+UPPER(E39) -> TUERCA HEXAGONAL M 16 X 2.0 | G39: =+CONCATENATE("INSERT INTO fic (id, ficha, descripcion,archivo) VALUES(",A39,", '",B39,"', '",F39,"','",C39,".pdf');") -> INSERT INTO fic (id, ficha, descripcion,archivo) VALUES(231, '8500113', 'TUERCA HEXAGONAL M 16 X 2.0','8500113.pdf');
A40: =A39+1 -> 232 | B40: 8500116 | C40: 8500116 | E40: Tornillo QM20-75/45 | F40: =+UPPER(E40) -> TORNILLO QM20-75/45 | G40: =+CONCATENATE("INSERT INTO fic (id, ficha, descripcion,archivo) VALUES(",A40,", '",B40,"', '",F40,"','",C40,".pdf');") -> INSERT INTO fic (id, ficha, descripcion,archivo) VALUES(232, '8500116', 'TORNILLO QM20-75/45','8500116.pdf');
A41: =A40+1 -> 233 | B41: 8500117 | C41: 8500117 | E41: Acoplador de barra de mando para cerrojo axial riel 115 LB/YD | F41: =+UPPER(E41) -> ACOPLADOR DE BARRA DE MANDO PARA CERROJO AXIAL RIEL 115 LB/YD | G41: =+CONCATENATE("INSERT INTO fic (id, ficha, descripcion,archivo) VALUES(",A41,", '",B41,"', '",F41,"','",C41,".pdf');") -> INSERT INTO fic (id, ficha, descripcion,archivo) VALUES(233, '8500117', 'ACOPLADOR DE BARRA DE MANDO PARA CERROJO AXIAL RIEL 115 LB/YD','8500117.pdf');
A42: =A41+1 -> 234 | B42: 8500118 | C42: 8500118 | E42: Almohadilla de caucho acanalada tipo longitudinal | F42: =+UPPER(E42) -> ALMOHADILLA DE CAUCHO ACANALADA TIPO LONGITUDINAL | G42: =+CONCATENATE("INSERT INTO fic (id, ficha, descripcion,archivo) VALUES(",A42,", '",B42,"', '",F42,"','",C42,".pdf');") -> INSERT INTO fic (id, ficha, descripcion,archivo) VALUES(234, '8500118', 'ALMOHADILLA DE CAUCHO ACANALADA TIPO LONGITUDINAL ','8500118.pdf');
A43: =A42+1 -> 235 | B43: 8500119 | C43: 8500119 | E43: Barra de mando con entrada para cerrojo axial | F43: =+UPPER(E43) -> BARRA DE MANDO CON ENTRADA PARA CERROJO AXIAL | G43: =+CONCATENATE("INSERT INTO fic (id, ficha, descripcion,archivo) VALUES(",A43,", '",B43,"', '",F43,"','",C43,".pdf');") -> INSERT INTO fic (id, ficha, descripcion,archivo) VALUES(235, '8500119', 'BARRA DE MANDO CON ENTRADA PARA CERROJO AXIAL ','8500119.pdf');
A44: =A43+1 -> 236 | B44: 8500120 | C44: 8500120 | E44: Barra de mando para VCC | F44: =+UPPER(E44) -> BARRA DE MANDO PARA VCC | G44: =+CONCATENATE("INSERT INTO fic (id, ficha, descripcion,archivo) VALUES(",A44,", '",B44,"', '",F44,"','",C44,".pdf');") -> INSERT INTO fic (id, ficha, descripcion,archivo) VALUES(236, '8500120', 'BARRA DE MANDO PARA VCC','8500120.pdf');
A45: =A44+1 -> 237 | B45: 8500121 | C45: 8500121 | E45: Barra de separacion de agujas para cerrojo VCC | F45: =+UPPER(E45) -> BARRA DE SEPARACION DE AGUJAS PARA CERROJO VCC | G45: =+CONCATENATE("INSERT INTO fic (id, ficha, descripcion,archivo) VALUES(",A45,", '",B45,"', '",F45,"','",C45,".pdf');") -> INSERT INTO fic (id, ficha, descripcion,archivo) VALUES(237, '8500121', 'BARRA DE SEPARACION DE AGUJAS PARA CERROJO VCC','8500121.pdf');
A46: =A45+1 -> 238 | B46: 8500123 | C46: 8500123 | E46: Cuadro aislante diametro int .=23 mm | F46: =+UPPER(E46) -> CUADRO AISLANTE DIAMETRO INT .=23 MM | G46: =+CONCATENATE("INSERT INTO fic (id, ficha, descripcion,archivo) VALUES(",A46,", '",B46,"', '",F46,"','",C46,".pdf');") -> INSERT INTO fic (id, ficha, descripcion,archivo) VALUES(238, '8500123', 'CUADRO AISLANTE DIAMETRO INT .=23 MM ','8500123.pdf');
A47: =A46+1 -> 239 | B47: 8500124 , 8500225 | C47: 8500124, 8500225 | D47: ESPACIOS INTERMEDIOS | E47: End post separador aislante | F47: =+UPPER(E47) -> END POST SEPARADOR AISLANTE | G47: =+CONCATENATE("INSERT INTO fic (id, ficha, descripcion,archivo) VALUES(",A47,", '",B47,"', '",F47,"','",C47,".pdf');") -> INSERT INTO fic (id, ficha, descripcion,archivo) VALUES(239, '8500124 , 8500225', 'END POST SEPARADOR AISLANTE ','8500124, 8500225.pdf');
A48: =A47+1 -> 240 | B48: 8500125 | C48: 8500125 | E48: Grapa de aparato de dilatacion | F48: =+UPPER(E48) -> GRAPA DE APARATO DE DILATACION | G48: =+CONCATENATE("INSERT INTO fic (id, ficha, descripcion,archivo) VALUES(",A48,", '",B48,"', '",F48,"','",C48,".pdf');") -> INSERT INTO fic (id, ficha, descripcion,archivo) VALUES(240, '8500125', 'GRAPA DE APARATO DE DILATACION ','8500125.pdf');
A49: =A48+1 -> 241 | B49: 8500126 | C49: 8500126 | E49: Placa aislante de riel | F49: =+UPPER(E49) -> PLACA AISLANTE DE RIEL | G49: =+CONCATENATE("INSERT INTO fic (id, ficha, descripcion,archivo) VALUES(",A49,", '",B49,"', '",F49,"','",C49,".pdf');") -> INSERT INTO fic (id, ficha, descripcion,archivo) VALUES(241, '8500126', 'PLACA AISLANTE DE RIEL ','8500126.pdf');
A50: =A49+1 -> 242 | B50: 8500129 | C50: 8500129 | E50: Plaqueta inclinada 115 P-0300-equipo apto de via | F50: =+UPPER(E50) -> PLAQUETA INCLINADA 115 P-0300-EQUIPO APTO DE VIA | G50: =+CONCATENATE("INSERT INTO fic (id, ficha, descripcion,archivo) VALUES(",A50,", '",B50,"', '",F50,"','",C50,".pdf');") -> INSERT INTO fic (id, ficha, descripcion,archivo) VALUES(242, '8500129', 'PLAQUETA INCLINADA 115 P-0300-EQUIPO APTO DE VIA ','8500129.pdf');
A51: =A50+1 -> 243 | B51: 8500130 | C51: 8500130 | E51: Roldana cuadrada diametro 26 mm | F51: =+UPPER(E51) -> ROLDANA CUADRADA DIAMETRO 26 MM | G51: =+CONCATENATE("INSERT INTO fic (id, ficha, descripcion,archivo) VALUES(",A51,", '",B51,"', '",F51,"','",C51,".pdf');") -> INSERT INTO fic (id, ficha, descripcion,archivo) VALUES(243, '8500130', 'ROLDANA CUADRADA DIAMETRO 26 MM ','8500130.pdf');
A52: =A51+1 -> 244 | B52: 8500131 | C52: 8500131 | E52: Roldana de doble espira diametro interior de 26 mm diametro exterior 46 mm , espesor 6 mm - equipo: aparato cambio de vía | F52: =+UPPER(E52) -> ROLDANA DE DOBLE ESPIRA DIAMETRO INTERIOR DE 26 MM DIAMETRO EXTERIOR 46 MM , ESPESOR 6 MM - EQUIPO: APARATO CAMBIO DE VÍA | G52: =+CONCATENATE("INSERT INTO fic (id, ficha, descripcion,archivo) VALUES(",A52,", '",B52,"', '",F52,"','",C52,".pdf');") -> INSERT INTO fic (id, ficha, descripcion,archivo) VALUES(244, '8500131', 'ROLDANA DE DOBLE ESPIRA DIAMETRO INTERIOR DE 26 MM DIAMETRO EXTERIOR 46 MM , ESPESOR 6 MM - EQUIPO: APARATO CAMBIO DE VÍA','8500131.pdf');
A53: =A52+1 -> 245 | B53: 8500132 | C53: 8500132 | E53: Roldana grower o de presion diametro interior 26 mm | F53: =+UPPER(E53) -> ROLDANA GROWER O DE PRESION DIAMETRO INTERIOR 26 MM | G53: =+CONCATENATE("INSERT INTO fic (id, ficha, descripcion,archivo) VALUES(",A53,", '",B53,"', '",F53,"','",C53,".pdf');") -> INSERT INTO fic (id, ficha, descripcion,archivo) VALUES(245, '8500132', 'ROLDANA GROWER O DE PRESION DIAMETRO INTERIOR 26 MM ','8500132.pdf');
A54: =A53+1 -> 246 | B54: 8500133 | C54: 8500133 | E54: Roldana plana para cerrojo diametro interior de 22 mm y exterior de 40 mm | F54: =+UPPER(E54) -> ROLDANA PLANA PARA CERROJO DIAMETRO INTERIOR DE 22 MM Y EXTERIOR DE 40 MM | G54: =+CONCATENATE("INSERT INTO fic (id, ficha, descripcion,archivo) VALUES(",A54,", '",B54,"', '",F54,"','",C54,".pdf');") -> INSERT INTO fic (id, ficha, descripcion,archivo) VALUES(246, '8500133', 'ROLDANA PLANA PARA CERROJO DIAMETRO INTERIOR DE 22 MM Y EXTERIOR DE 40 MM ','8500133.pdf');
A55: =A54+1 -> 247 | B55: 8500134 | C55: 8500134 | E55: Roldana aislante diametro interior 22 mm y exterior de 50 mm | F55: =+UPPER(E55) -> ROLDANA AISLANTE DIAMETRO INTERIOR 22 MM Y EXTERIOR DE 50 MM | G55: =+CONCATENATE("INSERT INTO fic (id, ficha, descripcion,archivo) VALUES(",A55,", '",B55,"', '",F55,"','",C55,".pdf');") -> INSERT INTO fic (id, ficha, descripcion,archivo) VALUES(247, '8500134', 'ROLDANA AISLANTE DIAMETRO INTERIOR 22 MM Y EXTERIOR DE 50 MM ','8500134.pdf');
