Workbook

Sheet ORDEN SUB VIAS TERMINADO
B2: No. ING. SUBCOOD VIAS | C2: ARCHIVO ELECTRÓNICO | D2: PLANO | E2: D E S C R IP C I O N | F2: DETALLES | G2: E. T.
B3: 1 | C3: 01 94VI17-501000III0418P DURMIENTETIPO SO BIBLOCK | D3: 94-VI.17-501000-III-04-18-P | E3: PLANO TIPO DURMIENTE BIBLOQUE DE CONCRETO REFORZADO TIPO "SO" PARA EL METRO DE RODADA NEUMATICA DE LA CD DE MEXICO ( DIMENSIONES GENERALES PARA DISEÑO ) | F3: DURMIENTE DE CONCRETO BIBLOCK TIPO "SO" CON PERNO DE 22 MM. | G3: E. F. 3
B4: 2 | C4: 02 94VI17501000III0620P DURMIENTETIPO S MONOLITICO | D4: 94-VI.17-501000-III-06-20-P | E4: PLANO TIPO DURMIENTE MONOBLOQUE DE CONCRETO PRESFORZADO TIPO "S" PARA EL METRO CON RODADA NEUMATICA DE LA CD DE MEXICO ( DIMENSIONES GENERALES PARA DISEÑO ) | F4: DURMIENTE DE CONCRETO MONOLITICO TIPO "S" CON PERNO DE 22 MM | G4: E. F. 5
B5: 3 | C5: 03 94VI17501000III0721P DURMIENTETIPO SO MONOLITICO | D5: 94-VI.17-501000-III-07-21-P | E5: PLANO TIPO DURMIENTE MONOBLOQUE DE CONCRETO PRESFORZADO TIPO "SO" PARA EL METRO CON RODADA NEUMATICA DE LA CD DE MEXICO ( DIMENSIONES GENERALES PARA DISEÑO ) | F5: DURMIENTE DE CONCRETO MONOLITICO TIPO "SO" CON PERNO DE 22 MM | G5: E. F. 6
B6: 4 | C6: 79-VI.17-000-III-19-2362-P 2015 | D6: 79-VI.17-000-III-19-2362-P | E6: PLANO TIPO COTAS DE AJUSTE Y MONTAJES DE LA BARRA GUIA COMUNICACIÓN DE VÍA TG. 0.13 DE 4.2 mts. A LA DERECHA. | F6: COMUNICACIÓN TG. 0.13 DE 4.2 A DERECHA AJUSTE DE BARRA GUIA Y MONTAJES
B7: 5 | C7: 79-VI.17-000-III-20-2363-P 2015 | D7: 79-VI.17-000-III-20-2363-P | E7: PLANO TIPO COTAS DE AJUSTE Y MONTAJES DE LA BARRA GUIA COMUNICACIÓN DE VÍA TG. 0.13 DE 4.2 mts. A LA IZQUIERDA. | F7: COMUNICACIÓN TG. 0.13 DE 4.2 A IZQUIERDA AJUSTE DE BARRA GUIA Y MONTAJES
B8: 6 | C8: 79-VI.17-000-III-21-2364-P 2015 | D8: 79-VI.17-000-III-21-2364-P | E8: PLANO TIPO COTAS DE AJUSTE Y MONTAJES DE LA BARRA GUIA COMUNICACIÓN DE VÍA TG. 0.13 DE 4.2 mts. A LA IZQUIERDA CON CRUZAMIENTO A LA DERECHA. | F8: COMUNICACIÓN TG. 0.13 DE 4.2 A IZQUIERDA CON DESVIO A LA DERECHA AJUSTE DE BARRA GUIA Y MONTAJES
B9: 7 | C9: 79-VI.17-000-III-22-2365-P 2015 | D9: 79-VI.17-000-III-22-2365-P | E9: PLANO TIPO COTAS DE AJUSTE Y MONTAJES DE LA BARRA GUIA COMUNICACIÓN DE VÍA TG. 0.13 DE 4.2 mts. A LA DERECHA CON CRUZAMIENTO A LA IZQUIERDA. | F9: COMUNICACIÓN TG. 0.13 DE 4.2 A DERECHA CON DESVIO A LA IZQUIERDA AJUSTE DE BARRA GUIA Y MONTAJES
B10: 8 | C10: 87-VI.17-85232-III-1-1948-P | D10: 87-VI.17-85232-III-1-1948-P | E10: IMPLANTACION DE VIA-FIJACION DE VIA PLANO TIPO VIA SOBRE BALASTO MONTAJE Y DETALLES DE COLOCACION DEL CUPON NEUTRO DE 3 BLOCKS AISLANTES DE 296mm Y LONGITUD DE 24.000 m | F10: ZONA NEUTRA DE 3 BLOCKS AISLANTES CORTE EN "Z". | G10: 30 A, 30 C
B11: 9 | C11: 94-VI.8-51000-III-09-24-P | D11: 94-VI.8-51000-III-09-24-P | E11: SECCIÓN TIPO SUPERFICIAL EN TANGENTE CON DURMIENTE MONOBLOQUE DE CONCRETO (GALIBO INTERIOR DE 8.00 M.) | F11: CORTE DE VIA RECTA CON TRENES EN TUNEL DURMIENTE DE CONCRETO.
B12: 10 | C12: 94-VI.8-51000-III-10-25-P | D12: 94-VI.8-51000-III-10-25-P | E12: SECCIÓN TIPO ELEVADA EN TANGENTE CON DURMIENTE MONOBLOQUE DE CONCRETO (GALIBO INTERIOR DE 8.100) | F12: CORTE DE VIA EN RECTA ELEVADA CON TRENES Y DURMIENTE DE CONCRETO.
B13: 11 | C13: 94-VI.8-51000-III-46-221-P | D13: 94-VI.8-51000-III-46-221-P | E13: SECCIÓN TIPO CAJON SUBTERRANEO CON MURO DE ACOMPAÑAMIENTO EN CURVA DE 200 ≥ R ≥ 150.000 | F13: CORTE DE VIA CURVA CON TRENES EN CAJON.
B14: 12 | C14: 94-VI.8-51000-III-116-434-P | D14: 94-VI.8-51000-III-116-434-P | E14: SECCIÓN TIPO VÍA SOBRE CONCRETO ESTACIÓN EN ELEVADO CON ANDENES LATERALES | F14: CORTE DE VIA EN ESTACION ELEVADA DE LINEA B CON ANDEN LATERAL.
B15: 13 | C15: 94-VI.8-51000-III-118-436-P | D15: 94-VI.8-51000-III-118-436-P | E15: SECCIÓN TIPO ESTACIÓN SUPERFICIAL 2 VÍAS Y 1 ANDEN CENTRAL | F15: CORTE DE VIA EN ESTACION SUPERFICIAL DE LINEA B CON ANDEN CENTRAL
B16: 14 | C16: 94-VI.8-51000-III-47-222-P | D16: 94-VI.8-51000-III-47-222-P | E16: SECCIÓN TIPO ELEVADO CURVA DE 200 ≥ R ≥ 150 | F16: CORTE DE VIA CURVA ELEVADA CON TRENES.
B17: 15 | C17: 94-VI.17-501000-III-02-16-P | D17: 94-VI.17-501000-III-02-16-P | E17: PLANO TIPO DURMIENTE BIBLOQUE DE CONCRETO REFORZADO TIPO "O" PARA EL METRO CON RODADA NEUMATICA DE LA CIUDAD DE MEXICO (DIMENSIONES GENERALES PARA DISEÑO). | F17: DURMIENTE DE CONCRETO BIBLOCK TIPO "O" CON PERNO DE 22 MM. | G17: E. F. 1
B18: 16 | C18: 94-VI.17-501000-III-03-17-P | D18: 94-VI.17-501000-III-03-17-P | E18: PLANO TIPO DURMIENTE BIBLOQUE DE CONCRETO REFORZADO TIPO "S" PARA EL METRO CON RODADA NEUMATICA DE LA CD DE MEXICO ( DIMENSIONES GENERALES PARA DISEÑO ) | F18: DURMIENTE DE CONCRETO BIBLOCK TIPO "S" CON PERNO DE 22 MM. | G18: E. F. 2
B19: 17 | C19: 94-VI.17-501000-III-05-19-P | D19: 94-VI.17-501000-III-05-19-P | E19: PLANO TIPO DURMIENTE MONOBLOQUE DE CONCRETO PRESFORZADO TIPO “O” PARA EL METRO CON RODADA NEUMÁTICA DE LA CD, DE MÉXICO(DIMENSIONES GENERALES PARA DISEÑO) | F19: DURMIENTE DE CONCRETO MONOLITICO TIPO "O" CON PERNO DE 22 MM | G19: E. F. 4
B20: 18 | C20: 94-VI.17-501000-III-17-51-P | D20: 94-VI.17-501000-III-17-51-P | E20: PLANO TIPO IMPLANTACION DE VIA - FIJACION DE VIA JUNTAS AISLANTES PARA RIEL DE 80 ASCE Y PISTA, SOBRE DURMIENTES DE CONCRETO Y DURMIENTES DE MADERA CONJUNTO Y DETALLES | F20: JUNTA AISLANTE DE RIEL 80 LB/YD. | G20: 30 A, 30 C
F21: JUNTA AISLANTE DE PISTA METALICA.
B22: 19 | C22: 94-VI.17-501000-III-19-53-P | D22: 94-VI.17-501000-III-19-53-P | E22: IMPLANTACION DE VIA - FIJACION DE VIA PLANO TIPO VIA EN TUNEL - DISTRIBUCION DE DURMIENTES EN TANGENTE Y CURVAS DE 150≤R<350 Y R≥350 | F22: VIA TIPO CON DURMIENTES DE CONCRETO EN RECTA. | G22: 30 C
F23: VIA TIPO CON DURMIENTES DE CONCRETO EN CURVA.
F24: DISTRIBUCION DE DURMIENTES DE CONCRETO EN RECTA.
F25: DISTRIBUCION DE DURMIENTES DE CONCRETO EN CURVA.
B26: 20 | C26: 94-VI.17-501000-III-20-54-P | D26: 94-VI.17-501000-III-20-54-P | E26: IMPLANTACION DE VIA - FIJACION DE VIA PLANO TIPO APARATO DE COMUNICACIÓN Tg. 0.13 A LA DERECHA CON ENTREVIA 2.90 PLANO DE CONJUNTO | F26: COMUNICACIÓN TG. 0.13 DE 2.9 A DERECHA CONJUNTO | G26: 1C. ,2C ,13C, 9C
F27: COMUNICACIÓN TG. 0.13 DE 2.9 A DERECHA DISTRIBUCION DE DURMIENTES
F28: COMUNICACIÓN TG. 0.13 DE 2.9 A DERECHA MONTAJES DE BARRA GUIA
F29: COMUNICACIÓN TG. 0.13 DE 2.9 A DERECHA DIRECTRICES
F30: COMUNICACIÓN TG. 0.13 DE 2.9 A DERECHA DIAGRAMA DE AGUJAS
F31: COMUNICACIÓN TG. 0.13 DE 2.9 A DERECHA GEOMETRIA
B32: 21 | C32: 94-VI.17-501000-III-21-55-P | D32: 94-VI.17-501000-III-21-55-P | E32: IMPLANTACION DE VIA - FIJACION DE VIA PLANO TIPO APARATO DE ENLACE TG. 0.13 A LA DERECHA PLANO DE CONJUNTO | F32: APARATO TG. 0.13 A DERECHA CONJUNTO | G32: 1C. ,2C ,13C, 9C
F33: APARATO TG. 0.13 A DERECHA DISTRIBUCION DE DURMIENTES
F34: APARATO TG. 0.13 A DERECHA MONTAJES DE BARRA GUIA
F35: APARATO TG. 0.13 A DERECHA DIRECTRICES
F36: APARATO TG. 0.13 A DERECHA DIAGRAMA DE AGUJAS
F37: APARATO TG. 0.13 A DERECHA GEOMETRIA
B38: 22 | C38: 94-VI.17-501000-III-23-57-P | D38: 94-VI.17-501000-III-23-57-P | E38: IMPLANTACION DE VIA - FIJACION DE VIA. PLANO TIPO CRUCETAS NORMALES PARA LA BARRA GUIA Y/O DE TOMA DE CORRIENTE | F38: CRUCETA DE BARRA GUIA EN VIA ORDINARIA. | G38: 30 A, 30 C
B39: 23 | C39: 94-VI.17-501000-III-29-63-P | D39: 94-VI.17-501000-III-29-63-P | E39: IMPLANTACION DE VIA - FIJACION DE VIA PLANO TIPO APARATO DE ENLACE TG. 0.20 A LA DERECHA PLANO DE CONJUNTO | F39: APARATO TG. 0.20 A DERECHA CONJUNTO | G39: 1C. ,2C ,13C, 9C
F40: APARATO TG. 0.20 A DERECHA DISTRIBUCION DE DURMIENTES
F41: APARATO TG. 0.20 A DERECHA MONTAJES DE BARRA GUIA
...

Sheet ORDEN SUB VIAS TERMINADO ed
A1: C:\wamp\www\buscador\xtras\planosb
A2: =+SUBSTITUTE(A1,"\","/") -> C:/wamp/www/buscador/xtras/planosb
A4: id | B4: archivo | C4: plano | D4: descripcion | E4: detalles | F4: et
A5: 1 | B5: 01 94VI17501000III0418P DURMIENTETIPO SO BIBLOCK | C5: 94-VI.17-501000-III-04-18-P | D5: PLANO TIPO DURMIENTE BIBLOQUE DE CONCRETO REFORZADO TIPO "SO" PARA EL METRO DE RODADA NEUMATICA DE LA CD DE MEXICO ( DIMENSIONES GENERALES PARA DISEÑO ) | E5: DURMIENTE DE CONCRETO BIBLOCK TIPO "SO" CON PERNO DE 22 MM. | F5: E. F. 3
A6: 2 | B6: 02 94VI17501000III0620P DURMIENTETIPO S MONOLITICO | C6: 94-VI.17-501000-III-06-20-P | D6: PLANO TIPO DURMIENTE MONOBLOQUE DE CONCRETO PRESFORZADO TIPO "S" PARA EL METRO CON RODADA NEUMATICA DE LA CD DE MEXICO ( DIMENSIONES GENERALES PARA DISEÑO ) | E6: DURMIENTE DE CONCRETO MONOLITICO TIPO "S" CON PERNO DE 22 MM | F6: E. F. 5
A7: 3 | B7: 03 94VI17501000III0721P DURMIENTETIPO SO MONOLITICO | C7: 94-VI.17-501000-III-07-21-P | D7: PLANO TIPO DURMIENTE MONOBLOQUE DE CONCRETO PRESFORZADO TIPO "SO" PARA EL METRO CON RODADA NEUMATICA DE LA CD DE MEXICO ( DIMENSIONES GENERALES PARA DISEÑO ) | E7: DURMIENTE DE CONCRETO MONOLITICO TIPO "SO" CON PERNO DE 22 MM | F7: E. F. 6
A8: 4 | B8: 79-VI.17-000-III-19-2362-P 2015 | C8: 79-VI.17-000-III-19-2362-P | D8: PLANO TIPO COTAS DE AJUSTE Y MONTAJES DE LA BARRA GUIA COMUNICACIÓN DE VÍA TG. 0.13 DE 4.2 mts. A LA DERECHA. | E8: COMUNICACIÓN TG. 0.13 DE 4.2 A DERECHA AJUSTE DE BARRA GUIA Y MONTAJES
A9: 5 | B9: 79-VI.17-000-III-20-2363-P 2015 | C9: 79-VI.17-000-III-20-2363-P | D9: PLANO TIPO COTAS DE AJUSTE Y MONTAJES DE LA BARRA GUIA COMUNICACIÓN DE VÍA TG. 0.13 DE 4.2 mts. A LA IZQUIERDA. | E9: COMUNICACIÓN TG. 0.13 DE 4.2 A IZQUIERDA AJUSTE DE BARRA GUIA Y MONTAJES
A10: 6 | B10: 79-VI.17-000-III-21-2364-P 2015 | C10: 79-VI.17-000-III-21-2364-P | D10: PLANO TIPO COTAS DE AJUSTE Y MONTAJES DE LA BARRA GUIA COMUNICACIÓN DE VÍA TG. 0.13 DE 4.2 mts. A LA IZQUIERDA CON CRUZAMIENTO A LA DERECHA. | E10: COMUNICACIÓN TG. 0.13 DE 4.2 A IZQUIERDA CON DESVIO A LA DERECHA AJUSTE DE BARRA GUIA Y MONTAJES
A11: 7 | B11: 79-VI.17-000-III-22-2365-P 2015 | C11: 79-VI.17-000-III-22-2365-P | D11: PLANO TIPO COTAS DE AJUSTE Y MONTAJES DE LA BARRA GUIA COMUNICACIÓN DE VÍA TG. 0.13 DE 4.2 mts. A LA DERECHA CON CRUZAMIENTO A LA IZQUIERDA. | E11: COMUNICACIÓN TG. 0.13 DE 4.2 A DERECHA CON DESVIO A LA IZQUIERDA AJUSTE DE BARRA GUIA Y MONTAJES
A12: 8 | B12: 87-VI.17-85232-III-1-1948-P | C12: 87-VI.17-85232-III-1-1948-P | D12: IMPLANTACION DE VIA-FIJACION DE VIA PLANO TIPO VIA SOBRE BALASTO MONTAJE Y DETALLES DE COLOCACION DEL CUPON NEUTRO DE 3 BLOCKS AISLANTES DE 296mm Y LONGITUD DE 24.000 m | E12: ZONA NEUTRA DE 3 BLOCKS AISLANTES CORTE EN "Z". | F12: 30 A, 30 C
A13: 9 | B13: 94-VI.8-51000-III-09-24-P | C13: 94-VI.8-51000-III-09-24-P | D13: SECCIÓN TIPO SUPERFICIAL EN TANGENTE CON DURMIENTE MONOBLOQUE DE CONCRETO (GALIBO INTERIOR DE 8.00 M.) | E13: CORTE DE VIA RECTA CON TRENES EN TUNEL DURMIENTE DE CONCRETO.
A14: 10 | B14: 94-VI.8-51000-III-10-25-P | C14: 94-VI.8-51000-III-10-25-P | D14: SECCIÓN TIPO ELEVADA EN TANGENTE CON DURMIENTE MONOBLOQUE DE CONCRETO (GALIBO INTERIOR DE 8.100) | E14: CORTE DE VIA EN RECTA ELEVADA CON TRENES Y DURMIENTE DE CONCRETO.
A15: 11 | B15: 94-VI.8-51000-III-46-221-P | C15: 94-VI.8-51000-III-46-221-P | D15: SECCIÓN TIPO CAJON SUBTERRANEO CON MURO DE ACOMPAÑAMIENTO EN CURVA DE 200 ≥ R ≥ 150.000 | E15: CORTE DE VIA CURVA CON TRENES EN CAJON.
A16: 12 | B16: 94-VI.8-51000-III-116-434-P | C16: 94-VI.8-51000-III-116-434-P | D16: SECCIÓN TIPO VÍA SOBRE CONCRETO ESTACIÓN EN ELEVADO CON ANDENES LATERALES | E16: CORTE DE VIA EN ESTACION ELEVADA DE LINEA B CON ANDEN LATERAL.
A17: 13 | B17: 94-VI.8-51000-III-118-436-P | C17: 94-VI.8-51000-III-118-436-P | D17: SECCIÓN TIPO ESTACIÓN SUPERFICIAL 2 VÍAS Y 1 ANDEN CENTRAL | E17: CORTE DE VIA EN ESTACION SUPERFICIAL DE LINEA B CON ANDEN CENTRAL
A18: 14 | B18: 94-VI.8-51000-III-47-222-P | C18: 94-VI.8-51000-III-47-222-P | D18: SECCIÓN TIPO ELEVADO CURVA DE 200 ≥ R ≥ 150 | E18: CORTE DE VIA CURVA ELEVADA CON TRENES.
A19: 15 | B19: 94-VI.17-501000-III-02-16-P | C19: 94-VI.17-501000-III-02-16-P | D19: PLANO TIPO DURMIENTE BIBLOQUE DE CONCRETO REFORZADO TIPO "O" PARA EL METRO CON RODADA NEUMATICA DE LA CIUDAD DE MEXICO (DIMENSIONES GENERALES PARA DISEÑO). | E19: DURMIENTE DE CONCRETO BIBLOCK TIPO "O" CON PERNO DE 22 MM. | F19: E. F. 1
A20: 16 | B20: 94-VI.17-501000-III-03-17-P | C20: 94-VI.17-501000-III-03-17-P | D20: PLANO TIPO DURMIENTE BIBLOQUE DE CONCRETO REFORZADO TIPO "S" PARA EL METRO CON RODADA NEUMATICA DE LA CD DE MEXICO ( DIMENSIONES GENERALES PARA DISEÑO ) | E20: DURMIENTE DE CONCRETO BIBLOCK TIPO "S" CON PERNO DE 22 MM. | F20: E. F. 2
A21: 17 | B21: 94-VI.17-501000-III-05-19-P | C21: 94-VI.17-501000-III-05-19-P | D21: PLANO TIPO DURMIENTE MONOBLOQUE DE CONCRETO PRESFORZADO TIPO “O” PARA EL METRO CON RODADA NEUMÁTICA DE LA CD, DE MÉXICO(DIMENSIONES GENERALES PARA DISEÑO) | E21: DURMIENTE DE CONCRETO MONOLITICO TIPO "O" CON PERNO DE 22 MM | F21: E. F. 4
A22: 18 | B22: 94-VI.17-501000-III-17-51-P | C22: 94-VI.17-501000-III-17-51-P | D22: PLANO TIPO IMPLANTACION DE VIA - FIJACION DE VIA JUNTAS AISLANTES PARA RIEL DE 80 ASCE Y PISTA, SOBRE DURMIENTES DE CONCRETO Y DURMIENTES DE MADERA CONJUNTO Y DETALLES | E22: JUNTA AISLANTE DE RIEL 80 LB/YD. | F22: 30 A, 30 C
E23: JUNTA AISLANTE DE PISTA METALICA.
A24: 19 | B24: 94-VI.17-501000-III-19-53-P | C24: 94-VI.17-501000-III-19-53-P | D24: IMPLANTACION DE VIA - FIJACION DE VIA PLANO TIPO VIA EN TUNEL - DISTRIBUCION DE DURMIENTES EN TANGENTE Y CURVAS DE 150≤R<350 Y R≥350 | E24: VIA TIPO CON DURMIENTES DE CONCRETO EN RECTA. | F24: 30 C
E25: VIA TIPO CON DURMIENTES DE CONCRETO EN CURVA.
E26: DISTRIBUCION DE DURMIENTES DE CONCRETO EN RECTA.
E27: DISTRIBUCION DE DURMIENTES DE CONCRETO EN CURVA.
A28: 20 | B28: 94-VI.17-501000-III-20-54-P | C28: 94-VI.17-501000-III-20-54-P | D28: IMPLANTACION DE VIA - FIJACION DE VIA PLANO TIPO APARATO DE COMUNICACIÓN Tg. 0.13 A LA DERECHA CON ENTREVIA 2.90 PLANO DE CONJUNTO | E28: COMUNICACIÓN TG. 0.13 DE 2.9 A DERECHA CONJUNTO | F28: 1C. ,2C ,13C, 9C
E29: COMUNICACIÓN TG. 0.13 DE 2.9 A DERECHA DISTRIBUCION DE DURMIENTES
E30: COMUNICACIÓN TG. 0.13 DE 2.9 A DERECHA MONTAJES DE BARRA GUIA
E31: COMUNICACIÓN TG. 0.13 DE 2.9 A DERECHA DIRECTRICES
E32: COMUNICACIÓN TG. 0.13 DE 2.9 A DERECHA DIAGRAMA DE AGUJAS
E33: COMUNICACIÓN TG. 0.13 DE 2.9 A DERECHA GEOMETRIA
A34: 21 | B34: 94-VI.17-501000-III-21-55-P | C34: 94-VI.17-501000-III-21-55-P | D34: IMPLANTACION DE VIA - FIJACION DE VIA PLANO TIPO APARATO DE ENLACE TG. 0.13 A LA DERECHA PLANO DE CONJUNTO | E34: APARATO TG. 0.13 A DERECHA CONJUNTO | F34: 1C. ,2C ,13C, 9C
E35: APARATO TG. 0.13 A DERECHA DISTRIBUCION DE DURMIENTES
E36: APARATO TG. 0.13 A DERECHA MONTAJES DE BARRA GUIA
E37: APARATO TG. 0.13 A DERECHA DIRECTRICES
E38: APARATO TG. 0.13 A DERECHA DIAGRAMA DE AGUJAS
E39: APARATO TG. 0.13 A DERECHA GEOMETRIA
A40: 22 | B40: 94-VI.17-501000-III-23-57-P | C40: 94-VI.17-501000-III-23-57-P | D40: IMPLANTACION DE VIA - FIJACION DE VIA. PLANO TIPO CRUCETAS NORMALES PARA LA BARRA GUIA Y/O DE TOMA DE CORRIENTE | E40: CRUCETA DE BARRA GUIA EN VIA ORDINARIA. | F40: 30 A, 30 C
A41: 23 | B41: 94-VI.17-501000-III-29-63-P | C41: 94-VI.17-501000-III-29-63-P | D41: IMPLANTACION DE VIA - FIJACION DE VIA PLANO TIPO APARATO DE ENLACE TG. 0.20 A LA DERECHA PLANO DE CONJUNTO | E41: APARATO TG. 0.20 A DERECHA CONJUNTO | F41: 1C. ,2C ,13C, 9C
...

Sheet SQL neumatico
A4: id | B4: archivo | D4: plano | E4: descripcion
A5: 1 | B5: 01 94VI17501000III0418P DURMIENTETIPO SO BIBLOCK | D5: 94-VI.17-501000-III-04-18-P | E5: PLANO TIPO DURMIENTE BIBLOQUE DE CONCRETO REFORZADO TIPO "SO" PARA EL METRO DE RODADA NEUMATICA DE LA CD DE MEXICO ( DIMENSIONES GENERALES PARA DISEÑO ) | F5: =+CONCATENATE("INSERT INTO neumatico (id, plano, descripcion, archivo) VALUES(",A5,", '",D5,"', '",E5,"','",B5,".pdf');") -> INSERT INTO neumatico (id, plano, descripcion, archivo) VALUES(1, '94-VI.17-501000-III-04-18-P', 'PLANO TIPO DURMIENTE BIBLOQUE DE CONCRETO REFORZADO TIPO "SO" PARA EL METRO DE RODADA NEUMATICA DE LA CD DE MEXICO ( DIMENSIONES GENERALES PARA DISEÑO )','01 94VI17501000III0418P DURMIENTETIPO SO BIBLOCK.pdf');
A6: 2 | B6: 02 94VI17501000III0620P DURMIENTETIPO S MONOLITICO | D6: 94-VI.17-501000-III-06-20-P | E6: PLANO TIPO DURMIENTE MONOBLOQUE DE CONCRETO PRESFORZADO TIPO "S" PARA EL METRO CON RODADA NEUMATICA DE LA CD DE MEXICO ( DIMENSIONES GENERALES PARA DISEÑO ) | F6: =+CONCATENATE("INSERT INTO neumatico (id, plano, descripcion, archivo) VALUES(",A6,", '",D6,"', '",E6,"','",B6,".pdf');") -> INSERT INTO neumatico (id, plano, descripcion, archivo) VALUES(2, '94-VI.17-501000-III-06-20-P', 'PLANO TIPO DURMIENTE MONOBLOQUE DE CONCRETO PRESFORZADO TIPO "S" PARA EL METRO CON RODADA NEUMATICA DE LA CD DE MEXICO ( DIMENSIONES GENERALES PARA DISEÑO )','02 94VI17501000III0620P DURMIENTETIPO S MONOLITICO.pdf');
A7: 3 | B7: 03 94VI17501000III0721P DURMIENTETIPO SO MONOLITICO | D7: 94-VI.17-501000-III-07-21-P | E7: PLANO TIPO DURMIENTE MONOBLOQUE DE CONCRETO PRESFORZADO TIPO "SO" PARA EL METRO CON RODADA NEUMATICA DE LA CD DE MEXICO ( DIMENSIONES GENERALES PARA DISEÑO ) | F7: =+CONCATENATE("INSERT INTO neumatico (id, plano, descripcion, archivo) VALUES(",A7,", '",D7,"', '",E7,"','",B7,".pdf');") -> INSERT INTO neumatico (id, plano, descripcion, archivo) VALUES(3, '94-VI.17-501000-III-07-21-P', 'PLANO TIPO DURMIENTE MONOBLOQUE DE CONCRETO PRESFORZADO TIPO "SO" PARA EL METRO CON RODADA NEUMATICA DE LA CD DE MEXICO ( DIMENSIONES GENERALES PARA DISEÑO )','03 94VI17501000III0721P DURMIENTETIPO SO MONOLITICO.pdf');
A8: 4 | B8: 79-VI.17-000-III-19-2362-P 2015 | D8: 79-VI.17-000-III-19-2362-P | E8: PLANO TIPO COTAS DE AJUSTE Y MONTAJES DE LA BARRA GUIA COMUNICACIÓN DE VÍA TG. 0.13 DE 4.2 mts. A LA DERECHA. | F8: =+CONCATENATE("INSERT INTO neumatico (id, plano, descripcion, archivo) VALUES(",A8,", '",D8,"', '",E8,"','",B8,".pdf');") -> INSERT INTO neumatico (id, plano, descripcion, archivo) VALUES(4, '79-VI.17-000-III-19-2362-P ', 'PLANO TIPO COTAS DE AJUSTE Y MONTAJES DE LA BARRA GUIA COMUNICACIÓN DE VÍA TG. 0.13 DE 4.2 mts. A LA DERECHA.','79-VI.17-000-III-19-2362-P 2015.pdf');
A9: 5 | B9: 79-VI.17-000-III-20-2363-P 2015 | D9: 79-VI.17-000-III-20-2363-P | E9: PLANO TIPO COTAS DE AJUSTE Y MONTAJES DE LA BARRA GUIA COMUNICACIÓN DE VÍA TG. 0.13 DE 4.2 mts. A LA IZQUIERDA. | F9: =+CONCATENATE("INSERT INTO neumatico (id, plano, descripcion, archivo) VALUES(",A9,", '",D9,"', '",E9,"','",B9,".pdf');") -> INSERT INTO neumatico (id, plano, descripcion, archivo) VALUES(5, '79-VI.17-000-III-20-2363-P', 'PLANO TIPO COTAS DE AJUSTE Y MONTAJES DE LA BARRA GUIA COMUNICACIÓN DE VÍA TG. 0.13 DE 4.2 mts. A LA IZQUIERDA.','79-VI.17-000-III-20-2363-P 2015.pdf');
A10: 6 | B10: 79-VI.17-000-III-21-2364-P 2015 | D10: 79-VI.17-000-III-21-2364-P | E10: PLANO TIPO COTAS DE AJUSTE Y MONTAJES DE LA BARRA GUIA COMUNICACIÓN DE VÍA TG. 0.13 DE 4.2 mts. A LA IZQUIERDA CON CRUZAMIENTO A LA DERECHA. | F10: =+CONCATENATE("INSERT INTO neumatico (id, plano, descripcion, archivo) VALUES(",A10,", '",D10,"', '",E10,"','",B10,".pdf');") -> INSERT INTO neumatico (id, plano, descripcion, archivo) VALUES(6, '79-VI.17-000-III-21-2364-P', 'PLANO TIPO COTAS DE AJUSTE Y MONTAJES DE LA BARRA GUIA COMUNICACIÓN DE VÍA TG. 0.13 DE 4.2 mts. A LA IZQUIERDA CON CRUZAMIENTO A LA DERECHA.','79-VI.17-000-III-21-2364-P 2015.pdf');
A11: 7 | B11: 79-VI.17-000-III-22-2365-P 2015 | D11: 79-VI.17-000-III-22-2365-P | E11: PLANO TIPO COTAS DE AJUSTE Y MONTAJES DE LA BARRA GUIA COMUNICACIÓN DE VÍA TG. 0.13 DE 4.2 mts. A LA DERECHA CON CRUZAMIENTO A LA IZQUIERDA. | F11: =+CONCATENATE("INSERT INTO neumatico (id, plano, descripcion, archivo) VALUES(",A11,", '",D11,"', '",E11,"','",B11,".pdf');") -> INSERT INTO neumatico (id, plano, descripcion, archivo) VALUES(7, '79-VI.17-000-III-22-2365-P', 'PLANO TIPO COTAS DE AJUSTE Y MONTAJES DE LA BARRA GUIA COMUNICACIÓN DE VÍA TG. 0.13 DE 4.2 mts. A LA DERECHA CON CRUZAMIENTO A LA IZQUIERDA.','79-VI.17-000-III-22-2365-P 2015.pdf');
A12: 8 | B12: 87-VI.17-85232-III-1-1948-P | D12: 87-VI.17-85232-III-1-1948-P | E12: IMPLANTACION DE VIA-FIJACION DE VIA PLANO TIPO VIA SOBRE BALASTO MONTAJE Y DETALLES DE COLOCACION DEL CUPON NEUTRO DE 3 BLOCKS AISLANTES DE 296mm Y LONGITUD DE 24.000 m | F12: =+CONCATENATE("INSERT INTO neumatico (id, plano, descripcion, archivo) VALUES(",A12,", '",D12,"', '",E12,"','",B12,".pdf');") -> INSERT INTO neumatico (id, plano, descripcion, archivo) VALUES(8, '87-VI.17-85232-III-1-1948-P', 'IMPLANTACION DE VIA-FIJACION DE VIA PLANO TIPO VIA SOBRE BALASTO MONTAJE Y DETALLES DE COLOCACION DEL CUPON NEUTRO DE 3 BLOCKS AISLANTES DE 296mm Y LONGITUD DE 24.000 m','87-VI.17-85232-III-1-1948-P.pdf');
A13: 9 | B13: 94-VI.8-501000-III-09-24-P | D13: 94-VI.8-51000-III-09-24-P | E13: SECCIÓN TIPO SUPERFICIAL EN TANGENTE CON DURMIENTE MONOBLOQUE DE CONCRETO (GALIBO INTERIOR DE 8.00 M.) | F13: =+CONCATENATE("INSERT INTO neumatico (id, plano, descripcion, archivo) VALUES(",A13,", '",D13,"', '",E13,"','",B13,".pdf');") -> INSERT INTO neumatico (id, plano, descripcion, archivo) VALUES(9, '94-VI.8-51000-III-09-24-P', 'SECCIÓN TIPO SUPERFICIAL EN TANGENTE CON DURMIENTE MONOBLOQUE DE CONCRETO (GALIBO INTERIOR DE 8.00 M.)','94-VI.8-501000-III-09-24-P.pdf');
A14: 10 | B14: 94-VI.8-501000-III-10-25-P | D14: 94-VI.8-51000-III-10-25-P | E14: SECCIÓN TIPO ELEVADA EN TANGENTE CON DURMIENTE MONOBLOQUE DE CONCRETO (GALIBO INTERIOR DE 8.100) | F14: =+CONCATENATE("INSERT INTO neumatico (id, plano, descripcion, archivo) VALUES(",A14,", '",D14,"', '",E14,"','",B14,".pdf');") -> INSERT INTO neumatico (id, plano, descripcion, archivo) VALUES(10, '94-VI.8-51000-III-10-25-P', 'SECCIÓN TIPO ELEVADA EN TANGENTE CON DURMIENTE MONOBLOQUE DE CONCRETO (GALIBO INTERIOR DE 8.100)','94-VI.8-501000-III-10-25-P.pdf');
A15: 11 | B15: 94-VI.8-501000-III-46-221-P | D15: 94-VI.8-51000-III-46-221-P | E15: SECCIÓN TIPO CAJON SUBTERRANEO CON MURO DE ACOMPAÑAMIENTO EN CURVA DE 200 ≥ R ≥ 150.000 | F15: =+CONCATENATE("INSERT INTO neumatico (id, plano, descripcion, archivo) VALUES(",A15,", '",D15,"', '",E15,"','",B15,".pdf');") -> INSERT INTO neumatico (id, plano, descripcion, archivo) VALUES(11, '94-VI.8-51000-III-46-221-P', 'SECCIÓN TIPO CAJON SUBTERRANEO CON MURO DE ACOMPAÑAMIENTO EN CURVA DE 200 ≥ R ≥ 150.000','94-VI.8-501000-III-46-221-P.pdf');
A16: 12 | B16: 94-VI.8-501000-III-116-434-P | D16: 94-VI.8-51000-III-116-434-P | E16: SECCIÓN TIPO VÍA SOBRE CONCRETO ESTACIÓN EN ELEVADO CON ANDENES LATERALES | F16: =+CONCATENATE("INSERT INTO neumatico (id, plano, descripcion, archivo) VALUES(",A16,", '",D16,"', '",E16,"','",B16,".pdf');") -> INSERT INTO neumatico (id, plano, descripcion, archivo) VALUES(12, '94-VI.8-51000-III-116-434-P', 'SECCIÓN TIPO VÍA SOBRE CONCRETO ESTACIÓN EN ELEVADO CON ANDENES LATERALES','94-VI.8-501000-III-116-434-P.pdf');
... A53: 49 | B53: 94-VI-17-501000-III-80-381-P APARATO DE VIA TANG A LA DER | D53: 94-VI.17-501000-III-80-381-P | E53: IMPLANTACION DE VIA - FIJACION DE VIA PLANO TIPO. APARATO DE VÍA TG. 0.13 A LA DERECHA CORAZON DE INTERSECCION PIEZA G, CORTES | F53: =+CONCATENATE("INSERT INTO neumatico (id, plano, descripcion, archivo) VALUES(",A53,", '",D53,"', '",E53,"','",B53,".pdf');") -> INSERT INTO neumatico (id, plano, descripcion, archivo) VALUES(49, '94-VI.17-501000-III-80-381-P', 'IMPLANTACION DE VIA - FIJACION DE VIA PLANO TIPO. APARATO DE VÍA TG. 0.13 A LA DERECHA CORAZON DE INTERSECCION PIEZA G, CORTES','94-VI-17-501000-III-80-381-P APARATO DE VIA TANG A LA DER.pdf');
A54: 50 | B54: 94-VI.17-501000-III-79-380-P APARATO DE VIA TANG A LA DER | C54: 94-VI-18-000001-III-79-380-P APARATO DE VIA TANG A LA DER | D54: 94-VI.17-501000-III-79-380-P | E54: IMPLANTACION DE VIA - FIJACION DE VIA PLANO TIPO. APARATO DE VÍA TG. 0.13 A LA DERECHA CORAZON DE INTERSECCION PIEZA G, PLANTA | F54: =+CONCATENATE("INSERT INTO neumatico (id, plano, descripcion, archivo) VALUES(",A54,", '",D54,"', '",E54,"','",C54,".pdf');") -> INSERT INTO neumatico (id, plano, descripcion, archivo) VALUES(50, '94-VI.17-501000-III-79-380-P', 'IMPLANTACION DE VIA - FIJACION DE VIA PLANO TIPO. APARATO DE VÍA TG. 0.13 A LA DERECHA CORAZON DE INTERSECCION PIEZA G, PLANTA','94-VI-18-000001-III-79-380-P APARATO DE VIA TANG A LA DER.pdf');
A55: 51 | B55: 95-VI.17-501000-III-132-472-P | D55: 95-VI.17-501000-III-132-472-P | E55: IMPLANTACION DE VIA - FIJACION DE VIA PLANO TIPO VIA EN TALLERES DIMENSIONES DE LOS DURMIENTES EN VIAS CON RIEL DE 100 RE | F55: =+CONCATENATE("INSERT INTO neumatico (id, plano, descripcion, archivo) VALUES(",A55,", '",D55,"', '",E55,"','",B55,".pdf');") -> INSERT INTO neumatico (id, plano, descripcion, archivo) VALUES(51, '95-VI.17-501000-III-132-472-P', 'IMPLANTACION DE VIA - FIJACION DE VIA PLANO TIPO VIA EN TALLERES DIMENSIONES DE LOS DURMIENTES EN VIAS CON RIEL DE 100 RE','95-VI.17-501000-III-132-472-P.pdf');
A56: 52 | B56: 95-VI.17-501000-III-141-484-P | D56: 95-VI.17-501000-III-141-484-P | E56: IMPLANTACION DE VIA - FIJACION DE VIA PLANO TIPO APARATO DE ENLACE Tg. 0.20 AGUJA CURVA DE 3.500 m. | F56: =+CONCATENATE("INSERT INTO neumatico (id, plano, descripcion, archivo) VALUES(",A56,", '",D56,"', '",E56,"','",B56,".pdf');") -> INSERT INTO neumatico (id, plano, descripcion, archivo) VALUES(52, '95-VI.17-501000-III-141-484-P', 'IMPLANTACION DE VIA - FIJACION DE VIA PLANO TIPO APARATO DE ENLACE Tg. 0.20 AGUJA CURVA DE 3.500 m.','95-VI.17-501000-III-141-484-P.pdf');
A57: 53 | B57: 95-VI.17-501000-III-155-508-P | D57: 95-VI.17-501000-III-155-508-P | E57: IMPLANTACION DE VIA - FIJACION DE VIA PLANO TIPO VIA SOBRE CONCRETO EN EL TRAMO ELEVADO JUNTAS MECANICAS PARA RIEL 80 ASCE Y PISTA METALICA (CONJUNTO Y DETALLES). | F57: =+CONCATENATE("INSERT INTO neumatico (id, plano, descripcion, archivo) VALUES(",A57,", '",D57,"', '",E57,"','",B57,".pdf');") -> INSERT INTO neumatico (id, plano, descripcion, archivo) VALUES(53, '95-VI.17-501000-III-155-508-P', 'IMPLANTACION DE VIA - FIJACION DE VIA PLANO TIPO VIA SOBRE CONCRETO EN EL TRAMO ELEVADO JUNTAS MECANICAS PARA RIEL 80 ASCE Y PISTA METALICA (CONJUNTO Y DETALLES).','95-VI.17-501000-III-155-508-P.pdf');
A58: 54 | B58: 95-VI.17-5010000-III-137-480-P | D58: 95-VI.17-501000-III-137-480-P | E58: IMPLANTACION DE VIA-FIJACION DE VIA PLANO TIPO APARATO DE VIA TG 0.13 A LA DERECHA AGUJA CURVA DE 9.300 m. | F58: =+CONCATENATE("INSERT INTO neumatico (id, plano, descripcion, archivo) VALUES(",A58,", '",D58,"', '",E58,"','",B58,".pdf');") -> INSERT INTO neumatico (id, plano, descripcion, archivo) VALUES(54, '95-VI.17-501000-III-137-480-P', 'IMPLANTACION DE VIA-FIJACION DE VIA PLANO TIPO APARATO DE VIA TG 0.13 A LA DERECHA AGUJA CURVA DE 9.300 m.','95-VI.17-5010000-III-137-480-P.pdf');
A59: 55 | B59: 95-VI.17-5010000-III-138-481-P | D59: 95-VI.17-501000-III-138-481-P | E59: IMPLANTACION DE VIA-FIJACION DE VIA PLANO TIPO APARATO DE VIA TG 0.13 A LA DERECHA AGUJA RECTA DE 9.300 m. | F59: =+CONCATENATE("INSERT INTO neumatico (id, plano, descripcion, archivo) VALUES(",A59,", '",D59,"', '",E59,"','",B59,".pdf');") -> INSERT INTO neumatico (id, plano, descripcion, archivo) VALUES(55, '95-VI.17-501000-III-138-481-P', 'IMPLANTACION DE VIA-FIJACION DE VIA PLANO TIPO APARATO DE VIA TG 0.13 A LA DERECHA AGUJA RECTA DE 9.300 m.','95-VI.17-5010000-III-138-481-P.pdf');
A60: 56 | B60: 95-VI.17-5010000-III-139-482-P | D60: 95-VI.17-501000-III-139-482-P | E60: IMPLANTACION DE VIA - FIJACION DE VIA PLANO TIPO APARATOS DE VIA Tg. 0.13 A LA DERECHA MAQUINADO DE LAS AGUJAS | F60: =+CONCATENATE("INSERT INTO neumatico (id, plano, descripcion, archivo) VALUES(",A60,", '",D60,"', '",E60,"','",B60,".pdf');") -> INSERT INTO neumatico (id, plano, descripcion, archivo) VALUES(56, '95-VI.17-501000-III-139-482-P', 'IMPLANTACION DE VIA - FIJACION DE VIA PLANO TIPO APARATOS DE VIA Tg. 0.13 A LA DERECHA MAQUINADO DE LAS AGUJAS','95-VI.17-5010000-III-139-482-P.pdf');
A61: 57 | B61: 95-VI.17-5010000-III-140-483-P | D61: 95-VI.17-501000-III-140-483-P | E61: IMPLANTACION DE VIA - FIJACION DE VIA PLANO TIPO APARATO DE ENLACE Tg. 0.20 AGUJA RECTA DE 3.500 m. | F61: =+CONCATENATE("INSERT INTO neumatico (id, plano, descripcion, archivo) VALUES(",A61,", '",D61,"', '",E61,"','",B61,".pdf');") -> INSERT INTO neumatico (id, plano, descripcion, archivo) VALUES(57, '95-VI.17-501000-III-140-483-P', 'IMPLANTACION DE VIA - FIJACION DE VIA PLANO TIPO APARATO DE ENLACE Tg. 0.20 AGUJA RECTA DE 3.500 m.','95-VI.17-5010000-III-140-483-P.pdf');
A62: 58 | B62: 96-VI.17-501000-III-183-537-P-DERECHA | D62: 96-VI.17-501000-III-183-537-P | E62: PLANO TIPO COTAS DE AJUSTE Y MONTAJES DE LA BARRA GUIA COMUNICACIÓN DE VÍA TG. 0.13 DE 2.9 mts. A LA DERECHA. | F62: =+CONCATENATE("INSERT INTO neumatico (id, plano, descripcion, archivo) VALUES(",A62,", '",D62,"', '",E62,"','",B62,".pdf');") -> INSERT INTO neumatico (id, plano, descripcion, archivo) VALUES(58, '96-VI.17-501000-III-183-537-P', 'PLANO TIPO COTAS DE AJUSTE Y MONTAJES DE LA BARRA GUIA COMUNICACIÓN DE VÍA TG. 0.13 DE 2.9 mts. A LA DERECHA.','96-VI.17-501000-III-183-537-P-DERECHA.pdf');
A63: 59 | B63: 96-VI.17-501000-III-183-537-P-IZQUIERDA | D63: 96-VI.17-501000-III-183-537-P | E63: PLANO TIPO COTAS DE AJUSTE Y MONTAJES DE LA BARRA GUIA COMUNICACIÓN DE VÍA TG. 0.13 DE 2.9 mts. A LA IZQUIERDA. | F63: =+CONCATENATE("INSERT INTO neumatico (id, plano, descripcion, archivo) VALUES(",A63,", '",D63,"', '",E63,"','",B63,".pdf');") -> INSERT INTO neumatico (id, plano, descripcion, archivo) VALUES(59, '96-VI.17-501000-III-183-537-P', 'PLANO TIPO COTAS DE AJUSTE Y MONTAJES DE LA BARRA GUIA COMUNICACIÓN DE VÍA TG. 0.13 DE 2.9 mts. A LA IZQUIERDA.','96-VI.17-501000-III-183-537-P-IZQUIERDA.pdf');
A64: 60 | B64: 96-VI.17-510556-III-02-02-P | D64: 96-VI.17-510556-III-02-02-P | E64: IMPLANTACIÓN DE VÍA.FIJACIÓN DE VÍA PLANO TIPO DISTRIBUCIÓN DE DURMIENTES Y MONTAJE DE APARATOS (JUNTAS) DE DILATACIÓN DE RIEL 80 ASCE, PISTA Y BARRA GUIA, EN TAN. Y CURVAS DE R≥350.000m CONJUNTO DE 90.000m | F64: =+CONCATENATE("INSERT INTO neumatico (id, plano, descripcion, archivo) VALUES(",A64,", '",D64,"', '",E64,"','",B64,".pdf');") -> INSERT INTO neumatico (id, plano, descripcion, archivo) VALUES(60, '96-VI.17-510556-III-02-02-P', 'IMPLANTACIÓN DE VÍA.FIJACIÓN DE VÍA PLANO TIPO DISTRIBUCIÓN DE DURMIENTES Y MONTAJE DE APARATOS (JUNTAS) DE DILATACIÓN DE RIEL 80 ASCE, PISTA Y BARRA GUIA, EN TAN. Y CURVAS DE R≥350.000m CONJUNTO DE 90.000m','96-VI.17-510556-III-02-02-P.pdf');
A65: 61 | B65: 121-MEX-VO-00-135 A | D65: 121-MEX-VO-00-135 A | E65: COMMUNICATION TG. 0.13 A GAUCHE ENTREVOIE 2.90 m. ENSEMBLE | F65: =+CONCATENATE("INSERT INTO neumatico (id, plano, descripcion, archivo) VALUES(",A65,", '",D65,"', '",E65,"','",B65,".pdf');") -> INSERT INTO neumatico (id, plano, descripcion, archivo) VALUES(61, '121-MEX-VO-00-135 A', 'COMMUNICATION TG. 0.13 A GAUCHE ENTREVOIE 2.90 m. ENSEMBLE','121-MEX-VO-00-135 A.pdf');
A66: 62 | B66: APTO TG 0.13 A DERECHA S-N | D66: AJUSTES APTO. 0.13 A DER (S / N) | E66: PLANO TIPO COTAS DE AJUSTE Y MONTAJES DE LA BARRA GUIA APARATO TG. 0.13 A DERECHA. | F66: =+CONCATENATE("INSERT INTO neumatico (id, plano, descripcion, archivo) VALUES(",A66,", '",D66,"', '",E66,"','",B66,".pdf');") -> INSERT INTO neumatico (id, plano, descripcion, archivo) VALUES(62, 'AJUSTES APTO. 0.13 A DER (S / N)', 'PLANO TIPO COTAS DE AJUSTE Y MONTAJES DE LA BARRA GUIA APARATO TG. 0.13 A DERECHA.','APTO TG 0.13 A DERECHA S-N.pdf');
... A95: 91 | B95: TV-752 | D95: TV-752 | E95: COMMUNICATION TG. 0.13 A DROITE ENTREVOIE 5.00 ENSEMBLE | F95: =+CONCATENATE("INSERT INTO neumatico (id, plano, descripcion, archivo) VALUES(",A95,", '",D95,"', '",E95,"','",B95,".pdf');") -> INSERT INTO neumatico (id, plano, descripcion, archivo) VALUES(91, 'TV-752', 'COMMUNICATION TG. 0.13 A DROITE ENTREVOIE 5.00 ENSEMBLE','TV-752.pdf');

Sheet SQL ferreo
A3: Número | B3: Archivo electrónico | D3: Nombre
A4: 5.1 PLANOS LINEA 12
A5: id | B5: plano | C5: archivo
A6: 1 | B6: PMDF-09-VI.8-612000-III-0001-02478-P-00 | C6: PMDF-09-VI.8-612000-III-0003-02480-P-00 | D6: Junta aislante pegada para vía con rieles de 115 R.E. Corte del armado y detalle de material. | E6: =+UPPER(D6) -> JUNTA AISLANTE PEGADA PARA VÍA CON RIELES DE 115 R.E. CORTE DEL ARMADO Y DETALLE DE MATERIAL. | F6: =+CONCATENATE("INSERT INTO ferreo (id, plano, descripcion, archivo) VALUES(",A6,", '",B6,"', '",E6,"','",C6,".pdf');") -> INSERT INTO ferreo (id, plano, descripcion, archivo) VALUES(1, 'PMDF-09-VI.8-612000-III-0001-02478-P-00', 'JUNTA AISLANTE PEGADA PARA VÍA CON RIELES DE 115 R.E. CORTE DEL ARMADO Y DETALLE DE MATERIAL.','PMDF-09-VI.8-612000-III-0003-02480-P-00.pdf');
A7: =A6+1 -> 2 | B7: PMDF-09-VI.8-612000-III-0003-02480-P-00 | C7: PMDF-09-VI.8-612000-III-0003-02480-P-00 | D7: Aparato de dilatación para vía con rieles 115 R.E. detalles de las agujas de izq. | E7: =+UPPER(D7) -> APARATO DE DILATACIÓN PARA VÍA CON RIELES 115 R.E. DETALLES DE LAS AGUJAS DE IZQ. | F7: =+CONCATENATE("INSERT INTO ferreo (id, plano, descripcion, archivo) VALUES(",A7,", '",B7,"', '",E7,"','",C7,".pdf');") -> INSERT INTO ferreo (id, plano, descripcion, archivo) VALUES(2, 'PMDF-09-VI.8-612000-III-0003-02480-P-00', 'APARATO DE DILATACIÓN PARA VÍA CON RIELES 115 R.E. DETALLES DE LAS AGUJAS DE IZQ.','PMDF-09-VI.8-612000-III-0003-02480-P-00.pdf');
A8: =A7+1 -> 3 | B8: PMDF-09-VI.8-612000-III-004-02481-P-00 | C8: PMDF-09-VI.8-612000-III-0004-02481-P-00 | D8: Aparato de dilatación para vía con rieles 115 R.E. detalles de las agujas de derecha. | E8: =+UPPER(D8) -> APARATO DE DILATACIÓN PARA VÍA CON RIELES 115 R.E. DETALLES DE LAS AGUJAS DE DERECHA. | F8: =+CONCATENATE("INSERT INTO ferreo (id, plano, descripcion, archivo) VALUES(",A8,", '",B8,"', '",E8,"','",C8,".pdf');") -> INSERT INTO ferreo (id, plano, descripcion, archivo) VALUES(3, 'PMDF-09-VI.8-612000-III-004-02481-P-00', 'APARATO DE DILATACIÓN PARA VÍA CON RIELES 115 R.E. DETALLES DE LAS AGUJAS DE DERECHA.','PMDF-09-VI.8-612000-III-0004-02481-P-00.pdf');
A9: =A8+1 -> 4 | B9: PMDF-09-VI.8-612000-III-006-02815-P-00 | C9: PMDF-09-VI.8-612000-III-0006-02815-P-00 | D9: Aparato de dilatación para vía con rieles 115 R.E. pequeño material de fijación. | E9: =+UPPER(D9) -> APARATO DE DILATACIÓN PARA VÍA CON RIELES 115 R.E. PEQUEÑO MATERIAL DE FIJACIÓN. | F9: =+CONCATENATE("INSERT INTO ferreo (id, plano, descripcion, archivo) VALUES(",A9,", '",B9,"', '",E9,"','",C9,".pdf');") -> INSERT INTO ferreo (id, plano, descripcion, archivo) VALUES(4, 'PMDF-09-VI.8-612000-III-006-02815-P-00', 'APARATO DE DILATACIÓN PARA VÍA CON RIELES 115 R.E. PEQUEÑO MATERIAL DE FIJACIÓN.','PMDF-09-VI.8-612000-III-0006-02815-P-00.pdf');
A10: =A9+1 -> 5 | B10: PMDF-09-VI.8-612000-III-006-02816-P-00 | C10: PMDF-09-VI.8-612000-III-0007-02816-P-00 | D10: Vía con riel 115 R.E. instalación de vía en curva vía emplanchuelada. | E10: =+UPPER(D10) -> VÍA CON RIEL 115 R.E. INSTALACIÓN DE VÍA EN CURVA VÍA EMPLANCHUELADA. | F10: =+CONCATENATE("INSERT INTO ferreo (id, plano, descripcion, archivo) VALUES(",A10,", '",B10,"', '",E10,"','",C10,".pdf');") -> INSERT INTO ferreo (id, plano, descripcion, archivo) VALUES(5, 'PMDF-09-VI.8-612000-III-006-02816-P-00', 'VÍA CON RIEL 115 R.E. INSTALACIÓN DE VÍA EN CURVA VÍA EMPLANCHUELADA.','PMDF-09-VI.8-612000-III-0007-02816-P-00.pdf');
A11: =A10+1 -> 6 | B11: PMDF-09-VI.8-612000-III-006-02817-P-00 | C11: PMDF-09-VI.8-612000-III-0008-02817-P-00 | D11: Colocación de la vía en riel 115 R.E. vía elástica con sillas y fijaciones indirectas conjunto. | E11: =+UPPER(D11) -> COLOCACIÓN DE LA VÍA EN RIEL 115 R.E. VÍA ELÁSTICA CON SILLAS Y FIJACIONES INDIRECTAS CONJUNTO. | F11: =+CONCATENATE("INSERT INTO ferreo (id, plano, descripcion, archivo) VALUES(",A11,", '",B11,"', '",E11,"','",C11,".pdf');") -> INSERT INTO ferreo (id, plano, descripcion, archivo) VALUES(6, 'PMDF-09-VI.8-612000-III-006-02817-P-00', 'COLOCACIÓN DE LA VÍA EN RIEL 115 R.E. VÍA ELÁSTICA CON SILLAS Y FIJACIONES INDIRECTAS CONJUNTO.','PMDF-09-VI.8-612000-III-0008-02817-P-00.pdf');
A12: =A11+1 -> 7 | B12: PMDF-09-VI.8-612000-III-006-02818-P-00 | C12: PMDF-09-VI.8-612000-III-0009-02818-P-00 | D12: “Silla” para la fijación elástica indirecta colocación de la vía con riel 115 R.E. | E12: =+UPPER(D12) -> “SILLA” PARA LA FIJACIÓN ELÁSTICA INDIRECTA COLOCACIÓN DE LA VÍA CON RIEL 115 R.E. | F12: =+CONCATENATE("INSERT INTO ferreo (id, plano, descripcion, archivo) VALUES(",A12,", '",B12,"', '",E12,"','",C12,".pdf');") -> INSERT INTO ferreo (id, plano, descripcion, archivo) VALUES(7, 'PMDF-09-VI.8-612000-III-006-02818-P-00', '“SILLA” PARA LA FIJACIÓN ELÁSTICA INDIRECTA COLOCACIÓN DE LA VÍA CON RIEL 115 R.E.','PMDF-09-VI.8-612000-III-0009-02818-P-00.pdf');
A13: =A12+1 -> 8 | B13: PMDF-09-VI.8-612000-III-006-02819-P-00 | C13: PMDF-09-VI.8-612000-III-0010-02819-P-00 | D13: Colocación de la vía con riel 115 R.E. vía elástica con sillas y fijaciones indirectas. Pequeño material para fijación. | E13: =+UPPER(D13) -> COLOCACIÓN DE LA VÍA CON RIEL 115 R.E. VÍA ELÁSTICA CON SILLAS Y FIJACIONES INDIRECTAS. PEQUEÑO MATERIAL PARA FIJACIÓN. | F13: =+CONCATENATE("INSERT INTO ferreo (id, plano, descripcion, archivo) VALUES(",A13,", '",B13,"', '",E13,"','",C13,".pdf');") -> INSERT INTO ferreo (id, plano, descripcion, archivo) VALUES(8, 'PMDF-09-VI.8-612000-III-006-02819-P-00', 'COLOCACIÓN DE LA VÍA CON RIEL 115 R.E. VÍA ELÁSTICA CON SILLAS Y FIJACIONES INDIRECTAS. PEQUEÑO MATERIAL PARA FIJACIÓN.','PMDF-09-VI.8-612000-III-0010-02819-P-00.pdf');
A14: =A13+1 -> 9 | B14: PMDF-09-VI.8-612000-III-006-02820-P-00 | C14: PMDF-09-VI.8-612000-III-0011-02820-P-00 | D14: Implantación de la vía con rieles 115 R.E. fijación de contra-riel 33C1. | E14: =+UPPER(D14) -> IMPLANTACIÓN DE LA VÍA CON RIELES 115 R.E. FIJACIÓN DE CONTRA-RIEL 33C1. | F14: =+CONCATENATE("INSERT INTO ferreo (id, plano, descripcion, archivo) VALUES(",A14,", '",B14,"', '",E14,"','",C14,".pdf');") -> INSERT INTO ferreo (id, plano, descripcion, archivo) VALUES(9, 'PMDF-09-VI.8-612000-III-006-02820-P-00', 'IMPLANTACIÓN DE LA VÍA CON RIELES 115 R.E. FIJACIÓN DE CONTRA-RIEL 33C1.','PMDF-09-VI.8-612000-III-0011-02820-P-00.pdf');
A15: =A14+1 -> 10 | B15: PMDF-09-VI.8-612000-III-006-02821-P-00 | C15: PMDF-09-VI.8-612000-III-0012-02821-P-00 | D15: Implantación de la vía con rieles 115 R.E. contra-riel 33C1. Detalles de los elementos para su fijación. | E15: =+UPPER(D15) -> IMPLANTACIÓN DE LA VÍA CON RIELES 115 R.E. CONTRA-RIEL 33C1. DETALLES DE LOS ELEMENTOS PARA SU FIJACIÓN. | F15: =+CONCATENATE("INSERT INTO ferreo (id, plano, descripcion, archivo) VALUES(",A15,", '",B15,"', '",E15,"','",C15,".pdf');") -> INSERT INTO ferreo (id, plano, descripcion, archivo) VALUES(10, 'PMDF-09-VI.8-612000-III-006-02821-P-00', 'IMPLANTACIÓN DE LA VÍA CON RIELES 115 R.E. CONTRA-RIEL 33C1. DETALLES DE LOS ELEMENTOS PARA SU FIJACIÓN.','PMDF-09-VI.8-612000-III-0012-02821-P-00.pdf');
A16: =A15+1 -> 11 | B16: PMDF-09-VI.8-612000-III-006-02822-P-00 | C16: PMDF-09-VI.8-612000-III-0013-02822-P-00 | D16: Junta aislante para vía con riel 115 R.E. corte del armado y detalle del pequeño material. | E16: =+UPPER(D16) -> JUNTA AISLANTE PARA VÍA CON RIEL 115 R.E. CORTE DEL ARMADO Y DETALLE DEL PEQUEÑO MATERIAL. | F16: =+CONCATENATE("INSERT INTO ferreo (id, plano, descripcion, archivo) VALUES(",A16,", '",B16,"', '",E16,"','",C16,".pdf');") -> INSERT INTO ferreo (id, plano, descripcion, archivo) VALUES(11, 'PMDF-09-VI.8-612000-III-006-02822-P-00', 'JUNTA AISLANTE PARA VÍA CON RIEL 115 R.E. CORTE DEL ARMADO Y DETALLE DEL PEQUEÑO MATERIAL.','PMDF-09-VI.8-612000-III-0013-02822-P-00.pdf');
A17: =A16+1 -> 12 | B17: PMDF-09-VI.8-612000-III-006-02824-P-00 | C17: PMDF-09-VI.8-612000-III-0015-02824-P-00 | D17: Junta mecánica para vía con rieles 115 R.E. corte del armado y detalles del pequeño material. | E17: =+UPPER(D17) -> JUNTA MECÁNICA PARA VÍA CON RIELES 115 R.E. CORTE DEL ARMADO Y DETALLES DEL PEQUEÑO MATERIAL. | F17: =+CONCATENATE("INSERT INTO ferreo (id, plano, descripcion, archivo) VALUES(",A17,", '",B17,"', '",E17,"','",C17,".pdf');") -> INSERT INTO ferreo (id, plano, descripcion, archivo) VALUES(12, 'PMDF-09-VI.8-612000-III-006-02824-P-00', 'JUNTA MECÁNICA PARA VÍA CON RIELES 115 R.E. CORTE DEL ARMADO Y DETALLES DEL PEQUEÑO MATERIAL.','PMDF-09-VI.8-612000-III-0015-02824-P-00.pdf');
A18: =A17+1 -> 13 | B18: PMDF-09-VI.8-612000-III-006-02825-P-00 | C18: PMDF-09-VI.8-612000-III-0016-02825-P-00 | D18: Almohadilla de caucho acanalada tipo "longitudinal" a utilizar en durmientes de concreto para riel 115 R.E. grapa nabla (s), grapa nabla S1 (s S1) y grapa nabla (s) (recortada). | E18: =+UPPER(D18) -> ALMOHADILLA DE CAUCHO ACANALADA TIPO "LONGITUDINAL" A UTILIZAR EN DURMIENTES DE CONCRETO PARA RIEL 115 R.E. GRAPA NABLA (S), GRAPA NABLA S1 (S S1) Y GRAPA NABLA (S) (RECORTADA). | F18: =+CONCATENATE("INSERT INTO ferreo (id, plano, descripcion, archivo) VALUES(",A18,", '",B18,"', '",E18,"','",C18,".pdf');") -> INSERT INTO ferreo (id, plano, descripcion, archivo) VALUES(13, 'PMDF-09-VI.8-612000-III-006-02825-P-00', 'ALMOHADILLA DE CAUCHO ACANALADA TIPO "LONGITUDINAL" A UTILIZAR EN DURMIENTES DE CONCRETO PARA RIEL 115 R.E. GRAPA NABLA (S), GRAPA NABLA S1 (S S1) Y GRAPA NABLA (S) (RECORTADA).','PMDF-09-VI.8-612000-III-0016-02825-P-00.pdf');
B19: PMDF-09-VI.8-612000-III-006-02827-P-00 | C19: PMDF-09-VI.8-612000-III-0018-02827-P-00 | D19: Corte y perfil de rueda metálica monobloque de ø 860. | E19: =+UPPER(D19) -> CORTE Y PERFIL DE RUEDA METÁLICA MONOBLOQUE DE Ø 860.
A20: =+A18+1 -> 14 | B20: PMDF-09-VI.8-612000-III-006-02828-P-00 | C20: PMDF-09-VI.8-612000-III-0019-02828-P-00 | D20: Distribución de durmientes (zona de aparatos de dilatación) riel 115 R.E. | E20: =+UPPER(D20) -> DISTRIBUCIÓN DE DURMIENTES (ZONA DE APARATOS DE DILATACIÓN) RIEL 115 R.E. | F20: =+CONCATENATE("INSERT INTO ferreo (id, plano, descripcion, archivo) VALUES(",A20,", '",B20,"', '",E20,"','",C20,".pdf');") -> INSERT INTO ferreo (id, plano, descripcion, archivo) VALUES(14, 'PMDF-09-VI.8-612000-III-006-02828-P-00', 'DISTRIBUCIÓN DE DURMIENTES (ZONA DE APARATOS DE DILATACIÓN) RIEL 115 R.E.','PMDF-09-VI.8-612000-III-0019-02828-P-00.pdf');
A21: =A20+1 -> 15 | B21: PMDF-09-VI.8-612000-III-006-02829-P-00 | C21: PMDF-09-VI.8-612000-III-0020-02829-P-00 | D21: Vía con riel 115 R.E. instalación sin silla en talleres maquinado de los durmientes. | E21: =+UPPER(D21) -> VÍA CON RIEL 115 R.E. INSTALACIÓN SIN SILLA EN TALLERES MAQUINADO DE LOS DURMIENTES. | F21: =+CONCATENATE("INSERT INTO ferreo (id, plano, descripcion, archivo) VALUES(",A21,", '",B21,"', '",E21,"','",C21,".pdf');") -> INSERT INTO ferreo (id, plano, descripcion, archivo) VALUES(15, 'PMDF-09-VI.8-612000-III-006-02829-P-00', 'VÍA CON RIEL 115 R.E. INSTALACIÓN SIN SILLA EN TALLERES MAQUINADO DE LOS DURMIENTES.','PMDF-09-VI.8-612000-III-0020-02829-P-00.pdf');
A22: =A21+1 -> 16 | B22: PMDF-09-VI.8612000-III-006-02830-P-00 | C22: PMDF-09-VI.8-612000-III-0021-02830-P-00 | D22: Junta mecánica planchuela tipo (AREMA) "Head Free" para vía con rieles 115 R.E. corte del armado y detalle del pequeño material. | E22: =+UPPER(D22) -> JUNTA MECÁNICA PLANCHUELA TIPO (AREMA) "HEAD FREE" PARA VÍA CON RIELES 115 R.E. CORTE DEL ARMADO Y DETALLE DEL PEQUEÑO MATERIAL. | F22: =+CONCATENATE("INSERT INTO ferreo (id, plano, descripcion, archivo) VALUES(",A22,", '",B22,"', '",E22,"','",C22,".pdf');") -> INSERT INTO ferreo (id, plano, descripcion, archivo) VALUES(16, 'PMDF-09-VI.8612000-III-006-02830-P-00', 'JUNTA MECÁNICA PLANCHUELA TIPO (AREMA) "HEAD FREE" PARA VÍA CON RIELES 115 R.E. CORTE DEL ARMADO Y DETALLE DEL PEQUEÑO MATERIAL.','PMDF-09-VI.8-612000-III-0021-02830-P-00.pdf');
A23: =A22+1 -> 17 | B23: PMDF-09-VI.8-612000-III-006-02831-P-00 | C23: PMDF-09-VI.8-612000-III-0022-02831-P-00 | D23: Montaje de junta mecánica (Planchuela Head Free) con rieles 115 R.E. | E23: =+UPPER(D23) -> MONTAJE DE JUNTA MECÁNICA (PLANCHUELA HEAD FREE) CON RIELES 115 R.E. | F23: =+CONCATENATE("INSERT INTO ferreo (id, plano, descripcion, archivo) VALUES(",A23,", '",B23,"', '",E23,"','",C23,".pdf');") -> INSERT INTO ferreo (id, plano, descripcion, archivo) VALUES(17, 'PMDF-09-VI.8-612000-III-006-02831-P-00', 'MONTAJE DE JUNTA MECÁNICA (PLANCHUELA HEAD FREE) CON RIELES 115 R.E.','PMDF-09-VI.8-612000-III-0022-02831-P-00.pdf');
A24: =A23+1 -> 18 | B24: PMDF-09-VI.8-612000-III-006-02833-P-00 | C24: PMDF-09-VI.8-612000-III-0024-02833-P-00 | D24: Vía de 1435 - con inclinación 1/20 riel 115 R.E. - aguja AM71 de izquierda Tg. 0.13 y Tg. 0.20 detalle. | E24: =+UPPER(D24) -> VÍA DE 1435 - CON INCLINACIÓN 1/20 RIEL 115 R.E. - AGUJA AM71 DE IZQUIERDA TG. 0.13 Y TG. 0.20 DETALLE. | F24: =+CONCATENATE("INSERT INTO ferreo (id, plano, descripcion, archivo) VALUES(",A24,", '",B24,"', '",E24,"','",C24,".pdf');") -> INSERT INTO ferreo (id, plano, descripcion, archivo) VALUES(18, 'PMDF-09-VI.8-612000-III-006-02833-P-00', 'VÍA DE 1435 - CON INCLINACIÓN 1/20 RIEL 115 R.E. - AGUJA AM71 DE IZQUIERDA TG. 0.13 Y TG. 0.20 DETALLE.','PMDF-09-VI.8-612000-III-0024-02833-P-00.pdf');
A25: =A24+1 -> 19 | B25: PMDF-09-VI.8-612000-III-006-02834-P-00 | C25: PMDF-09-VI.8-612000-III-0025-02834-P-00 | D25: Vía de 1435 - puesta al grado de riel 115 R.E. contra-aguja 115 R.E. de izquierda Tg. 0.13, Tg. 0.20 detalle y derecha. | E25: =+UPPER(D25) -> VÍA DE 1435 - PUESTA AL GRADO DE RIEL 115 R.E. CONTRA-AGUJA 115 R.E. DE IZQUIERDA TG. 0.13, TG. 0.20 DETALLE Y DERECHA. | F25: =+CONCATENATE("INSERT INTO ferreo (id, plano, descripcion, archivo) VALUES(",A25,", '",B25,"', '",E25,"','",C25,".pdf');") -> INSERT INTO ferreo (id, plano, descripcion, archivo) VALUES(19, 'PMDF-09-VI.8-612000-III-006-02834-P-00', 'VÍA DE 1435 - PUESTA AL GRADO DE RIEL 115 R.E. CONTRA-AGUJA 115 R.E. DE IZQUIERDA TG. 0.13, TG. 0.20 DETALLE Y DERECHA.','PMDF-09-VI.8-612000-III-0025-02834-P-00.pdf');
A26: =A25+1 -> 20 | B26: PMDF-09-VI.8-612000-III-006-02909-P-00 | C26: PMDF-09-VI.8-612000-III-0026-02909-P-00 | D26: Vía de 1435 - con inclinación 1/20 riel 115 R.E. cruzamiento Tg. 0.13 a derecha plano de conjunto y cruzamiento a derecha Tg. 0.20 ensamble. | E26: =+UPPER(D26) -> VÍA DE 1435 - CON INCLINACIÓN 1/20 RIEL 115 R.E. CRUZAMIENTO TG. 0.13 A DERECHA PLANO DE CONJUNTO Y CRUZAMIENTO A DERECHA TG. 0.20 ENSAMBLE. | F26: =+CONCATENATE("INSERT INTO ferreo (id, plano, descripcion, archivo) VALUES(",A26,", '",B26,"', '",E26,"','",C26,".pdf');") -> INSERT INTO ferreo (id, plano, descripcion, archivo) VALUES(20, 'PMDF-09-VI.8-612000-III-006-02909-P-00', 'VÍA DE 1435 - CON INCLINACIÓN 1/20 RIEL 115 R.E. CRUZAMIENTO TG. 0.13 A DERECHA PLANO DE CONJUNTO Y CRUZAMIENTO A DERECHA TG. 0.20 ENSAMBLE.','PMDF-09-VI.8-612000-III-0026-02909-P-00.pdf');
A27: =A26+1 -> 21 | B27: PMDF-09-VI.8612000-III-006-02910-P-00 | C27: PMDF-09-VI.8-612000-III-0027-02910-P-00 | D27: Vía de 1435 - con inclinación 1/20 parte central de la comunicación Tg. 0.13 entre ejes de vías 3600 plano de conjunto. | E27: =+UPPER(D27) -> VÍA DE 1435 - CON INCLINACIÓN 1/20 PARTE CENTRAL DE LA COMUNICACIÓN TG. 0.13 ENTRE EJES DE VÍAS 3600 PLANO DE CONJUNTO. | F27: =+CONCATENATE("INSERT INTO ferreo (id, plano, descripcion, archivo) VALUES(",A27,", '",B27,"', '",E27,"','",C27,".pdf');") -> INSERT INTO ferreo (id, plano, descripcion, archivo) VALUES(21, 'PMDF-09-VI.8612000-III-006-02910-P-00', 'VÍA DE 1435 - CON INCLINACIÓN 1/20 PARTE CENTRAL DE LA COMUNICACIÓN TG. 0.13 ENTRE EJES DE VÍAS 3600 PLANO DE CONJUNTO.','PMDF-09-VI.8-612000-III-0027-02910-P-00.pdf');
A28: =A27+1 -> 22 | B28: PMDF-09-VI.8-612000-III-006-02911-P-00 | C28: PMDF-09-VI.8-612000-III-0028-02911-P-00 | D28: Vía de 1435 - con inclinación 1/20 riel 115 R.E. montaje contra-riel 115 R.E. desvío Tg. 0.13 plano de conjunto. | E28: =+UPPER(D28) -> VÍA DE 1435 - CON INCLINACIÓN 1/20 RIEL 115 R.E. MONTAJE CONTRA-RIEL 115 R.E. DESVÍO TG. 0.13 PLANO DE CONJUNTO. | F28: =+CONCATENATE("INSERT INTO ferreo (id, plano, descripcion, archivo) VALUES(",A28,", '",B28,"', '",E28,"','",C28,".pdf');") -> INSERT INTO ferreo (id, plano, descripcion, archivo) VALUES(22, 'PMDF-09-VI.8-612000-III-006-02911-P-00', 'VÍA DE 1435 - CON INCLINACIÓN 1/20 RIEL 115 R.E. MONTAJE CONTRA-RIEL 115 R.E. DESVÍO TG. 0.13 PLANO DE CONJUNTO. ','PMDF-09-VI.8-612000-III-0028-02911-P-00.pdf');
A29: =A28+1 -> 23 | B29: PMDF-09-VI.8-612000-III-006-02912-P-00 | C29: PMDF-09-VI.8-612000-III-0029-02912-P-00 | D29: Vía de 1435 - con inclinación 1/20 dispoaitivo de maniobra para aguja Tg. 0.13 montaje de cerrojo V.C.C. (Verrou Carter Coussinet). | E29: =+UPPER(D29) -> VÍA DE 1435 - CON INCLINACIÓN 1/20 DISPOAITIVO DE MANIOBRA PARA AGUJA TG. 0.13 MONTAJE DE CERROJO V.C.C. (VERROU CARTER COUSSINET). | F29: =+CONCATENATE("INSERT INTO ferreo (id, plano, descripcion, archivo) VALUES(",A29,", '",B29,"', '",E29,"','",C29,".pdf');") -> INSERT INTO ferreo (id, plano, descripcion, archivo) VALUES(23, 'PMDF-09-VI.8-612000-III-006-02912-P-00', 'VÍA DE 1435 - CON INCLINACIÓN 1/20 DISPOAITIVO DE MANIOBRA PARA AGUJA TG. 0.13 MONTAJE DE CERROJO V.C.C. (VERROU CARTER COUSSINET).','PMDF-09-VI.8-612000-III-0029-02912-P-00.pdf');
A30: =A29+1 -> 24 | B30: PMDF-09-VI.8-612000-III-006-02913-P-00 | C30: PMDF-09-VI.8-612000-III-0030-02913-P-00 | D30: Vía de 1435 - con inclinación 1/20, dispositivo de maniobra para aguja Tg. 0.13, montaje de cerrojo axial. | E30: =+UPPER(D30) -> VÍA DE 1435 - CON INCLINACIÓN 1/20, DISPOSITIVO DE MANIOBRA PARA AGUJA TG. 0.13, MONTAJE DE CERROJO AXIAL. | F30: =+CONCATENATE("INSERT INTO ferreo (id, plano, descripcion, archivo) VALUES(",A30,", '",B30,"', '",E30,"','",C30,".pdf');") -> INSERT INTO ferreo (id, plano, descripcion, archivo) VALUES(24, 'PMDF-09-VI.8-612000-III-006-02913-P-00', 'VÍA DE 1435 - CON INCLINACIÓN 1/20, DISPOSITIVO DE MANIOBRA PARA AGUJA TG. 0.13, MONTAJE DE CERROJO AXIAL.','PMDF-09-VI.8-612000-III-0030-02913-P-00.pdf');
A31: =A30+1 -> 25 | B31: PMDF-09-VI.8-612000-III-006-02914-P-00 | C31: PMDF-09-VI.8-612000-III-0031-02914-P-00 | D31: Vía de 1435 - con inclinación 1/20 dispositivo de maniobra para aguja Tg. 0.20 montaje del cerrojo V.C.C. (Verrou Carter Coussinet) y montaje de varillas modelo 70 con TR44 o equivalente. | E31: =+UPPER(D31) -> VÍA DE 1435 - CON INCLINACIÓN 1/20 DISPOSITIVO DE MANIOBRA PARA AGUJA TG. 0.20 MONTAJE DEL CERROJO V.C.C. (VERROU CARTER COUSSINET) Y MONTAJE DE VARILLAS MODELO 70 CON TR44 O EQUIVALENTE. | F31: =+CONCATENATE("INSERT INTO ferreo (id, plano, descripcion, archivo) VALUES(",A31,", '",B31,"', '",E31,"','",C31,".pdf');") -> INSERT INTO ferreo (id, plano, descripcion, archivo) VALUES(25, 'PMDF-09-VI.8-612000-III-006-02914-P-00', 'VÍA DE 1435 - CON INCLINACIÓN 1/20 DISPOSITIVO DE MANIOBRA PARA AGUJA TG. 0.20 MONTAJE DEL CERROJO V.C.C. (VERROU CARTER COUSSINET) Y MONTAJE DE VARILLAS MODELO 70 CON TR44 O EQUIVALENTE.','PMDF-09-VI.8-612000-III-0031-02914-P-00.pdf');
A32: =A31+1 -> 26 | B32: PMDF-09-VI.8-612000-III-006-02915-P-00 | C32: PMDF-09-VI.8-612000-III-0032-02915-P-00 | D32: Vía de 1435 - con inclinación 1/20 desviación - zona de agujas Tg. 0.13 plano de conjunto. | E32: =+UPPER(D32) -> VÍA DE 1435 - CON INCLINACIÓN 1/20 DESVIACIÓN - ZONA DE AGUJAS TG. 0.13 PLANO DE CONJUNTO. | F32: =+CONCATENATE("INSERT INTO ferreo (id, plano, descripcion, archivo) VALUES(",A32,", '",B32,"', '",E32,"','",C32,".pdf');") -> INSERT INTO ferreo (id, plano, descripcion, archivo) VALUES(26, 'PMDF-09-VI.8-612000-III-006-02915-P-00', 'VÍA DE 1435 - CON INCLINACIÓN 1/20 DESVIACIÓN - ZONA DE AGUJAS TG. 0.13 PLANO DE CONJUNTO.','PMDF-09-VI.8-612000-III-0032-02915-P-00.pdf');
... A46: =A45+1 -> 40 | B46: PMDF-09-VI.8-612000-III-0059-02942-P-00 | C46: PMDF-09-VI.8-612000-III-0059-02942-P-00 | D46: Tope de arena colocado al final de la vía sobre balasto en la zona de depósitos. | E46: =+UPPER(D46) -> TOPE DE ARENA COLOCADO AL FINAL DE LA VÍA SOBRE BALASTO EN LA ZONA DE DEPÓSITOS. | F46: =+CONCATENATE("INSERT INTO ferreo (id, plano, descripcion, archivo) VALUES(",A46,", '",B46,"', '",E46,"','",C46,".pdf');") -> INSERT INTO ferreo (id, plano, descripcion, archivo) VALUES(40, 'PMDF-09-VI.8-612000-III-0059-02942-P-00', 'TOPE DE ARENA COLOCADO AL FINAL DE LA VÍA SOBRE BALASTO EN LA ZONA DE DEPÓSITOS.','PMDF-09-VI.8-612000-III-0059-02942-P-00.pdf');

Sheet SQL detalles
A1: 1 | B1: DURMIENTE DE CONCRETO BIBLOCK TIPO "SO" CON PERNO DE 22 MM. | C1: =+CONCATENATE("INSERT INTO detalles (id, detalles) VALUES(",A1,", '",B1,"');") -> INSERT INTO detalles (id, detalles) VALUES(1, 'DURMIENTE DE CONCRETO BIBLOCK TIPO "SO" CON PERNO DE 22 MM.');
A2: 2 | B2: DURMIENTE DE CONCRETO MONOLITICO TIPO "S" CON PERNO DE 22 MM | C2: =+CONCATENATE("INSERT INTO detalles (id, detalles) VALUES(",A2,", '",B2,"');") -> INSERT INTO detalles (id, detalles) VALUES(2, 'DURMIENTE DE CONCRETO MONOLITICO TIPO "S" CON PERNO DE 22 MM');
A3: 3 | B3: DURMIENTE DE CONCRETO MONOLITICO TIPO "SO" CON PERNO DE 22 MM | C3: =+CONCATENATE("INSERT INTO detalles (id, detalles) VALUES(",A3,", '",B3,"');") -> INSERT INTO detalles (id, detalles) VALUES(3, 'DURMIENTE DE CONCRETO MONOLITICO TIPO "SO" CON PERNO DE 22 MM');
A4: 4 | B4: COMUNICACIÓN TG. 0.13 DE 4.2 A DERECHA AJUSTE DE BARRA GUIA Y MONTAJES | C4: =+CONCATENATE("INSERT INTO detalles (id, detalles) VALUES(",A4,", '",B4,"');") -> INSERT INTO detalles (id, detalles) VALUES(4, 'COMUNICACIÓN TG. 0.13 DE 4.2 A DERECHA AJUSTE DE BARRA GUIA Y MONTAJES');
A5: 5 | B5: COMUNICACIÓN TG. 0.13 DE 4.2 A IZQUIERDA AJUSTE DE BARRA GUIA Y MONTAJES | C5: =+CONCATENATE("INSERT INTO detalles (id, detalles) VALUES(",A5,", '",B5,"');") -> INSERT INTO detalles (id, detalles) VALUES(5, 'COMUNICACIÓN TG. 0.13 DE 4.2 A IZQUIERDA AJUSTE DE BARRA GUIA Y MONTAJES');
A6: 6 | B6: COMUNICACIÓN TG. 0.13 DE 4.2 A IZQUIERDA CON DESVIO A LA DERECHA AJUSTE DE BARRA GUIA Y MONTAJES | C6: =+CONCATENATE("INSERT INTO detalles (id, detalles) VALUES(",A6,", '",B6,"');") -> INSERT INTO detalles (id, detalles) VALUES(6, 'COMUNICACIÓN TG. 0.13 DE 4.2 A IZQUIERDA CON DESVIO A LA DERECHA AJUSTE DE BARRA GUIA Y MONTAJES');
A7: 7 | B7: COMUNICACIÓN TG. 0.13 DE 4.2 A DERECHA CON DESVIO A LA IZQUIERDA AJUSTE DE BARRA GUIA Y MONTAJES | C7: =+CONCATENATE("INSERT INTO detalles (id, detalles) VALUES(",A7,", '",B7,"');") -> INSERT INTO detalles (id, detalles) VALUES(7, 'COMUNICACIÓN TG. 0.13 DE 4.2 A DERECHA CON DESVIO A LA IZQUIERDA AJUSTE DE BARRA GUIA Y MONTAJES');
A8: 8 | B8: ZONA NEUTRA DE 3 BLOCKS AISLANTES CORTE EN "Z". | C8: =+CONCATENATE("INSERT INTO detalles (id, detalles) VALUES(",A8,", '",B8,"');") -> INSERT INTO detalles (id, detalles) VALUES(8, 'ZONA NEUTRA DE 3 BLOCKS AISLANTES CORTE EN "Z".');
A9: 9 | B9: CORTE DE VIA RECTA CON TRENES EN TUNEL DURMIENTE DE CONCRETO. | C9: =+CONCATENATE("INSERT INTO detalles (id, detalles) VALUES(",A9,", '",B9,"');") -> INSERT INTO detalles (id, detalles) VALUES(9, 'CORTE DE VIA RECTA CON TRENES EN TUNEL DURMIENTE DE CONCRETO.');
A10: 10 | B10: CORTE DE VIA EN RECTA ELEVADA CON TRENES Y DURMIENTE DE CONCRETO. | C10: =+CONCATENATE("INSERT INTO detalles (id, detalles) VALUES(",A10,", '",B10,"');") -> INSERT INTO detalles (id, detalles) VALUES(10, 'CORTE DE VIA EN RECTA ELEVADA CON TRENES Y DURMIENTE DE CONCRETO.');
A11: 11 | B11: CORTE DE VIA CURVA CON TRENES EN CAJON. | C11: =+CONCATENATE("INSERT INTO detalles (id, detalles) VALUES(",A11,", '",B11,"');") -> INSERT INTO detalles (id, detalles) VALUES(11, 'CORTE DE VIA CURVA CON TRENES EN CAJON.');
A12: 12 | B12: CORTE DE VIA EN ESTACION ELEVADA DE LINEA B CON ANDEN LATERAL. | C12: =+CONCATENATE("INSERT INTO detalles (id, detalles) VALUES(",A12,", '",B12,"');") -> INSERT INTO detalles (id, detalles) VALUES(12, 'CORTE DE VIA EN ESTACION ELEVADA DE LINEA B CON ANDEN LATERAL.');
... A203: 91 | B203: COMUNICACIÓN TG. 0.13 DE 5.0 A DERECHA GEOMETRIA | C203: =+CONCATENATE("INSERT INTO detalles (id, detalles) VALUES(",A203,", '",B203,"');") -> INSERT INTO detalles (id, detalles) VALUES(91, 'COMUNICACIÓN TG. 0.13 DE 5.0 A DERECHA GEOMETRIA ');

Sheet SQL detallesf
A1: 1 | B1: JUNTA AISLANTE PEGADA RIEL 115 RE | C1: =+CONCATENATE("INSERT INTO detallesf (id, detalles) VALUES(",A1,", '",B1,"');") -> INSERT INTO detallesf (id, detalles) VALUES(1, 'JUNTA AISLANTE PEGADA RIEL 115 RE');
A2: 2 | B2: APARATO DE DILATACIÓN RIELES 115 RE | C2: =+CONCATENATE("INSERT INTO detallesf (id, detalles) VALUES(",A2,", '",B2,"');") -> INSERT INTO detallesf (id, detalles) VALUES(2, 'APARATO DE DILATACIÓN RIELES 115 RE');
A3: 3 | B3: APARATO DE DILATACIÓN RIELES 115 RE | C3: =+CONCATENATE("INSERT INTO detallesf (id, detalles) VALUES(",A3,", '",B3,"');") -> INSERT INTO detallesf (id, detalles) VALUES(3, 'APARATO DE DILATACIÓN RIELES 115 RE');
A4: 4 | B4: APARATO DE DILATACIÓN RIELES 115 RE | C4: =+CONCATENATE("INSERT INTO detallesf (id, detalles) VALUES(",A4,", '",B4,"');") -> INSERT INTO detallesf (id, detalles) VALUES(4, 'APARATO DE DILATACIÓN RIELES 115 RE');
A5: 5 | B5: IMPLANTACIÓN DE VÍA RIEL 115 RE | C5: =+CONCATENATE("INSERT INTO detallesf (id, detalles) VALUES(",A5,", '",B5,"');") -> INSERT INTO detallesf (id, detalles) VALUES(5, 'IMPLANTACIÓN DE VÍA RIEL 115 RE');
A6: 6 | B6: IMPLANTACIÓN DE VÍA RIEL 115 RE | C6: =+CONCATENATE("INSERT INTO detallesf (id, detalles) VALUES(",A6,", '",B6,"');") -> INSERT INTO detallesf (id, detalles) VALUES(6, 'IMPLANTACIÓN DE VÍA RIEL 115 RE');
A7: 7 | B7: IMPLANTACIÓN DE VÍA RIEL 115 RE | C7: =+CONCATENATE("INSERT INTO detallesf (id, detalles) VALUES(",A7,", '",B7,"');") -> INSERT INTO detallesf (id, detalles) VALUES(7, 'IMPLANTACIÓN DE VÍA RIEL 115 RE');
A8: 8 | B8: IMPLANTACIÓN DE VÍA RIEL 115 RE | C8: =+CONCATENATE("INSERT INTO detallesf (id, detalles) VALUES(",A8,", '",B8,"');") -> INSERT INTO detallesf (id, detalles) VALUES(8, 'IMPLANTACIÓN DE VÍA RIEL 115 RE');
A9: 9 | B9: IMPLANTACIÓN DE VÍA RIEL 115 RE | C9: =+CONCATENATE("INSERT INTO detallesf (id, detalles) VALUES(",A9,", '",B9,"');") -> INSERT INTO detallesf (id, detalles) VALUES(9, 'IMPLANTACIÓN DE VÍA RIEL 115 RE');
A10: 10 | B10: IMPLANTACIÓN DE VÍA RIEL 115 RE | C10: =+CONCATENATE("INSERT INTO detallesf (id, detalles) VALUES(",A10,", '",B10,"');") -> INSERT INTO detallesf (id, detalles) VALUES(10, 'IMPLANTACIÓN DE VÍA RIEL 115 RE');
A11: 11 | B11: JUNTA AISLANTE ORDINARIA RIEL 115 RE | C11: =+CONCATENATE("INSERT INTO detallesf (id, detalles) VALUES(",A11,", '",B11,"');") -> INSERT INTO detallesf (id, detalles) VALUES(11, 'JUNTA AISLANTE ORDINARIA RIEL 115 RE');
A12: 12 | B12: JUNTA MECÁNICA RIEL 115 RE | C12: =+CONCATENATE("INSERT INTO detallesf (id, detalles) VALUES(",A12,", '",B12,"');") -> INSERT INTO detallesf (id, detalles) VALUES(12, 'JUNTA MECÁNICA RIEL 115 RE');
... A40: 40 | B40: TOPE DE FIN DE VÍA | C40: =+CONCATENATE("INSERT INTO detallesf (id, detalles) VALUES(",A40,", '",B40,"');") -> INSERT INTO detallesf (id, detalles) VALUES(40, 'TOPE DE FIN DE VÍA');

Sheet SQL especificacionesref - ERRAT
A2: id | B2: et REF | C2: archivo
A3: 1 | B3: E. F. 3 | C3: EF 03 | D3: 2.3 ESPECIFICACIONES TECNICAS 2018 | E3: =+CONCATENATE("INSERT INTO especificacionesref (id, especificacion) VALUES(",A3,", '",C3,"');") -> INSERT INTO especificacionesref (id, especificacion) VALUES(1, 'EF 03');
A4: 2 | B4: E. F. 5 | C4: E.F. 5 Mod. 0 | D4: 2.1 ESPECIFICACIONES TECNICAS | E4: =+CONCATENATE("INSERT INTO especificacionesref (id, especificacion) VALUES(",A4,", '",C4,"');") -> INSERT INTO especificacionesref (id, especificacion) VALUES(2, 'E.F. 5 Mod. 0');
A5: 3 | B5: E. F. 6 | C5: E.F. 6 Mod. 0 | D5: 2.1 ESPECIFICACIONES TECNICAS | E5: =+CONCATENATE("INSERT INTO especificacionesref (id, especificacion) VALUES(",A5,", '",C5,"');") -> INSERT INTO especificacionesref (id, especificacion) VALUES(3, 'E.F. 6 Mod. 0');
A6: 4
A7: 5
A8: 6
A9: 7
A10: 8 | B10: 30A | C10: ET 30A | D10: 2.3 ESPECIFICACIONES TECNICAS 2018 | E10: =+CONCATENATE("INSERT INTO especificacionesref (id, especificacion) VALUES(",A10,", '",C10,"');") -> INSERT INTO especificacionesref (id, especificacion) VALUES(8, 'ET 30A');
A11: 8 | B11: 30C | C11: ET 30C | D11: 2.3 ESPECIFICACIONES TECNICAS 2018 | E11: =+CONCATENATE("INSERT INTO especificacionesref (id, especificacion) VALUES(",A11,", '",C11,"');") -> INSERT INTO especificacionesref (id, especificacion) VALUES(8, 'ET 30C');
A12: 9
A13: 10
A14: 11
A15: 12
A16: 13
A17: 14
